BEGIN:VCALENDAR
VERSION:2.0
CALSCALE:GREGORIAN
PRODID:adamgibbons/ics
METHOD:PUBLISH
X-WR-CALNAME:koyomi
X-PUBLISHED-TTL:PT1H
BEGIN:VEVENT
UID:QHGxnzQmaI-oIE2qB4chJ
SUMMARY:元日
DTSTAMP:20260424T033801Z
DTSTART;VALUE=DATE:20200101
CATEGORIES:祝日
DURATION:P1DT
END:VEVENT
BEGIN:VEVENT
UID:sdbvPE15G20AEfqFCuM6b
SUMMARY:小寒
DTSTAMP:20260424T033801Z
DTSTART;VALUE=DATE:20200106
CATEGORIES:節気
DURATION:P1DT
END:VEVENT
BEGIN:VEVENT
UID:PL6QZYyjP8ghcWDZALvLv
SUMMARY:一粒万倍日
DTSTAMP:20260424T033801Z
DTSTART;VALUE=DATE:20200110
CATEGORIES:選日
DURATION:P1DT
END:VEVENT
BEGIN:VEVENT
UID:QBLagoAQ3XJK7YPiDh1yQ
SUMMARY:成人の日
DTSTAMP:20260424T033801Z
DTSTART;VALUE=DATE:20200113
CATEGORIES:祝日
DURATION:P1DT
END:VEVENT
BEGIN:VEVENT
UID:jrIdCRVq-9uuMRatp6XfI
SUMMARY:一粒万倍日
DTSTAMP:20260424T033801Z
DTSTART;VALUE=DATE:20200113
CATEGORIES:選日
DURATION:P1DT
END:VEVENT
BEGIN:VEVENT
UID:NaKNDhEcTSgiupA5O8XDB
SUMMARY:大寒
DTSTAMP:20260424T033801Z
DTSTART;VALUE=DATE:20200120
CATEGORIES:節気
DURATION:P1DT
END:VEVENT
BEGIN:VEVENT
UID:0RlV7b4aSJwMBYiPSnRGv
SUMMARY:一粒万倍日
DTSTAMP:20260424T033801Z
DTSTART;VALUE=DATE:20200122
CATEGORIES:選日
DURATION:P1DT
END:VEVENT
BEGIN:VEVENT
UID:BCP7tYi_E3CIIU4EJsEIB
SUMMARY:天赦日
DTSTAMP:20260424T033801Z
DTSTART;VALUE=DATE:20200122
CATEGORIES:選日
DURATION:P1DT
END:VEVENT
BEGIN:VEVENT
UID:0rpdKn8PV8iKSPEvN_jzu
SUMMARY:一粒万倍日
DTSTAMP:20260424T033801Z
DTSTART;VALUE=DATE:20200125
CATEGORIES:選日
DURATION:P1DT
END:VEVENT
BEGIN:VEVENT
UID:HVDk7HeEQi39ubeRCgt3l
SUMMARY:一粒万倍日
DTSTAMP:20260424T033801Z
DTSTART;VALUE=DATE:20200203
CATEGORIES:選日
DURATION:P1DT
END:VEVENT
BEGIN:VEVENT
UID:rxnsr-5NKnR0kv7tb-ee6
SUMMARY:一粒万倍日
DTSTAMP:20260424T033801Z
DTSTART;VALUE=DATE:20200204
CATEGORIES:選日
DURATION:P1DT
END:VEVENT
BEGIN:VEVENT
UID:0E4DKtUIx5c3O8QfUwbYg
SUMMARY:立春
DTSTAMP:20260424T033801Z
DTSTART;VALUE=DATE:20200204
CATEGORIES:節気
DURATION:P1DT
END:VEVENT
BEGIN:VEVENT
UID:DJWlnGhp1rwYCq0EguYDC
SUMMARY:天赦日
DTSTAMP:20260424T033801Z
DTSTART;VALUE=DATE:20200205
CATEGORIES:選日
DURATION:P1DT
END:VEVENT
BEGIN:VEVENT
UID:NktqLPwTVnsmFz7_TMDql
SUMMARY:一粒万倍日
DTSTAMP:20260424T033801Z
DTSTART;VALUE=DATE:20200209
CATEGORIES:選日
DURATION:P1DT
END:VEVENT
BEGIN:VEVENT
UID:2b24_jutws24uhJ9eT1Uz
SUMMARY:建国記念の日
DTSTAMP:20260424T033801Z
DTSTART;VALUE=DATE:20200211
CATEGORIES:祝日
DURATION:P1DT
END:VEVENT
BEGIN:VEVENT
UID:f-UI3iN3DHt8O0PkdOCkl
SUMMARY:一粒万倍日
DTSTAMP:20260424T033801Z
DTSTART;VALUE=DATE:20200216
CATEGORIES:選日
DURATION:P1DT
END:VEVENT
BEGIN:VEVENT
UID:qi1CLk_c5l4CtEboqLpwY
SUMMARY:雨水
DTSTAMP:20260424T033801Z
DTSTART;VALUE=DATE:20200219
CATEGORIES:節気
DURATION:P1DT
END:VEVENT
BEGIN:VEVENT
UID:gFXN0fYVx41PVccnlFNZX
SUMMARY:一粒万倍日
DTSTAMP:20260424T033801Z
DTSTART;VALUE=DATE:20200221
CATEGORIES:選日
DURATION:P1DT
END:VEVENT
BEGIN:VEVENT
UID:_CS94Q-elIv40kbYIO16r
SUMMARY:天皇誕生日
DTSTAMP:20260424T033801Z
DTSTART;VALUE=DATE:20200223
CATEGORIES:祝日
DURATION:P1DT
END:VEVENT
BEGIN:VEVENT
UID:Yt5_3xpEuSGxrR3FLZ0RS
SUMMARY:天皇誕生日 振替休日
DTSTAMP:20260424T033801Z
DTSTART;VALUE=DATE:20200224
CATEGORIES:祝日
DURATION:P1DT
END:VEVENT
BEGIN:VEVENT
UID:JmgCJDNKHFusYLUQKG1Dn
SUMMARY:一粒万倍日
DTSTAMP:20260424T033801Z
DTSTART;VALUE=DATE:20200228
CATEGORIES:選日
DURATION:P1DT
END:VEVENT
BEGIN:VEVENT
UID:n-yxf9qe0mmvRhD0YBRho
SUMMARY:一粒万倍日
DTSTAMP:20260424T033801Z
DTSTART;VALUE=DATE:20200304
CATEGORIES:選日
DURATION:P1DT
END:VEVENT
BEGIN:VEVENT
UID:zlv3QMT20X3_6HtGGZKtQ
SUMMARY:啓蟄
DTSTAMP:20260424T033801Z
DTSTART;VALUE=DATE:20200305
CATEGORIES:節気
DURATION:P1DT
END:VEVENT
BEGIN:VEVENT
UID:tsgIJG8RA-J45yQ-vvQIr
SUMMARY:一粒万倍日
DTSTAMP:20260424T033801Z
DTSTART;VALUE=DATE:20200307
CATEGORIES:選日
DURATION:P1DT
END:VEVENT
BEGIN:VEVENT
UID:flSl-3bNHqgfWaSi3_f-2
SUMMARY:一粒万倍日
DTSTAMP:20260424T033801Z
DTSTART;VALUE=DATE:20200312
CATEGORIES:選日
DURATION:P1DT
END:VEVENT
BEGIN:VEVENT
UID:v-451CAiMFhy_nWfuZUzJ
SUMMARY:一粒万倍日
DTSTAMP:20260424T033801Z
DTSTART;VALUE=DATE:20200319
CATEGORIES:選日
DURATION:P1DT
END:VEVENT
BEGIN:VEVENT
UID:74AYyhm3x-Py34Mr-6wX8
SUMMARY:春分の日
DTSTAMP:20260424T033801Z
DTSTART;VALUE=DATE:20200320
CATEGORIES:祝日
DURATION:P1DT
END:VEVENT
BEGIN:VEVENT
UID:JsjtDU2ljj2KjbOYnGDqT
SUMMARY:春分
DTSTAMP:20260424T033801Z
DTSTART;VALUE=DATE:20200320
CATEGORIES:節気
DURATION:P1DT
END:VEVENT
BEGIN:VEVENT
UID:3k_KnTgzjQtASHQ4FSB_Y
SUMMARY:一粒万倍日
DTSTAMP:20260424T033801Z
DTSTART;VALUE=DATE:20200324
CATEGORIES:選日
DURATION:P1DT
END:VEVENT
BEGIN:VEVENT
UID:JcNgL4p-LBllZO6OMazdp
SUMMARY:一粒万倍日
DTSTAMP:20260424T033801Z
DTSTART;VALUE=DATE:20200331
CATEGORIES:選日
DURATION:P1DT
END:VEVENT
BEGIN:VEVENT
UID:dSImdjQeIAYquTudxD2cW
SUMMARY:清明
DTSTAMP:20260424T033801Z
DTSTART;VALUE=DATE:20200404
CATEGORIES:節気
DURATION:P1DT
END:VEVENT
BEGIN:VEVENT
UID:v5e8K3j_EThNU0ot2LH9t
SUMMARY:天赦日
DTSTAMP:20260424T033801Z
DTSTART;VALUE=DATE:20200405
CATEGORIES:選日
DURATION:P1DT
END:VEVENT
BEGIN:VEVENT
UID:9zKVOp2L7jX2FpI5g7Blo
SUMMARY:一粒万倍日
DTSTAMP:20260424T033801Z
DTSTART;VALUE=DATE:20200406
CATEGORIES:選日
DURATION:P1DT
END:VEVENT
BEGIN:VEVENT
UID:YNbrUuDXFBXDudeucJ1hD
SUMMARY:一粒万倍日
DTSTAMP:20260424T033801Z
DTSTART;VALUE=DATE:20200415
CATEGORIES:選日
DURATION:P1DT
END:VEVENT
BEGIN:VEVENT
UID:TlHzt6b3eivg9ZYZj2EdV
SUMMARY:一粒万倍日
DTSTAMP:20260424T033801Z
DTSTART;VALUE=DATE:20200418
CATEGORIES:選日
DURATION:P1DT
END:VEVENT
BEGIN:VEVENT
UID:XceXF3YU_vVxm2IX4j7fP
SUMMARY:穀雨
DTSTAMP:20260424T033801Z
DTSTART;VALUE=DATE:20200419
CATEGORIES:節気
DURATION:P1DT
END:VEVENT
BEGIN:VEVENT
UID:cQBqz9g6NpWlCP-nClEB6
SUMMARY:一粒万倍日
DTSTAMP:20260424T033801Z
DTSTART;VALUE=DATE:20200427
CATEGORIES:選日
DURATION:P1DT
END:VEVENT
BEGIN:VEVENT
UID:WH7YZLqxadu7Ly1wO_-pP
SUMMARY:昭和の日
DTSTAMP:20260424T033801Z
DTSTART;VALUE=DATE:20200429
CATEGORIES:祝日
DURATION:P1DT
END:VEVENT
BEGIN:VEVENT
UID:pDBB558QV8OOYp9Fshn5U
SUMMARY:一粒万倍日
DTSTAMP:20260424T033801Z
DTSTART;VALUE=DATE:20200430
CATEGORIES:選日
DURATION:P1DT
END:VEVENT
BEGIN:VEVENT
UID:yAlQCdHSGSMGv_4yB1FYA
SUMMARY:憲法記念日
DTSTAMP:20260424T033801Z
DTSTART;VALUE=DATE:20200503
CATEGORIES:祝日
DURATION:P1DT
END:VEVENT
BEGIN:VEVENT
UID:G_k1td7U4LPVSILpk5Nhv
SUMMARY:みどりの日
DTSTAMP:20260424T033801Z
DTSTART;VALUE=DATE:20200504
CATEGORIES:祝日
DURATION:P1DT
END:VEVENT
BEGIN:VEVENT
UID:u4WzlpIRvzOgezqQTpJRo
SUMMARY:こどもの日
DTSTAMP:20260424T033801Z
DTSTART;VALUE=DATE:20200505
CATEGORIES:祝日
DURATION:P1DT
END:VEVENT
BEGIN:VEVENT
UID:SyhyvbLiyFsDhaSHt-NZb
SUMMARY:立夏
DTSTAMP:20260424T033801Z
DTSTART;VALUE=DATE:20200505
CATEGORIES:節気
DURATION:P1DT
END:VEVENT
BEGIN:VEVENT
UID:kA3qvMJda1e0mmnGF-VrJ
SUMMARY:憲法記念日 振替休日
DTSTAMP:20260424T033801Z
DTSTART;VALUE=DATE:20200506
CATEGORIES:祝日
DURATION:P1DT
END:VEVENT
BEGIN:VEVENT
UID:g1QuQQWpiB8KMAN0Eg-C2
SUMMARY:一粒万倍日
DTSTAMP:20260424T033801Z
DTSTART;VALUE=DATE:20200512
CATEGORIES:選日
DURATION:P1DT
END:VEVENT
BEGIN:VEVENT
UID:nXb90Qct5TcmjfF0FQ4lE
SUMMARY:一粒万倍日
DTSTAMP:20260424T033801Z
DTSTART;VALUE=DATE:20200513
CATEGORIES:選日
DURATION:P1DT
END:VEVENT
BEGIN:VEVENT
UID:cmZeOqBzacWcQIqO3mUwg
SUMMARY:小満
DTSTAMP:20260424T033801Z
DTSTART;VALUE=DATE:20200520
CATEGORIES:節気
DURATION:P1DT
END:VEVENT
BEGIN:VEVENT
UID:Y_YkbbLw7okT6Bk-tEK9j
SUMMARY:一粒万倍日
DTSTAMP:20260424T033801Z
DTSTART;VALUE=DATE:20200524
CATEGORIES:選日
DURATION:P1DT
END:VEVENT
BEGIN:VEVENT
UID:0Tgfus0yNrW4hitHzhr1d
SUMMARY:一粒万倍日
DTSTAMP:20260424T033801Z
DTSTART;VALUE=DATE:20200525
CATEGORIES:選日
DURATION:P1DT
END:VEVENT
BEGIN:VEVENT
UID:ES0k6HsoEtlP2B9uaD42h
SUMMARY:芒種
DTSTAMP:20260424T033801Z
DTSTART;VALUE=DATE:20200605
CATEGORIES:節気
DURATION:P1DT
END:VEVENT
BEGIN:VEVENT
UID:9W3OY-XVVJGH-2d5lRIUk
SUMMARY:一粒万倍日
DTSTAMP:20260424T033801Z
DTSTART;VALUE=DATE:20200607
CATEGORIES:選日
DURATION:P1DT
END:VEVENT
BEGIN:VEVENT
UID:koDQxQkQSZn7_hXlJS99Z
SUMMARY:一粒万倍日
DTSTAMP:20260424T033801Z
DTSTART;VALUE=DATE:20200608
CATEGORIES:選日
DURATION:P1DT
END:VEVENT
BEGIN:VEVENT
UID:JUqC5vsxpt0HoCX1RRRzw
SUMMARY:一粒万倍日
DTSTAMP:20260424T033801Z
DTSTART;VALUE=DATE:20200619
CATEGORIES:選日
DURATION:P1DT
END:VEVENT
BEGIN:VEVENT
UID:5DLYY7nbtpbW9lwKKkRM0
SUMMARY:一粒万倍日
DTSTAMP:20260424T033801Z
DTSTART;VALUE=DATE:20200620
CATEGORIES:選日
DURATION:P1DT
END:VEVENT
BEGIN:VEVENT
UID:EKSPFoZVWWJKrGuuS-9DL
SUMMARY:天赦日
DTSTAMP:20260424T033801Z
DTSTART;VALUE=DATE:20200620
CATEGORIES:選日
DURATION:P1DT
END:VEVENT
BEGIN:VEVENT
UID:zGRuf0zUlf73vq0tJscOi
SUMMARY:夏至
DTSTAMP:20260424T033801Z
DTSTART;VALUE=DATE:20200621
CATEGORIES:節気
DURATION:P1DT
END:VEVENT
BEGIN:VEVENT
UID:uazarJ8_j34R3Vf5gFfD0
SUMMARY:一粒万倍日
DTSTAMP:20260424T033801Z
DTSTART;VALUE=DATE:20200701
CATEGORIES:選日
DURATION:P1DT
END:VEVENT
BEGIN:VEVENT
UID:O-Oc726tMWo7goSIBGtAw
SUMMARY:一粒万倍日
DTSTAMP:20260424T033801Z
DTSTART;VALUE=DATE:20200702
CATEGORIES:選日
DURATION:P1DT
END:VEVENT
BEGIN:VEVENT
UID:5XmqGk1LbhvqQwVOtacP5
SUMMARY:小暑
DTSTAMP:20260424T033801Z
DTSTART;VALUE=DATE:20200706
CATEGORIES:節気
DURATION:P1DT
END:VEVENT
BEGIN:VEVENT
UID:xS4FtDhG1JCXjhnKr3leK
SUMMARY:一粒万倍日
DTSTAMP:20260424T033801Z
DTSTART;VALUE=DATE:20200714
CATEGORIES:選日
DURATION:P1DT
END:VEVENT
BEGIN:VEVENT
UID:DFY44L5-2rtcbYVtImuKi
SUMMARY:一粒万倍日
DTSTAMP:20260424T033801Z
DTSTART;VALUE=DATE:20200717
CATEGORIES:選日
DURATION:P1DT
END:VEVENT
BEGIN:VEVENT
UID:-CXxiQQiY2bhey-50qqAl
SUMMARY:大暑
DTSTAMP:20260424T033801Z
DTSTART;VALUE=DATE:20200722
CATEGORIES:節気
DURATION:P1DT
END:VEVENT
BEGIN:VEVENT
UID:ci9c9qx6fRKchKwAW35oD
SUMMARY:海の日
DTSTAMP:20260424T033801Z
DTSTART;VALUE=DATE:20200723
CATEGORIES:祝日
DURATION:P1DT
END:VEVENT
BEGIN:VEVENT
UID:QJzZDZUoI7mABpZW903fe
SUMMARY:スポーツの日
DTSTAMP:20260424T033801Z
DTSTART;VALUE=DATE:20200724
CATEGORIES:祝日
DURATION:P1DT
END:VEVENT
BEGIN:VEVENT
UID:IQD8O5WgE36cpvBrRXskr
SUMMARY:一粒万倍日
DTSTAMP:20260424T033801Z
DTSTART;VALUE=DATE:20200726
CATEGORIES:選日
DURATION:P1DT
END:VEVENT
BEGIN:VEVENT
UID:0c5L82bjNauvvtfaIVAtP
SUMMARY:一粒万倍日
DTSTAMP:20260424T033801Z
DTSTART;VALUE=DATE:20200729
CATEGORIES:選日
DURATION:P1DT
END:VEVENT
BEGIN:VEVENT
UID:eIhgzB7pWxn4twP1c3HkR
SUMMARY:立秋
DTSTAMP:20260424T033801Z
DTSTART;VALUE=DATE:20200807
CATEGORIES:節気
DURATION:P1DT
END:VEVENT
BEGIN:VEVENT
UID:rf2FOilNzX2VNebrn-cf6
SUMMARY:一粒万倍日
DTSTAMP:20260424T033801Z
DTSTART;VALUE=DATE:20200808
CATEGORIES:選日
DURATION:P1DT
END:VEVENT
BEGIN:VEVENT
UID:T04gaCbcLzf4ahx7iuquh
SUMMARY:山の日
DTSTAMP:20260424T033801Z
DTSTART;VALUE=DATE:20200810
CATEGORIES:祝日
DURATION:P1DT
END:VEVENT
BEGIN:VEVENT
UID:XCg9zYfHxEAl3TEku29bW
SUMMARY:一粒万倍日
DTSTAMP:20260424T033801Z
DTSTART;VALUE=DATE:20200813
CATEGORIES:選日
DURATION:P1DT
END:VEVENT
BEGIN:VEVENT
UID:ZFt04-eyjEqED3hwB4qSX
SUMMARY:一粒万倍日
DTSTAMP:20260424T033801Z
DTSTART;VALUE=DATE:20200820
CATEGORIES:選日
DURATION:P1DT
END:VEVENT
BEGIN:VEVENT
UID:qDYbvUC2r4zw4yZM6spmN
SUMMARY:処暑
DTSTAMP:20260424T033801Z
DTSTART;VALUE=DATE:20200822
CATEGORIES:節気
DURATION:P1DT
END:VEVENT
BEGIN:VEVENT
UID:tcNG4U1eCcpqEeRKxsZdk
SUMMARY:一粒万倍日
DTSTAMP:20260424T033801Z
DTSTART;VALUE=DATE:20200825
CATEGORIES:選日
DURATION:P1DT
END:VEVENT
BEGIN:VEVENT
UID:TNLAUH5kbFMdaOOm-X5JQ
SUMMARY:一粒万倍日
DTSTAMP:20260424T033801Z
DTSTART;VALUE=DATE:20200901
CATEGORIES:選日
DURATION:P1DT
END:VEVENT
BEGIN:VEVENT
UID:4gAZcFs4nrxWpUqK4lkr0
SUMMARY:天赦日
DTSTAMP:20260424T033801Z
DTSTART;VALUE=DATE:20200902
CATEGORIES:選日
DURATION:P1DT
END:VEVENT
BEGIN:VEVENT
UID:YOygW0fq4aOLczuaySbUp
SUMMARY:一粒万倍日
DTSTAMP:20260424T033801Z
DTSTART;VALUE=DATE:20200906
CATEGORIES:選日
DURATION:P1DT
END:VEVENT
BEGIN:VEVENT
UID:EgnYuNKVtbFWEuN07UzPZ
SUMMARY:白露
DTSTAMP:20260424T033801Z
DTSTART;VALUE=DATE:20200907
CATEGORIES:節気
DURATION:P1DT
END:VEVENT
BEGIN:VEVENT
UID:YzJB8EfCnDHqB1DW8umIn
SUMMARY:一粒万倍日
DTSTAMP:20260424T033801Z
DTSTART;VALUE=DATE:20200909
CATEGORIES:選日
DURATION:P1DT
END:VEVENT
BEGIN:VEVENT
UID:Cyt9OlWoqwbwtVhjraRvl
SUMMARY:一粒万倍日
DTSTAMP:20260424T033801Z
DTSTART;VALUE=DATE:20200914
CATEGORIES:選日
DURATION:P1DT
END:VEVENT
BEGIN:VEVENT
UID:PJAq6QJO7TPdOqZ4_TBcr
SUMMARY:敬老の日
DTSTAMP:20260424T033801Z
DTSTART;VALUE=DATE:20200921
CATEGORIES:祝日
DURATION:P1DT
END:VEVENT
BEGIN:VEVENT
UID:LV1I8jNhf-n-RrgXJ2Zhj
SUMMARY:一粒万倍日
DTSTAMP:20260424T033801Z
DTSTART;VALUE=DATE:20200921
CATEGORIES:選日
DURATION:P1DT
END:VEVENT
BEGIN:VEVENT
UID:aUmSJNklAGuXF16-0lCQN
SUMMARY:秋分の日
DTSTAMP:20260424T033801Z
DTSTART;VALUE=DATE:20200922
CATEGORIES:祝日
DURATION:P1DT
END:VEVENT
BEGIN:VEVENT
UID:kENDjc9ZegX8rfAbW8BgD
SUMMARY:秋分
DTSTAMP:20260424T033801Z
DTSTART;VALUE=DATE:20200922
CATEGORIES:節気
DURATION:P1DT
END:VEVENT
BEGIN:VEVENT
UID:a9B2XGR6MYgg3yKJ_VA7E
SUMMARY:一粒万倍日
DTSTAMP:20260424T033801Z
DTSTART;VALUE=DATE:20200926
CATEGORIES:選日
DURATION:P1DT
END:VEVENT
BEGIN:VEVENT
UID:tiRuEnrlaU8z2cCseCkTB
SUMMARY:一粒万倍日
DTSTAMP:20260424T033801Z
DTSTART;VALUE=DATE:20201003
CATEGORIES:選日
DURATION:P1DT
END:VEVENT
BEGIN:VEVENT
UID:IC_-AnhdXJFlAGkAQ1pUV
SUMMARY:寒露
DTSTAMP:20260424T033801Z
DTSTART;VALUE=DATE:20201008
CATEGORIES:節気
DURATION:P1DT
END:VEVENT
BEGIN:VEVENT
UID:AVuGiqUMHOHB1Q9pxhnvt
SUMMARY:一粒万倍日
DTSTAMP:20260424T033801Z
DTSTART;VALUE=DATE:20201009
CATEGORIES:選日
DURATION:P1DT
END:VEVENT
BEGIN:VEVENT
UID:jUq3wc5cZC5U_Caqn57s1
SUMMARY:一粒万倍日
DTSTAMP:20260424T033801Z
DTSTART;VALUE=DATE:20201018
CATEGORIES:選日
DURATION:P1DT
END:VEVENT
BEGIN:VEVENT
UID:WF4aleu1CvQt9RAswrbCM
SUMMARY:一粒万倍日
DTSTAMP:20260424T033801Z
DTSTART;VALUE=DATE:20201021
CATEGORIES:選日
DURATION:P1DT
END:VEVENT
BEGIN:VEVENT
UID:E2Epev2T_otIjBtEgeb4x
SUMMARY:霜降
DTSTAMP:20260424T033801Z
DTSTART;VALUE=DATE:20201023
CATEGORIES:節気
DURATION:P1DT
END:VEVENT
BEGIN:VEVENT
UID:xnKC_LSi0gWioOJU79uo8
SUMMARY:一粒万倍日
DTSTAMP:20260424T033801Z
DTSTART;VALUE=DATE:20201030
CATEGORIES:選日
DURATION:P1DT
END:VEVENT
BEGIN:VEVENT
UID:_9mmCFP0iN5Mx5R7WVXBa
SUMMARY:天赦日
DTSTAMP:20260424T033801Z
DTSTART;VALUE=DATE:20201101
CATEGORIES:選日
DURATION:P1DT
END:VEVENT
BEGIN:VEVENT
UID:1odwLLPKeyffKwSgIn2uj
SUMMARY:一粒万倍日
DTSTAMP:20260424T033801Z
DTSTART;VALUE=DATE:20201102
CATEGORIES:選日
DURATION:P1DT
END:VEVENT
BEGIN:VEVENT
UID:mfoHwT3j5Iykq7WZEjfpJ
SUMMARY:文化の日
DTSTAMP:20260424T033801Z
DTSTART;VALUE=DATE:20201103
CATEGORIES:祝日
DURATION:P1DT
END:VEVENT
BEGIN:VEVENT
UID:Wr38sPSnPHQ-dZyLX4ANW
SUMMARY:立冬
DTSTAMP:20260424T033801Z
DTSTART;VALUE=DATE:20201107
CATEGORIES:節気
DURATION:P1DT
END:VEVENT
BEGIN:VEVENT
UID:qQEVcQmn4bfRfQX5etrSK
SUMMARY:一粒万倍日
DTSTAMP:20260424T033801Z
DTSTART;VALUE=DATE:20201114
CATEGORIES:選日
DURATION:P1DT
END:VEVENT
BEGIN:VEVENT
UID:ERKJpSVVqWbsSjl-DQhkO
SUMMARY:一粒万倍日
DTSTAMP:20260424T033801Z
DTSTART;VALUE=DATE:20201115
CATEGORIES:選日
DURATION:P1DT
END:VEVENT
BEGIN:VEVENT
UID:47hjeA026xK0hT4RH-p3X
SUMMARY:天赦日
DTSTAMP:20260424T033801Z
DTSTART;VALUE=DATE:20201117
CATEGORIES:選日
DURATION:P1DT
END:VEVENT
BEGIN:VEVENT
UID:KuYhSEj__WXcMINwZJj6S
SUMMARY:小雪
DTSTAMP:20260424T033801Z
DTSTART;VALUE=DATE:20201122
CATEGORIES:節気
DURATION:P1DT
END:VEVENT
BEGIN:VEVENT
UID:5P_RJ9kF_GvtxigFBU4ju
SUMMARY:勤労感謝の日
DTSTAMP:20260424T033801Z
DTSTART;VALUE=DATE:20201123
CATEGORIES:祝日
DURATION:P1DT
END:VEVENT
BEGIN:VEVENT
UID:3JYLEvAadCInP3If-__iN
SUMMARY:一粒万倍日
DTSTAMP:20260424T033801Z
DTSTART;VALUE=DATE:20201126
CATEGORIES:選日
DURATION:P1DT
END:VEVENT
BEGIN:VEVENT
UID:8ve7ANxP4_LdReKu6L28M
SUMMARY:一粒万倍日
DTSTAMP:20260424T033801Z
DTSTART;VALUE=DATE:20201127
CATEGORIES:選日
DURATION:P1DT
END:VEVENT
BEGIN:VEVENT
UID:YtroRZyL2_HA7bsOhr37M
SUMMARY:大雪
DTSTAMP:20260424T033801Z
DTSTART;VALUE=DATE:20201207
CATEGORIES:節気
DURATION:P1DT
END:VEVENT
BEGIN:VEVENT
UID:s6xOqcwIQao1NAHt6mMSK
SUMMARY:一粒万倍日
DTSTAMP:20260424T033801Z
DTSTART;VALUE=DATE:20201210
CATEGORIES:選日
DURATION:P1DT
END:VEVENT
BEGIN:VEVENT
UID:mcBa7Pr2z07Ie4iltzKHp
SUMMARY:一粒万倍日
DTSTAMP:20260424T033801Z
DTSTART;VALUE=DATE:20201211
CATEGORIES:選日
DURATION:P1DT
END:VEVENT
BEGIN:VEVENT
UID:imh-NB-Gtvn5Ll7TZig5h
SUMMARY:冬至
DTSTAMP:20260424T033801Z
DTSTART;VALUE=DATE:20201221
CATEGORIES:節気
DURATION:P1DT
END:VEVENT
BEGIN:VEVENT
UID:7xKf6qArOGr3JCAV9-UQb
SUMMARY:一粒万倍日
DTSTAMP:20260424T033801Z
DTSTART;VALUE=DATE:20201222
CATEGORIES:選日
DURATION:P1DT
END:VEVENT
BEGIN:VEVENT
UID:lQYw4iPeh2f9_iV3KjRn3
SUMMARY:一粒万倍日
DTSTAMP:20260424T033801Z
DTSTART;VALUE=DATE:20201223
CATEGORIES:選日
DURATION:P1DT
END:VEVENT
END:VCALENDAR
