BEGIN:VCALENDAR
VERSION:2.0
CALSCALE:GREGORIAN
PRODID:adamgibbons/ics
METHOD:PUBLISH
X-WR-CALNAME:koyomi
X-PUBLISHED-TTL:PT1H
BEGIN:VEVENT
UID:Z3sMax7jA81DGv_HI11kW
SUMMARY:元日
DTSTAMP:20260424T020430Z
DTSTART;VALUE=DATE:20210101
CATEGORIES:祝日
DURATION:P1DT
END:VEVENT
BEGIN:VEVENT
UID:bR8cuT0WI2sOrBD5nB76h
SUMMARY:一粒万倍日
DTSTAMP:20260424T020430Z
DTSTART;VALUE=DATE:20210103
CATEGORIES:選日
DURATION:P1DT
END:VEVENT
BEGIN:VEVENT
UID:UXOQxoR4ZnJzBZgpPVSaH
SUMMARY:一粒万倍日
DTSTAMP:20260424T020430Z
DTSTART;VALUE=DATE:20210104
CATEGORIES:選日
DURATION:P1DT
END:VEVENT
BEGIN:VEVENT
UID:A5KfvvF_pErQcHEDPn7Yt
SUMMARY:小寒
DTSTAMP:20260424T020430Z
DTSTART;VALUE=DATE:20210105
CATEGORIES:節気
DURATION:P1DT
END:VEVENT
BEGIN:VEVENT
UID:q_6aIn2LQIbvDxrqN288g
SUMMARY:一粒万倍日
DTSTAMP:20260424T020430Z
DTSTART;VALUE=DATE:20210107
CATEGORIES:選日
DURATION:P1DT
END:VEVENT
BEGIN:VEVENT
UID:8R9lOFHRSIiZyE4j-iiO3
SUMMARY:成人の日
DTSTAMP:20260424T020430Z
DTSTART;VALUE=DATE:20210111
CATEGORIES:祝日
DURATION:P1DT
END:VEVENT
BEGIN:VEVENT
UID:TNvkT788KtgRRkezuUHEo
SUMMARY:一粒万倍日
DTSTAMP:20260424T020430Z
DTSTART;VALUE=DATE:20210116
CATEGORIES:選日
DURATION:P1DT
END:VEVENT
BEGIN:VEVENT
UID:-z4b5ze1UrCw1Dcoj53ml
SUMMARY:天赦日
DTSTAMP:20260424T020430Z
DTSTART;VALUE=DATE:20210116
CATEGORIES:選日
DURATION:P1DT
END:VEVENT
BEGIN:VEVENT
UID:vT7K9KLedNYU8uBu7t1zu
SUMMARY:一粒万倍日
DTSTAMP:20260424T020430Z
DTSTART;VALUE=DATE:20210119
CATEGORIES:選日
DURATION:P1DT
END:VEVENT
BEGIN:VEVENT
UID:gubXHUyxWYFpVBoZW1sKl
SUMMARY:大寒
DTSTAMP:20260424T020430Z
DTSTART;VALUE=DATE:20210120
CATEGORIES:節気
DURATION:P1DT
END:VEVENT
BEGIN:VEVENT
UID:WmgdPw2gPn5Hf56WFbl98
SUMMARY:一粒万倍日
DTSTAMP:20260424T020430Z
DTSTART;VALUE=DATE:20210128
CATEGORIES:選日
DURATION:P1DT
END:VEVENT
BEGIN:VEVENT
UID:8EoaoYwy48BHkmC80CFcB
SUMMARY:一粒万倍日
DTSTAMP:20260424T020430Z
DTSTART;VALUE=DATE:20210131
CATEGORIES:選日
DURATION:P1DT
END:VEVENT
BEGIN:VEVENT
UID:N7OLoYuZQs3XQaukA4KKH
SUMMARY:一粒万倍日
DTSTAMP:20260424T020430Z
DTSTART;VALUE=DATE:20210203
CATEGORIES:選日
DURATION:P1DT
END:VEVENT
BEGIN:VEVENT
UID:OgF2FXdVY-Ukfh9qqFxes
SUMMARY:立春
DTSTAMP:20260424T020430Z
DTSTART;VALUE=DATE:20210203
CATEGORIES:節気
DURATION:P1DT
END:VEVENT
BEGIN:VEVENT
UID:KDCVfTpPgJh1Bhi-fCTK5
SUMMARY:一粒万倍日
DTSTAMP:20260424T020430Z
DTSTART;VALUE=DATE:20210210
CATEGORIES:選日
DURATION:P1DT
END:VEVENT
BEGIN:VEVENT
UID:jpbzQ6QVRjSNh_ecdU3Fd
SUMMARY:建国記念の日
DTSTAMP:20260424T020430Z
DTSTART;VALUE=DATE:20210211
CATEGORIES:祝日
DURATION:P1DT
END:VEVENT
BEGIN:VEVENT
UID:HTzLKOmIbviFVEy2ukxfn
SUMMARY:一粒万倍日
DTSTAMP:20260424T020430Z
DTSTART;VALUE=DATE:20210215
CATEGORIES:選日
DURATION:P1DT
END:VEVENT
BEGIN:VEVENT
UID:-0d7SPMBcsKcFYqkYv6-1
SUMMARY:雨水
DTSTAMP:20260424T020430Z
DTSTART;VALUE=DATE:20210218
CATEGORIES:節気
DURATION:P1DT
END:VEVENT
BEGIN:VEVENT
UID:eSj9dyfBG5qcF2gmvTJYK
SUMMARY:一粒万倍日
DTSTAMP:20260424T020430Z
DTSTART;VALUE=DATE:20210222
CATEGORIES:選日
DURATION:P1DT
END:VEVENT
BEGIN:VEVENT
UID:8eyHeFxwVD1Am1apP4Cwg
SUMMARY:天皇誕生日
DTSTAMP:20260424T020430Z
DTSTART;VALUE=DATE:20210223
CATEGORIES:祝日
DURATION:P1DT
END:VEVENT
BEGIN:VEVENT
UID:vRhas3N5afftl7N_ELg4V
SUMMARY:一粒万倍日
DTSTAMP:20260424T020430Z
DTSTART;VALUE=DATE:20210227
CATEGORIES:選日
DURATION:P1DT
END:VEVENT
BEGIN:VEVENT
UID:imbb0qoH4G8d1-XAQT-1w
SUMMARY:啓蟄
DTSTAMP:20260424T020430Z
DTSTART;VALUE=DATE:20210305
CATEGORIES:節気
DURATION:P1DT
END:VEVENT
BEGIN:VEVENT
UID:j0g-e3o4Ql1e7iEv_JR9Y
SUMMARY:一粒万倍日
DTSTAMP:20260424T020430Z
DTSTART;VALUE=DATE:20210307
CATEGORIES:選日
DURATION:P1DT
END:VEVENT
BEGIN:VEVENT
UID:sdExy7qwsoDac-MbuB5Eh
SUMMARY:一粒万倍日
DTSTAMP:20260424T020430Z
DTSTART;VALUE=DATE:20210314
CATEGORIES:選日
DURATION:P1DT
END:VEVENT
BEGIN:VEVENT
UID:W3XLkNRyjLzFZOkCwfBjC
SUMMARY:一粒万倍日
DTSTAMP:20260424T020430Z
DTSTART;VALUE=DATE:20210319
CATEGORIES:選日
DURATION:P1DT
END:VEVENT
BEGIN:VEVENT
UID:cD7IwfnlonjD1qERvGlnw
SUMMARY:春分の日
DTSTAMP:20260424T020430Z
DTSTART;VALUE=DATE:20210320
CATEGORIES:祝日
DURATION:P1DT
END:VEVENT
BEGIN:VEVENT
UID:hm6Tbc_ye0SHN4YAh8hp9
SUMMARY:春分
DTSTAMP:20260424T020430Z
DTSTART;VALUE=DATE:20210320
CATEGORIES:節気
DURATION:P1DT
END:VEVENT
BEGIN:VEVENT
UID:I17icEHxR1LAZ62LqWPcc
SUMMARY:一粒万倍日
DTSTAMP:20260424T020430Z
DTSTART;VALUE=DATE:20210326
CATEGORIES:選日
DURATION:P1DT
END:VEVENT
BEGIN:VEVENT
UID:U7xGYYXqmar9C2YIXDnUQ
SUMMARY:一粒万倍日
DTSTAMP:20260424T020430Z
DTSTART;VALUE=DATE:20210331
CATEGORIES:選日
DURATION:P1DT
END:VEVENT
BEGIN:VEVENT
UID:iIfIYrTaPics3lwu6W-lZ
SUMMARY:天赦日
DTSTAMP:20260424T020430Z
DTSTART;VALUE=DATE:20210331
CATEGORIES:選日
DURATION:P1DT
END:VEVENT
BEGIN:VEVENT
UID:Ipd5onQX40-aV0jyn3Oc0
SUMMARY:清明
DTSTAMP:20260424T020430Z
DTSTART;VALUE=DATE:20210404
CATEGORIES:節気
DURATION:P1DT
END:VEVENT
BEGIN:VEVENT
UID:fmIqcWPG_IbIHUaOPLyAl
SUMMARY:一粒万倍日
DTSTAMP:20260424T020430Z
DTSTART;VALUE=DATE:20210410
CATEGORIES:選日
DURATION:P1DT
END:VEVENT
BEGIN:VEVENT
UID:NAW0eQrJCCZXJYnnLUPHM
SUMMARY:一粒万倍日
DTSTAMP:20260424T020430Z
DTSTART;VALUE=DATE:20210413
CATEGORIES:選日
DURATION:P1DT
END:VEVENT
BEGIN:VEVENT
UID:Na0Hr0vqek6KhxZrkny2T
SUMMARY:穀雨
DTSTAMP:20260424T020430Z
DTSTART;VALUE=DATE:20210420
CATEGORIES:節気
DURATION:P1DT
END:VEVENT
BEGIN:VEVENT
UID:mokj12yx0E68kEVuM0387
SUMMARY:一粒万倍日
DTSTAMP:20260424T020430Z
DTSTART;VALUE=DATE:20210422
CATEGORIES:選日
DURATION:P1DT
END:VEVENT
BEGIN:VEVENT
UID:HAKy6HqWtfgC4f9yeccGH
SUMMARY:一粒万倍日
DTSTAMP:20260424T020430Z
DTSTART;VALUE=DATE:20210425
CATEGORIES:選日
DURATION:P1DT
END:VEVENT
BEGIN:VEVENT
UID:eUTjzANqacdBXna097K9s
SUMMARY:昭和の日
DTSTAMP:20260424T020430Z
DTSTART;VALUE=DATE:20210429
CATEGORIES:祝日
DURATION:P1DT
END:VEVENT
BEGIN:VEVENT
UID:3jFRdH8gZMpeW7dfXSKeS
SUMMARY:憲法記念日
DTSTAMP:20260424T020430Z
DTSTART;VALUE=DATE:20210503
CATEGORIES:祝日
DURATION:P1DT
END:VEVENT
BEGIN:VEVENT
UID:djqAT0XyZTjnNcD0kDXWS
SUMMARY:みどりの日
DTSTAMP:20260424T020430Z
DTSTART;VALUE=DATE:20210504
CATEGORIES:祝日
DURATION:P1DT
END:VEVENT
BEGIN:VEVENT
UID:42M42pJYgwMYJ5OlreLpL
SUMMARY:一粒万倍日
DTSTAMP:20260424T020430Z
DTSTART;VALUE=DATE:20210504
CATEGORIES:選日
DURATION:P1DT
END:VEVENT
BEGIN:VEVENT
UID:lQ5aS751iAJxwaPizcCea
SUMMARY:こどもの日
DTSTAMP:20260424T020430Z
DTSTART;VALUE=DATE:20210505
CATEGORIES:祝日
DURATION:P1DT
END:VEVENT
BEGIN:VEVENT
UID:TwsS9t6gEcgr14u0t6xXb
SUMMARY:立夏
DTSTAMP:20260424T020430Z
DTSTART;VALUE=DATE:20210505
CATEGORIES:節気
DURATION:P1DT
END:VEVENT
BEGIN:VEVENT
UID:xZp8gW7WIcX_6VeHhBybG
SUMMARY:一粒万倍日
DTSTAMP:20260424T020430Z
DTSTART;VALUE=DATE:20210507
CATEGORIES:選日
DURATION:P1DT
END:VEVENT
BEGIN:VEVENT
UID:_kCjzvK5OWi5sph_1--JG
SUMMARY:一粒万倍日
DTSTAMP:20260424T020430Z
DTSTART;VALUE=DATE:20210508
CATEGORIES:選日
DURATION:P1DT
END:VEVENT
BEGIN:VEVENT
UID:hDK60NCMiosMpkqYOlvE0
SUMMARY:一粒万倍日
DTSTAMP:20260424T020430Z
DTSTART;VALUE=DATE:20210519
CATEGORIES:選日
DURATION:P1DT
END:VEVENT
BEGIN:VEVENT
UID:Eh6zAtuwgK6sjMn1RtIS0
SUMMARY:一粒万倍日
DTSTAMP:20260424T020430Z
DTSTART;VALUE=DATE:20210520
CATEGORIES:選日
DURATION:P1DT
END:VEVENT
BEGIN:VEVENT
UID:65hl03sehzaiMfQigJ8XF
SUMMARY:小満
DTSTAMP:20260424T020430Z
DTSTART;VALUE=DATE:20210521
CATEGORIES:節気
DURATION:P1DT
END:VEVENT
BEGIN:VEVENT
UID:U8xYASll6gw9s3_JtoA7Y
SUMMARY:一粒万倍日
DTSTAMP:20260424T020430Z
DTSTART;VALUE=DATE:20210531
CATEGORIES:選日
DURATION:P1DT
END:VEVENT
BEGIN:VEVENT
UID:IpOiwxG3pNLbtIBSRHpFA
SUMMARY:一粒万倍日
DTSTAMP:20260424T020430Z
DTSTART;VALUE=DATE:20210601
CATEGORIES:選日
DURATION:P1DT
END:VEVENT
BEGIN:VEVENT
UID:naLSP6wGzjKq5ICzeW9VL
SUMMARY:芒種
DTSTAMP:20260424T020430Z
DTSTART;VALUE=DATE:20210605
CATEGORIES:節気
DURATION:P1DT
END:VEVENT
BEGIN:VEVENT
UID:UQUrOpM1XLQU33Oz8zNHY
SUMMARY:一粒万倍日
DTSTAMP:20260424T020430Z
DTSTART;VALUE=DATE:20210614
CATEGORIES:選日
DURATION:P1DT
END:VEVENT
BEGIN:VEVENT
UID:7vLwb0qFMdK24EtPHReGH
SUMMARY:一粒万倍日
DTSTAMP:20260424T020430Z
DTSTART;VALUE=DATE:20210615
CATEGORIES:選日
DURATION:P1DT
END:VEVENT
BEGIN:VEVENT
UID:HqlqZv1zK9uAelh7Tp19e
SUMMARY:天赦日
DTSTAMP:20260424T020430Z
DTSTART;VALUE=DATE:20210615
CATEGORIES:選日
DURATION:P1DT
END:VEVENT
BEGIN:VEVENT
UID:lGbB5elE3hg-wc0SLX1xn
SUMMARY:夏至
DTSTAMP:20260424T020430Z
DTSTART;VALUE=DATE:20210621
CATEGORIES:節気
DURATION:P1DT
END:VEVENT
BEGIN:VEVENT
UID:E22FMyUYOcAnDO2Z8_kGd
SUMMARY:一粒万倍日
DTSTAMP:20260424T020430Z
DTSTART;VALUE=DATE:20210626
CATEGORIES:選日
DURATION:P1DT
END:VEVENT
BEGIN:VEVENT
UID:lGp-jEq9gui3Fxbe91lqU
SUMMARY:一粒万倍日
DTSTAMP:20260424T020430Z
DTSTART;VALUE=DATE:20210627
CATEGORIES:選日
DURATION:P1DT
END:VEVENT
BEGIN:VEVENT
UID:1njbwUU7evd61lMOgYWbD
SUMMARY:小暑
DTSTAMP:20260424T020430Z
DTSTART;VALUE=DATE:20210707
CATEGORIES:節気
DURATION:P1DT
END:VEVENT
BEGIN:VEVENT
UID:BSIOmncP3VolK4OoD3nkg
SUMMARY:一粒万倍日
DTSTAMP:20260424T020430Z
DTSTART;VALUE=DATE:20210709
CATEGORIES:選日
DURATION:P1DT
END:VEVENT
BEGIN:VEVENT
UID:0gyrgJfgdLPT5SHa-8eZW
SUMMARY:一粒万倍日
DTSTAMP:20260424T020430Z
DTSTART;VALUE=DATE:20210712
CATEGORIES:選日
DURATION:P1DT
END:VEVENT
BEGIN:VEVENT
UID:q3IChnqJ5w9PTI35Dr2hQ
SUMMARY:一粒万倍日
DTSTAMP:20260424T020430Z
DTSTART;VALUE=DATE:20210721
CATEGORIES:選日
DURATION:P1DT
END:VEVENT
BEGIN:VEVENT
UID:Rb8ozyyWACwSztj0c9Aok
SUMMARY:海の日
DTSTAMP:20260424T020430Z
DTSTART;VALUE=DATE:20210722
CATEGORIES:祝日
DURATION:P1DT
END:VEVENT
BEGIN:VEVENT
UID:pvxnrezFU3ED93_3gdinr
SUMMARY:大暑
DTSTAMP:20260424T020430Z
DTSTART;VALUE=DATE:20210722
CATEGORIES:節気
DURATION:P1DT
END:VEVENT
BEGIN:VEVENT
UID:5c598VAF4nEh-1QrfZlS8
SUMMARY:スポーツの日
DTSTAMP:20260424T020430Z
DTSTART;VALUE=DATE:20210723
CATEGORIES:祝日
DURATION:P1DT
END:VEVENT
BEGIN:VEVENT
UID:LMYpTdZfSzirotr9CsyLL
SUMMARY:一粒万倍日
DTSTAMP:20260424T020430Z
DTSTART;VALUE=DATE:20210724
CATEGORIES:選日
DURATION:P1DT
END:VEVENT
BEGIN:VEVENT
UID:0ysnBGocakmYGTETziaMN
SUMMARY:一粒万倍日
DTSTAMP:20260424T020430Z
DTSTART;VALUE=DATE:20210802
CATEGORIES:選日
DURATION:P1DT
END:VEVENT
BEGIN:VEVENT
UID:Z0guq6GxBDXkxfA6lLw6L
SUMMARY:一粒万倍日
DTSTAMP:20260424T020430Z
DTSTART;VALUE=DATE:20210805
CATEGORIES:選日
DURATION:P1DT
END:VEVENT
BEGIN:VEVENT
UID:r9LKAga-K0JGnnkPyJ2fP
SUMMARY:立秋
DTSTAMP:20260424T020430Z
DTSTART;VALUE=DATE:20210807
CATEGORIES:節気
DURATION:P1DT
END:VEVENT
BEGIN:VEVENT
UID:HrWuvrYnmggkfRQ5BhMyc
SUMMARY:山の日
DTSTAMP:20260424T020430Z
DTSTART;VALUE=DATE:20210808
CATEGORIES:祝日
DURATION:P1DT
END:VEVENT
BEGIN:VEVENT
UID:YTEnD1JoXTBNLoRZL7U5w
SUMMARY:一粒万倍日
DTSTAMP:20260424T020430Z
DTSTART;VALUE=DATE:20210808
CATEGORIES:選日
DURATION:P1DT
END:VEVENT
BEGIN:VEVENT
UID:gCiLBduy0kg4SKwa0SWUq
SUMMARY:山の日 振替休日
DTSTAMP:20260424T020430Z
DTSTART;VALUE=DATE:20210809
CATEGORIES:祝日
DURATION:P1DT
END:VEVENT
BEGIN:VEVENT
UID:kin60CrjHNLxKmqMghRrw
SUMMARY:一粒万倍日
DTSTAMP:20260424T020430Z
DTSTART;VALUE=DATE:20210815
CATEGORIES:選日
DURATION:P1DT
END:VEVENT
BEGIN:VEVENT
UID:gsyi1YlcMbGWqpVKPmwOb
SUMMARY:一粒万倍日
DTSTAMP:20260424T020430Z
DTSTART;VALUE=DATE:20210820
CATEGORIES:選日
DURATION:P1DT
END:VEVENT
BEGIN:VEVENT
UID:ow7Qlpzgi7iqY5Oz_y9iN
SUMMARY:処暑
DTSTAMP:20260424T020430Z
DTSTART;VALUE=DATE:20210823
CATEGORIES:節気
DURATION:P1DT
END:VEVENT
BEGIN:VEVENT
UID:Rtqq3W_-x6cnHDrf5Ybqi
SUMMARY:一粒万倍日
DTSTAMP:20260424T020430Z
DTSTART;VALUE=DATE:20210827
CATEGORIES:選日
DURATION:P1DT
END:VEVENT
BEGIN:VEVENT
UID:NmZGtpG6ndz4yNIaohrox
SUMMARY:天赦日
DTSTAMP:20260424T020430Z
DTSTART;VALUE=DATE:20210828
CATEGORIES:選日
DURATION:P1DT
END:VEVENT
BEGIN:VEVENT
UID:60eUEyY-kidIU94VaTKgn
SUMMARY:一粒万倍日
DTSTAMP:20260424T020430Z
DTSTART;VALUE=DATE:20210901
CATEGORIES:選日
DURATION:P1DT
END:VEVENT
BEGIN:VEVENT
UID:Q6__mvH98Ogm0qvOCfOFL
SUMMARY:白露
DTSTAMP:20260424T020430Z
DTSTART;VALUE=DATE:20210907
CATEGORIES:節気
DURATION:P1DT
END:VEVENT
BEGIN:VEVENT
UID:SLt6-LiYFXOpbrxJ3YiwD
SUMMARY:一粒万倍日
DTSTAMP:20260424T020430Z
DTSTART;VALUE=DATE:20210909
CATEGORIES:選日
DURATION:P1DT
END:VEVENT
BEGIN:VEVENT
UID:fdzOD1kvDIsH-Qfz1fJFN
SUMMARY:一粒万倍日
DTSTAMP:20260424T020430Z
DTSTART;VALUE=DATE:20210916
CATEGORIES:選日
DURATION:P1DT
END:VEVENT
BEGIN:VEVENT
UID:fIm6MCMGz9Gnmyem53X9d
SUMMARY:敬老の日
DTSTAMP:20260424T020430Z
DTSTART;VALUE=DATE:20210920
CATEGORIES:祝日
DURATION:P1DT
END:VEVENT
BEGIN:VEVENT
UID:EfMXs2TrTJagMPUBdz3KL
SUMMARY:一粒万倍日
DTSTAMP:20260424T020430Z
DTSTART;VALUE=DATE:20210921
CATEGORIES:選日
DURATION:P1DT
END:VEVENT
BEGIN:VEVENT
UID:91E9c5WbEd43oSqcgprO1
SUMMARY:秋分の日
DTSTAMP:20260424T020430Z
DTSTART;VALUE=DATE:20210923
CATEGORIES:祝日
DURATION:P1DT
END:VEVENT
BEGIN:VEVENT
UID:P0rj211YXuKAkgmP1xT4A
SUMMARY:秋分
DTSTAMP:20260424T020430Z
DTSTART;VALUE=DATE:20210923
CATEGORIES:節気
DURATION:P1DT
END:VEVENT
BEGIN:VEVENT
UID:1pGS_UyDWY-LlinMup41a
SUMMARY:一粒万倍日
DTSTAMP:20260424T020430Z
DTSTART;VALUE=DATE:20210928
CATEGORIES:選日
DURATION:P1DT
END:VEVENT
BEGIN:VEVENT
UID:TBO01F9zK5GzbSlmlBNNm
SUMMARY:一粒万倍日
DTSTAMP:20260424T020430Z
DTSTART;VALUE=DATE:20211003
CATEGORIES:選日
DURATION:P1DT
END:VEVENT
BEGIN:VEVENT
UID:KAAacDL4KUhuU_6PE69fo
SUMMARY:寒露
DTSTAMP:20260424T020430Z
DTSTART;VALUE=DATE:20211008
CATEGORIES:節気
DURATION:P1DT
END:VEVENT
BEGIN:VEVENT
UID:PhNFCUjx4x9meoe4-tc3E
SUMMARY:一粒万倍日
DTSTAMP:20260424T020430Z
DTSTART;VALUE=DATE:20211013
CATEGORIES:選日
DURATION:P1DT
END:VEVENT
BEGIN:VEVENT
UID:efptNTT4XdkSYtMpb57i6
SUMMARY:一粒万倍日
DTSTAMP:20260424T020430Z
DTSTART;VALUE=DATE:20211016
CATEGORIES:選日
DURATION:P1DT
END:VEVENT
BEGIN:VEVENT
UID:0Xzu3P9LJ6rYcIe573N2g
SUMMARY:霜降
DTSTAMP:20260424T020430Z
DTSTART;VALUE=DATE:20211023
CATEGORIES:節気
DURATION:P1DT
END:VEVENT
BEGIN:VEVENT
UID:zgNWI3sswCuEny-xtW1ED
SUMMARY:一粒万倍日
DTSTAMP:20260424T020430Z
DTSTART;VALUE=DATE:20211025
CATEGORIES:選日
DURATION:P1DT
END:VEVENT
BEGIN:VEVENT
UID:7MrNzH772OuLoTxmsPerG
SUMMARY:天赦日
DTSTAMP:20260424T020430Z
DTSTART;VALUE=DATE:20211027
CATEGORIES:選日
DURATION:P1DT
END:VEVENT
BEGIN:VEVENT
UID:dZQJgjS1IVZSfpj9UlQBK
SUMMARY:一粒万倍日
DTSTAMP:20260424T020430Z
DTSTART;VALUE=DATE:20211028
CATEGORIES:選日
DURATION:P1DT
END:VEVENT
BEGIN:VEVENT
UID:iXp-TF4saJi1QrRpl1Um7
SUMMARY:文化の日
DTSTAMP:20260424T020430Z
DTSTART;VALUE=DATE:20211103
CATEGORIES:祝日
DURATION:P1DT
END:VEVENT
BEGIN:VEVENT
UID:em4_Dz_ZwgSnwC9NeTcJh
SUMMARY:一粒万倍日
DTSTAMP:20260424T020430Z
DTSTART;VALUE=DATE:20211106
CATEGORIES:選日
DURATION:P1DT
END:VEVENT
BEGIN:VEVENT
UID:jEQgjmi_nPM3G5PNWpmkJ
SUMMARY:立冬
DTSTAMP:20260424T020430Z
DTSTART;VALUE=DATE:20211107
CATEGORIES:節気
DURATION:P1DT
END:VEVENT
BEGIN:VEVENT
UID:wx36vg57OcV4EZjxoM742
SUMMARY:一粒万倍日
DTSTAMP:20260424T020430Z
DTSTART;VALUE=DATE:20211109
CATEGORIES:選日
DURATION:P1DT
END:VEVENT
BEGIN:VEVENT
UID:I2tUS15_XqZVdctfBtAsG
SUMMARY:一粒万倍日
DTSTAMP:20260424T020430Z
DTSTART;VALUE=DATE:20211110
CATEGORIES:選日
DURATION:P1DT
END:VEVENT
BEGIN:VEVENT
UID:4P1ZMM4KM99GmcLQ8h76J
SUMMARY:天赦日
DTSTAMP:20260424T020430Z
DTSTART;VALUE=DATE:20211112
CATEGORIES:選日
DURATION:P1DT
END:VEVENT
BEGIN:VEVENT
UID:cjDnz9PTk7UhTFzv40uBs
SUMMARY:一粒万倍日
DTSTAMP:20260424T020430Z
DTSTART;VALUE=DATE:20211121
CATEGORIES:選日
DURATION:P1DT
END:VEVENT
BEGIN:VEVENT
UID:lqASmuMpUPsWZsHZIYiG0
SUMMARY:一粒万倍日
DTSTAMP:20260424T020430Z
DTSTART;VALUE=DATE:20211122
CATEGORIES:選日
DURATION:P1DT
END:VEVENT
BEGIN:VEVENT
UID:aOKM5iX7P196L2II4kMoY
SUMMARY:小雪
DTSTAMP:20260424T020430Z
DTSTART;VALUE=DATE:20211122
CATEGORIES:節気
DURATION:P1DT
END:VEVENT
BEGIN:VEVENT
UID:7-_a5gpkuOGWBAs1JfuzJ
SUMMARY:勤労感謝の日
DTSTAMP:20260424T020430Z
DTSTART;VALUE=DATE:20211123
CATEGORIES:祝日
DURATION:P1DT
END:VEVENT
BEGIN:VEVENT
UID:AjTGWQbwfD91SPnssVTZw
SUMMARY:一粒万倍日
DTSTAMP:20260424T020430Z
DTSTART;VALUE=DATE:20211203
CATEGORIES:選日
DURATION:P1DT
END:VEVENT
BEGIN:VEVENT
UID:OULIHBETrgqyPPkFsiI70
SUMMARY:一粒万倍日
DTSTAMP:20260424T020430Z
DTSTART;VALUE=DATE:20211204
CATEGORIES:選日
DURATION:P1DT
END:VEVENT
BEGIN:VEVENT
UID:aDxLNjjS-Yp92Ea337ih_
SUMMARY:大雪
DTSTAMP:20260424T020430Z
DTSTART;VALUE=DATE:20211207
CATEGORIES:節気
DURATION:P1DT
END:VEVENT
BEGIN:VEVENT
UID:8k9n5FcClOMf2QgfZnUCX
SUMMARY:一粒万倍日
DTSTAMP:20260424T020430Z
DTSTART;VALUE=DATE:20211217
CATEGORIES:選日
DURATION:P1DT
END:VEVENT
BEGIN:VEVENT
UID:DxnDKzApe1R6tr6tec3LL
SUMMARY:一粒万倍日
DTSTAMP:20260424T020430Z
DTSTART;VALUE=DATE:20211218
CATEGORIES:選日
DURATION:P1DT
END:VEVENT
BEGIN:VEVENT
UID:uvzZzTNk26AGmdJV9Z8Mn
SUMMARY:冬至
DTSTAMP:20260424T020430Z
DTSTART;VALUE=DATE:20211221
CATEGORIES:節気
DURATION:P1DT
END:VEVENT
BEGIN:VEVENT
UID:xkzO6Wo_welkvIvHm3x-7
SUMMARY:一粒万倍日
DTSTAMP:20260424T020430Z
DTSTART;VALUE=DATE:20211229
CATEGORIES:選日
DURATION:P1DT
END:VEVENT
BEGIN:VEVENT
UID:X1NfvCh5b-9AUVIzVv0ZS
SUMMARY:一粒万倍日
DTSTAMP:20260424T020430Z
DTSTART;VALUE=DATE:20211230
CATEGORIES:選日
DURATION:P1DT
END:VEVENT
END:VCALENDAR
