BEGIN:VCALENDAR
VERSION:2.0
CALSCALE:GREGORIAN
PRODID:adamgibbons/ics
METHOD:PUBLISH
X-WR-CALNAME:koyomi
X-PUBLISHED-TTL:PT1H
BEGIN:VEVENT
UID:l7Qe3mAEnJUEBnmYMAd9F
SUMMARY:元日
DTSTAMP:20260424T003852Z
DTSTART;VALUE=DATE:20220101
CATEGORIES:祝日
DURATION:P1DT
END:VEVENT
BEGIN:VEVENT
UID:s6gKEJqnbnvVlTjVt1sio
SUMMARY:小寒
DTSTAMP:20260424T003852Z
DTSTART;VALUE=DATE:20220105
CATEGORIES:節気
DURATION:P1DT
END:VEVENT
BEGIN:VEVENT
UID:T8jzLrdyf-xxW0FglG6v6
SUMMARY:成人の日
DTSTAMP:20260424T003852Z
DTSTART;VALUE=DATE:20220110
CATEGORIES:祝日
DURATION:P1DT
END:VEVENT
BEGIN:VEVENT
UID:05-NKTHbCSu4sso26HgPS
SUMMARY:一粒万倍日
DTSTAMP:20260424T003852Z
DTSTART;VALUE=DATE:20220111
CATEGORIES:選日
DURATION:P1DT
END:VEVENT
BEGIN:VEVENT
UID:fCHtzvkEoCKv-p2pP5VEa
SUMMARY:天赦日
DTSTAMP:20260424T003852Z
DTSTART;VALUE=DATE:20220111
CATEGORIES:選日
DURATION:P1DT
END:VEVENT
BEGIN:VEVENT
UID:XQnUUu_9mmj56h5rOmmpc
SUMMARY:一粒万倍日
DTSTAMP:20260424T003852Z
DTSTART;VALUE=DATE:20220114
CATEGORIES:選日
DURATION:P1DT
END:VEVENT
BEGIN:VEVENT
UID:nLcZg7k7jgk_7DsNdhhWO
SUMMARY:大寒
DTSTAMP:20260424T003852Z
DTSTART;VALUE=DATE:20220120
CATEGORIES:節気
DURATION:P1DT
END:VEVENT
BEGIN:VEVENT
UID:icIO7sO7s2gDYncbw14n7
SUMMARY:一粒万倍日
DTSTAMP:20260424T003852Z
DTSTART;VALUE=DATE:20220123
CATEGORIES:選日
DURATION:P1DT
END:VEVENT
BEGIN:VEVENT
UID:tMLE2dZ6fqsmV1pBd5HdR
SUMMARY:一粒万倍日
DTSTAMP:20260424T003852Z
DTSTART;VALUE=DATE:20220126
CATEGORIES:選日
DURATION:P1DT
END:VEVENT
BEGIN:VEVENT
UID:Utbcfc7fO8QxlbRQ4KhTv
SUMMARY:立春
DTSTAMP:20260424T003852Z
DTSTART;VALUE=DATE:20220204
CATEGORIES:節気
DURATION:P1DT
END:VEVENT
BEGIN:VEVENT
UID:FdoUXFBwvLuH0HIwHxCIJ
SUMMARY:一粒万倍日
DTSTAMP:20260424T003852Z
DTSTART;VALUE=DATE:20220205
CATEGORIES:選日
DURATION:P1DT
END:VEVENT
BEGIN:VEVENT
UID:yWsOaEOIEU077GP4e0SZa
SUMMARY:一粒万倍日
DTSTAMP:20260424T003852Z
DTSTART;VALUE=DATE:20220210
CATEGORIES:選日
DURATION:P1DT
END:VEVENT
BEGIN:VEVENT
UID:MUrYzaEaul_Bam2vl13Ks
SUMMARY:建国記念の日
DTSTAMP:20260424T003852Z
DTSTART;VALUE=DATE:20220211
CATEGORIES:祝日
DURATION:P1DT
END:VEVENT
BEGIN:VEVENT
UID:OMrFP5SnTppnFvaQNDmbG
SUMMARY:一粒万倍日
DTSTAMP:20260424T003852Z
DTSTART;VALUE=DATE:20220217
CATEGORIES:選日
DURATION:P1DT
END:VEVENT
BEGIN:VEVENT
UID:rdppjamGH0raW4iDG9cBT
SUMMARY:雨水
DTSTAMP:20260424T003852Z
DTSTART;VALUE=DATE:20220219
CATEGORIES:節気
DURATION:P1DT
END:VEVENT
BEGIN:VEVENT
UID:xUWNKPl3UYOZ12BynsQGH
SUMMARY:一粒万倍日
DTSTAMP:20260424T003852Z
DTSTART;VALUE=DATE:20220222
CATEGORIES:選日
DURATION:P1DT
END:VEVENT
BEGIN:VEVENT
UID:pfpjRIwnxwIRYg00KbVJS
SUMMARY:天皇誕生日
DTSTAMP:20260424T003852Z
DTSTART;VALUE=DATE:20220223
CATEGORIES:祝日
DURATION:P1DT
END:VEVENT
BEGIN:VEVENT
UID:CdJ-P4eJ53HGH9_QS8j_w
SUMMARY:一粒万倍日
DTSTAMP:20260424T003852Z
DTSTART;VALUE=DATE:20220301
CATEGORIES:選日
DURATION:P1DT
END:VEVENT
BEGIN:VEVENT
UID:_lux4CFHXvCXMu277Lbal
SUMMARY:啓蟄
DTSTAMP:20260424T003852Z
DTSTART;VALUE=DATE:20220305
CATEGORIES:節気
DURATION:P1DT
END:VEVENT
BEGIN:VEVENT
UID:8hDsAcN53a5qvn-emi6yX
SUMMARY:一粒万倍日
DTSTAMP:20260424T003852Z
DTSTART;VALUE=DATE:20220309
CATEGORIES:選日
DURATION:P1DT
END:VEVENT
BEGIN:VEVENT
UID:1tWd-5U3tx7AWcdUh569v
SUMMARY:一粒万倍日
DTSTAMP:20260424T003852Z
DTSTART;VALUE=DATE:20220314
CATEGORIES:選日
DURATION:P1DT
END:VEVENT
BEGIN:VEVENT
UID:zOntyFvai441TIP_4RO0w
SUMMARY:春分
DTSTAMP:20260424T003852Z
DTSTART;VALUE=DATE:20220320
CATEGORIES:節気
DURATION:P1DT
END:VEVENT
BEGIN:VEVENT
UID:c_SJ7NVKgLtOlbdAt2MG0
SUMMARY:春分の日
DTSTAMP:20260424T003852Z
DTSTART;VALUE=DATE:20220321
CATEGORIES:祝日
DURATION:P1DT
END:VEVENT
BEGIN:VEVENT
UID:8ytAuq8OEFU4xGGgDV5pw
SUMMARY:一粒万倍日
DTSTAMP:20260424T003852Z
DTSTART;VALUE=DATE:20220321
CATEGORIES:選日
DURATION:P1DT
END:VEVENT
BEGIN:VEVENT
UID:rvJ6eLfR4CpPLVIjlwvOd
SUMMARY:一粒万倍日
DTSTAMP:20260424T003852Z
DTSTART;VALUE=DATE:20220326
CATEGORIES:選日
DURATION:P1DT
END:VEVENT
BEGIN:VEVENT
UID:kPZGFqlN2tv9wAT7ACspN
SUMMARY:天赦日
DTSTAMP:20260424T003852Z
DTSTART;VALUE=DATE:20220326
CATEGORIES:選日
DURATION:P1DT
END:VEVENT
BEGIN:VEVENT
UID:3BImIGhQM3iGQQsxTm0ha
SUMMARY:一粒万倍日
DTSTAMP:20260424T003852Z
DTSTART;VALUE=DATE:20220402
CATEGORIES:選日
DURATION:P1DT
END:VEVENT
BEGIN:VEVENT
UID:RbHAvE3HLcFoWZ9HXPSx3
SUMMARY:一粒万倍日
DTSTAMP:20260424T003852Z
DTSTART;VALUE=DATE:20220405
CATEGORIES:選日
DURATION:P1DT
END:VEVENT
BEGIN:VEVENT
UID:Wi4qJ-2_E4d_yDDvD9z2R
SUMMARY:清明
DTSTAMP:20260424T003852Z
DTSTART;VALUE=DATE:20220405
CATEGORIES:節気
DURATION:P1DT
END:VEVENT
BEGIN:VEVENT
UID:Gj4jvpKO4C2gMBRvr41MH
SUMMARY:一粒万倍日
DTSTAMP:20260424T003852Z
DTSTART;VALUE=DATE:20220408
CATEGORIES:選日
DURATION:P1DT
END:VEVENT
BEGIN:VEVENT
UID:aw_v0IR8kIjBRsv_WWWYo
SUMMARY:一粒万倍日
DTSTAMP:20260424T003852Z
DTSTART;VALUE=DATE:20220417
CATEGORIES:選日
DURATION:P1DT
END:VEVENT
BEGIN:VEVENT
UID:63HWSydwVyTiMIsoPSeQJ
SUMMARY:一粒万倍日
DTSTAMP:20260424T003852Z
DTSTART;VALUE=DATE:20220420
CATEGORIES:選日
DURATION:P1DT
END:VEVENT
BEGIN:VEVENT
UID:df7ZtHixtCvoWfAATkliv
SUMMARY:穀雨
DTSTAMP:20260424T003852Z
DTSTART;VALUE=DATE:20220420
CATEGORIES:節気
DURATION:P1DT
END:VEVENT
BEGIN:VEVENT
UID:QxxtrNTCeIisJDSrKIpLC
SUMMARY:昭和の日
DTSTAMP:20260424T003852Z
DTSTART;VALUE=DATE:20220429
CATEGORIES:祝日
DURATION:P1DT
END:VEVENT
BEGIN:VEVENT
UID:ccvQwGDrubYdghFNPDvPz
SUMMARY:一粒万倍日
DTSTAMP:20260424T003852Z
DTSTART;VALUE=DATE:20220429
CATEGORIES:選日
DURATION:P1DT
END:VEVENT
BEGIN:VEVENT
UID:D6vp3p5oF1aX1thuzT5jj
SUMMARY:一粒万倍日
DTSTAMP:20260424T003852Z
DTSTART;VALUE=DATE:20220502
CATEGORIES:選日
DURATION:P1DT
END:VEVENT
BEGIN:VEVENT
UID:-UrqyrB7-H9OOzhuK0GQ1
SUMMARY:憲法記念日
DTSTAMP:20260424T003852Z
DTSTART;VALUE=DATE:20220503
CATEGORIES:祝日
DURATION:P1DT
END:VEVENT
BEGIN:VEVENT
UID:618FMs8ZUIJxci6i_nM2X
SUMMARY:みどりの日
DTSTAMP:20260424T003852Z
DTSTART;VALUE=DATE:20220504
CATEGORIES:祝日
DURATION:P1DT
END:VEVENT
BEGIN:VEVENT
UID:MizTvOsxB6hZBj9fEzg39
SUMMARY:こどもの日
DTSTAMP:20260424T003852Z
DTSTART;VALUE=DATE:20220505
CATEGORIES:祝日
DURATION:P1DT
END:VEVENT
BEGIN:VEVENT
UID:mGK7Pe4JW2_OcQhIvWGy9
SUMMARY:立夏
DTSTAMP:20260424T003852Z
DTSTART;VALUE=DATE:20220505
CATEGORIES:節気
DURATION:P1DT
END:VEVENT
BEGIN:VEVENT
UID:55EDpeMoHpIzYdcpNlzWx
SUMMARY:一粒万倍日
DTSTAMP:20260424T003852Z
DTSTART;VALUE=DATE:20220514
CATEGORIES:選日
DURATION:P1DT
END:VEVENT
BEGIN:VEVENT
UID:KTvaP9zUh21yutTs-cFfq
SUMMARY:一粒万倍日
DTSTAMP:20260424T003852Z
DTSTART;VALUE=DATE:20220515
CATEGORIES:選日
DURATION:P1DT
END:VEVENT
BEGIN:VEVENT
UID:kUuMVG7IT3OgN8Xy-urQl
SUMMARY:小満
DTSTAMP:20260424T003852Z
DTSTART;VALUE=DATE:20220521
CATEGORIES:節気
DURATION:P1DT
END:VEVENT
BEGIN:VEVENT
UID:rV5jB-tMY5VPJnvsPSFXY
SUMMARY:一粒万倍日
DTSTAMP:20260424T003852Z
DTSTART;VALUE=DATE:20220526
CATEGORIES:選日
DURATION:P1DT
END:VEVENT
BEGIN:VEVENT
UID:4ZNLiKeA5I_U1fPzYxkcj
SUMMARY:一粒万倍日
DTSTAMP:20260424T003852Z
DTSTART;VALUE=DATE:20220527
CATEGORIES:選日
DURATION:P1DT
END:VEVENT
BEGIN:VEVENT
UID:TVIg_fqcD9jSLJfRYaOQj
SUMMARY:芒種
DTSTAMP:20260424T003852Z
DTSTART;VALUE=DATE:20220606
CATEGORIES:節気
DURATION:P1DT
END:VEVENT
BEGIN:VEVENT
UID:d5Dx5s6syfpLen3VTJAZV
SUMMARY:一粒万倍日
DTSTAMP:20260424T003852Z
DTSTART;VALUE=DATE:20220609
CATEGORIES:選日
DURATION:P1DT
END:VEVENT
BEGIN:VEVENT
UID:Tl0T3QDVDn3jF4De17lv5
SUMMARY:一粒万倍日
DTSTAMP:20260424T003852Z
DTSTART;VALUE=DATE:20220610
CATEGORIES:選日
DURATION:P1DT
END:VEVENT
BEGIN:VEVENT
UID:0KwrtesWNdps33zMnUJJE
SUMMARY:天赦日
DTSTAMP:20260424T003852Z
DTSTART;VALUE=DATE:20220610
CATEGORIES:選日
DURATION:P1DT
END:VEVENT
BEGIN:VEVENT
UID:p-Zwp5VeibloOZCxNl87w
SUMMARY:一粒万倍日
DTSTAMP:20260424T003852Z
DTSTART;VALUE=DATE:20220621
CATEGORIES:選日
DURATION:P1DT
END:VEVENT
BEGIN:VEVENT
UID:DlXSdvUUoeGVJiC-xSWfC
SUMMARY:夏至
DTSTAMP:20260424T003852Z
DTSTART;VALUE=DATE:20220621
CATEGORIES:節気
DURATION:P1DT
END:VEVENT
BEGIN:VEVENT
UID:aLaiMdMK_KInzr8sO-tfw
SUMMARY:一粒万倍日
DTSTAMP:20260424T003852Z
DTSTART;VALUE=DATE:20220622
CATEGORIES:選日
DURATION:P1DT
END:VEVENT
BEGIN:VEVENT
UID:ThxfqMPveJoc0a5aDTe6o
SUMMARY:一粒万倍日
DTSTAMP:20260424T003852Z
DTSTART;VALUE=DATE:20220703
CATEGORIES:選日
DURATION:P1DT
END:VEVENT
BEGIN:VEVENT
UID:m1ulQSNaF0LEk8Rv1TXj7
SUMMARY:一粒万倍日
DTSTAMP:20260424T003852Z
DTSTART;VALUE=DATE:20220704
CATEGORIES:選日
DURATION:P1DT
END:VEVENT
BEGIN:VEVENT
UID:RDl6OsickGRdGCQVRNQEF
SUMMARY:一粒万倍日
DTSTAMP:20260424T003852Z
DTSTART;VALUE=DATE:20220707
CATEGORIES:選日
DURATION:P1DT
END:VEVENT
BEGIN:VEVENT
UID:2TkzG8qk3Dl4knu9i61Rs
SUMMARY:小暑
DTSTAMP:20260424T003852Z
DTSTART;VALUE=DATE:20220707
CATEGORIES:節気
DURATION:P1DT
END:VEVENT
BEGIN:VEVENT
UID:M8NY3vm1zf968S18A44_0
SUMMARY:一粒万倍日
DTSTAMP:20260424T003852Z
DTSTART;VALUE=DATE:20220716
CATEGORIES:選日
DURATION:P1DT
END:VEVENT
BEGIN:VEVENT
UID:ws28xG7vmjJ2nHpkkPhaN
SUMMARY:海の日
DTSTAMP:20260424T003852Z
DTSTART;VALUE=DATE:20220718
CATEGORIES:祝日
DURATION:P1DT
END:VEVENT
BEGIN:VEVENT
UID:DffWfqAWIxYtnNy8Uw9i5
SUMMARY:一粒万倍日
DTSTAMP:20260424T003852Z
DTSTART;VALUE=DATE:20220719
CATEGORIES:選日
DURATION:P1DT
END:VEVENT
BEGIN:VEVENT
UID:7AkuvP0Zhak0MgGn8pGTM
SUMMARY:大暑
DTSTAMP:20260424T003852Z
DTSTART;VALUE=DATE:20220723
CATEGORIES:節気
DURATION:P1DT
END:VEVENT
BEGIN:VEVENT
UID:DI0AT3cJjwXp4PWqeoGbu
SUMMARY:一粒万倍日
DTSTAMP:20260424T003852Z
DTSTART;VALUE=DATE:20220728
CATEGORIES:選日
DURATION:P1DT
END:VEVENT
BEGIN:VEVENT
UID:6F3_BN3XnHNP117JY5C_v
SUMMARY:一粒万倍日
DTSTAMP:20260424T003852Z
DTSTART;VALUE=DATE:20220731
CATEGORIES:選日
DURATION:P1DT
END:VEVENT
BEGIN:VEVENT
UID:pNakWWcljitg7J5tDM___
SUMMARY:立秋
DTSTAMP:20260424T003852Z
DTSTART;VALUE=DATE:20220807
CATEGORIES:節気
DURATION:P1DT
END:VEVENT
BEGIN:VEVENT
UID:UMsZMvKCdGCOs1B9pM4CR
SUMMARY:一粒万倍日
DTSTAMP:20260424T003852Z
DTSTART;VALUE=DATE:20220810
CATEGORIES:選日
DURATION:P1DT
END:VEVENT
BEGIN:VEVENT
UID:7fEhQ53AhQ0lq5UH7JkY7
SUMMARY:山の日
DTSTAMP:20260424T003852Z
DTSTART;VALUE=DATE:20220811
CATEGORIES:祝日
DURATION:P1DT
END:VEVENT
BEGIN:VEVENT
UID:OthG01Puie-26l5aGKFBN
SUMMARY:一粒万倍日
DTSTAMP:20260424T003852Z
DTSTART;VALUE=DATE:20220815
CATEGORIES:選日
DURATION:P1DT
END:VEVENT
BEGIN:VEVENT
UID:ke1EkuoiLGKaM9ooAmoTe
SUMMARY:一粒万倍日
DTSTAMP:20260424T003852Z
DTSTART;VALUE=DATE:20220822
CATEGORIES:選日
DURATION:P1DT
END:VEVENT
BEGIN:VEVENT
UID:nyLF342jShlAaQnhvl-lN
SUMMARY:天赦日
DTSTAMP:20260424T003852Z
DTSTART;VALUE=DATE:20220823
CATEGORIES:選日
DURATION:P1DT
END:VEVENT
BEGIN:VEVENT
UID:efAr--IfTWhQ81vSZiob4
SUMMARY:処暑
DTSTAMP:20260424T003852Z
DTSTART;VALUE=DATE:20220823
CATEGORIES:節気
DURATION:P1DT
END:VEVENT
BEGIN:VEVENT
UID:uVatdG6rF3nyz9ud_1Jxy
SUMMARY:一粒万倍日
DTSTAMP:20260424T003852Z
DTSTART;VALUE=DATE:20220827
CATEGORIES:選日
DURATION:P1DT
END:VEVENT
BEGIN:VEVENT
UID:2xjUKukGaqvCD2AlrMg33
SUMMARY:一粒万倍日
DTSTAMP:20260424T003852Z
DTSTART;VALUE=DATE:20220903
CATEGORIES:選日
DURATION:P1DT
END:VEVENT
BEGIN:VEVENT
UID:Sk-OAxCUyUHdGKv1_XE57
SUMMARY:白露
DTSTAMP:20260424T003852Z
DTSTART;VALUE=DATE:20220907
CATEGORIES:節気
DURATION:P1DT
END:VEVENT
BEGIN:VEVENT
UID:VFUMUkcj_k9BeA5nBV7GW
SUMMARY:一粒万倍日
DTSTAMP:20260424T003852Z
DTSTART;VALUE=DATE:20220911
CATEGORIES:選日
DURATION:P1DT
END:VEVENT
BEGIN:VEVENT
UID:kOl7Lz1e4vkPNc_wjeNKT
SUMMARY:一粒万倍日
DTSTAMP:20260424T003852Z
DTSTART;VALUE=DATE:20220916
CATEGORIES:選日
DURATION:P1DT
END:VEVENT
BEGIN:VEVENT
UID:KOEPGPHkEYggwiBHEFW_U
SUMMARY:敬老の日
DTSTAMP:20260424T003852Z
DTSTART;VALUE=DATE:20220919
CATEGORIES:祝日
DURATION:P1DT
END:VEVENT
BEGIN:VEVENT
UID:cBgDevEanr9l38sHFNsbG
SUMMARY:秋分の日
DTSTAMP:20260424T003852Z
DTSTART;VALUE=DATE:20220923
CATEGORIES:祝日
DURATION:P1DT
END:VEVENT
BEGIN:VEVENT
UID:wVHMepNW3jDGRzFY1zvj5
SUMMARY:一粒万倍日
DTSTAMP:20260424T003852Z
DTSTART;VALUE=DATE:20220923
CATEGORIES:選日
DURATION:P1DT
END:VEVENT
BEGIN:VEVENT
UID:o4DxazskrY71ktRCrNkF5
SUMMARY:秋分
DTSTAMP:20260424T003852Z
DTSTART;VALUE=DATE:20220923
CATEGORIES:節気
DURATION:P1DT
END:VEVENT
BEGIN:VEVENT
UID:Va6XKWDl1YW-1tzkczIJe
SUMMARY:一粒万倍日
DTSTAMP:20260424T003852Z
DTSTART;VALUE=DATE:20220928
CATEGORIES:選日
DURATION:P1DT
END:VEVENT
BEGIN:VEVENT
UID:O7EqSAq3M9IMweqoBSe6O
SUMMARY:一粒万倍日
DTSTAMP:20260424T003852Z
DTSTART;VALUE=DATE:20221005
CATEGORIES:選日
DURATION:P1DT
END:VEVENT
BEGIN:VEVENT
UID:ezaBD_wk-QALUblFRLhIh
SUMMARY:一粒万倍日
DTSTAMP:20260424T003852Z
DTSTART;VALUE=DATE:20221008
CATEGORIES:選日
DURATION:P1DT
END:VEVENT
BEGIN:VEVENT
UID:7UawEF6G4Tspa87YBBiQ4
SUMMARY:寒露
DTSTAMP:20260424T003852Z
DTSTART;VALUE=DATE:20221008
CATEGORIES:節気
DURATION:P1DT
END:VEVENT
BEGIN:VEVENT
UID:yJlADF75FzG9umP0Oer2H
SUMMARY:スポーツの日
DTSTAMP:20260424T003852Z
DTSTART;VALUE=DATE:20221010
CATEGORIES:祝日
DURATION:P1DT
END:VEVENT
BEGIN:VEVENT
UID:h31P1OGavmny0UBw4b1XH
SUMMARY:一粒万倍日
DTSTAMP:20260424T003852Z
DTSTART;VALUE=DATE:20221011
CATEGORIES:選日
DURATION:P1DT
END:VEVENT
BEGIN:VEVENT
UID:GrWOE7SfJupFlalic-iU-
SUMMARY:一粒万倍日
DTSTAMP:20260424T003852Z
DTSTART;VALUE=DATE:20221020
CATEGORIES:選日
DURATION:P1DT
END:VEVENT
BEGIN:VEVENT
UID:lOE_YdfxgHa53SuEbcV2g
SUMMARY:天赦日
DTSTAMP:20260424T003852Z
DTSTART;VALUE=DATE:20221022
CATEGORIES:選日
DURATION:P1DT
END:VEVENT
BEGIN:VEVENT
UID:ikgzMMUA-mZiOQH0V7SJc
SUMMARY:一粒万倍日
DTSTAMP:20260424T003852Z
DTSTART;VALUE=DATE:20221023
CATEGORIES:選日
DURATION:P1DT
END:VEVENT
BEGIN:VEVENT
UID:LX8iXJWcfsWXI1brMHfs2
SUMMARY:霜降
DTSTAMP:20260424T003852Z
DTSTART;VALUE=DATE:20221023
CATEGORIES:節気
DURATION:P1DT
END:VEVENT
BEGIN:VEVENT
UID:Jv_mtEfft1EQrMJFUrh5j
SUMMARY:一粒万倍日
DTSTAMP:20260424T003852Z
DTSTART;VALUE=DATE:20221101
CATEGORIES:選日
DURATION:P1DT
END:VEVENT
BEGIN:VEVENT
UID:ORFya0pXFSm2tcLA3eZHs
SUMMARY:文化の日
DTSTAMP:20260424T003852Z
DTSTART;VALUE=DATE:20221103
CATEGORIES:祝日
DURATION:P1DT
END:VEVENT
BEGIN:VEVENT
UID:GQLfAYWBiH0z_EPcom6VR
SUMMARY:一粒万倍日
DTSTAMP:20260424T003852Z
DTSTART;VALUE=DATE:20221104
CATEGORIES:選日
DURATION:P1DT
END:VEVENT
BEGIN:VEVENT
UID:bavXmbtixMazDHgZJsoux
SUMMARY:天赦日
DTSTAMP:20260424T003852Z
DTSTART;VALUE=DATE:20221107
CATEGORIES:選日
DURATION:P1DT
END:VEVENT
BEGIN:VEVENT
UID:d7J-SkEypsnlq1ZyGAQdn
SUMMARY:立冬
DTSTAMP:20260424T003852Z
DTSTART;VALUE=DATE:20221107
CATEGORIES:節気
DURATION:P1DT
END:VEVENT
BEGIN:VEVENT
UID:tGFixscTD2GmtoW-5peZv
SUMMARY:一粒万倍日
DTSTAMP:20260424T003852Z
DTSTART;VALUE=DATE:20221116
CATEGORIES:選日
DURATION:P1DT
END:VEVENT
BEGIN:VEVENT
UID:wXZJN8noTH-qCI5nA7aW2
SUMMARY:一粒万倍日
DTSTAMP:20260424T003852Z
DTSTART;VALUE=DATE:20221117
CATEGORIES:選日
DURATION:P1DT
END:VEVENT
BEGIN:VEVENT
UID:dL1Ws7to3fzkf-6eR2dL5
SUMMARY:小雪
DTSTAMP:20260424T003852Z
DTSTART;VALUE=DATE:20221122
CATEGORIES:節気
DURATION:P1DT
END:VEVENT
BEGIN:VEVENT
UID:MWR63vnXjDm0KOiBYEm2L
SUMMARY:勤労感謝の日
DTSTAMP:20260424T003852Z
DTSTART;VALUE=DATE:20221123
CATEGORIES:祝日
DURATION:P1DT
END:VEVENT
BEGIN:VEVENT
UID:_dGqeVVwfYG5oPnR18kRd
SUMMARY:一粒万倍日
DTSTAMP:20260424T003852Z
DTSTART;VALUE=DATE:20221128
CATEGORIES:選日
DURATION:P1DT
END:VEVENT
BEGIN:VEVENT
UID:V10eT-ndIKB0LHnDFyIAM
SUMMARY:一粒万倍日
DTSTAMP:20260424T003852Z
DTSTART;VALUE=DATE:20221129
CATEGORIES:選日
DURATION:P1DT
END:VEVENT
BEGIN:VEVENT
UID:g4TY9en149HqgKcw64QZf
SUMMARY:大雪
DTSTAMP:20260424T003852Z
DTSTART;VALUE=DATE:20221207
CATEGORIES:節気
DURATION:P1DT
END:VEVENT
BEGIN:VEVENT
UID:PSyYX0jNwFFRYn-0fQKXb
SUMMARY:一粒万倍日
DTSTAMP:20260424T003852Z
DTSTART;VALUE=DATE:20221212
CATEGORIES:選日
DURATION:P1DT
END:VEVENT
BEGIN:VEVENT
UID:RpzNmkOc-xb4zfx8x86HL
SUMMARY:一粒万倍日
DTSTAMP:20260424T003852Z
DTSTART;VALUE=DATE:20221213
CATEGORIES:選日
DURATION:P1DT
END:VEVENT
BEGIN:VEVENT
UID:XtVAwpT-ftrR25OBVc0uC
SUMMARY:冬至
DTSTAMP:20260424T003852Z
DTSTART;VALUE=DATE:20221222
CATEGORIES:節気
DURATION:P1DT
END:VEVENT
BEGIN:VEVENT
UID:lRc3vmCi0e_CL-AiYjx7k
SUMMARY:一粒万倍日
DTSTAMP:20260424T003852Z
DTSTART;VALUE=DATE:20221224
CATEGORIES:選日
DURATION:P1DT
END:VEVENT
BEGIN:VEVENT
UID:VZABz1Lvfbq8RyOQKDwfu
SUMMARY:一粒万倍日
DTSTAMP:20260424T003852Z
DTSTART;VALUE=DATE:20221225
CATEGORIES:選日
DURATION:P1DT
END:VEVENT
END:VCALENDAR
