BEGIN:VCALENDAR
VERSION:2.0
CALSCALE:GREGORIAN
PRODID:adamgibbons/ics
METHOD:PUBLISH
X-WR-CALNAME:koyomi
X-PUBLISHED-TTL:PT1H
BEGIN:VEVENT
UID:nyOuycfIE1yu_RsGbrafS
SUMMARY:元日
DTSTAMP:20260423T230904Z
DTSTART;VALUE=DATE:20230101
CATEGORIES:祝日
DURATION:P1DT
END:VEVENT
BEGIN:VEVENT
UID:uowY-92vqUd-CkUZ2MMEK
SUMMARY:元日 振替休日
DTSTAMP:20260423T230904Z
DTSTART;VALUE=DATE:20230102
CATEGORIES:祝日
DURATION:P1DT
END:VEVENT
BEGIN:VEVENT
UID:OHfpZRH6ywHPlimS6I-Xn
SUMMARY:小寒
DTSTAMP:20260423T230904Z
DTSTART;VALUE=DATE:20230105
CATEGORIES:節気
DURATION:P1DT
END:VEVENT
BEGIN:VEVENT
UID:yQid5GxG6CaPOLrZpvohS
SUMMARY:一粒万倍日
DTSTAMP:20260423T230904Z
DTSTART;VALUE=DATE:20230106
CATEGORIES:選日
DURATION:P1DT
END:VEVENT
BEGIN:VEVENT
UID:QUgsC2QHPa2ZaOVikXZfT
SUMMARY:天赦日
DTSTAMP:20260423T230904Z
DTSTART;VALUE=DATE:20230106
CATEGORIES:選日
DURATION:P1DT
END:VEVENT
BEGIN:VEVENT
UID:UZzleKUa-lOQOetx_aFnH
SUMMARY:成人の日
DTSTAMP:20260423T230904Z
DTSTART;VALUE=DATE:20230109
CATEGORIES:祝日
DURATION:P1DT
END:VEVENT
BEGIN:VEVENT
UID:WjPNN2rt9CBLkFxTJyJlA
SUMMARY:一粒万倍日
DTSTAMP:20260423T230904Z
DTSTART;VALUE=DATE:20230109
CATEGORIES:選日
DURATION:P1DT
END:VEVENT
BEGIN:VEVENT
UID:sCYiO3HQVP8MCbPZ_uGcq
SUMMARY:一粒万倍日
DTSTAMP:20260423T230904Z
DTSTART;VALUE=DATE:20230118
CATEGORIES:選日
DURATION:P1DT
END:VEVENT
BEGIN:VEVENT
UID:T74RoDioO1-wATL9WDIQb
SUMMARY:大寒
DTSTAMP:20260423T230904Z
DTSTART;VALUE=DATE:20230120
CATEGORIES:節気
DURATION:P1DT
END:VEVENT
BEGIN:VEVENT
UID:a2hN-l7Woa6Hhftakgzsj
SUMMARY:一粒万倍日
DTSTAMP:20260423T230904Z
DTSTART;VALUE=DATE:20230121
CATEGORIES:選日
DURATION:P1DT
END:VEVENT
BEGIN:VEVENT
UID:-IeDteQEmzd8ne_fwz2ie
SUMMARY:一粒万倍日
DTSTAMP:20260423T230904Z
DTSTART;VALUE=DATE:20230130
CATEGORIES:選日
DURATION:P1DT
END:VEVENT
BEGIN:VEVENT
UID:61xYPhTs8Jm3pKytxxzWc
SUMMARY:一粒万倍日
DTSTAMP:20260423T230904Z
DTSTART;VALUE=DATE:20230202
CATEGORIES:選日
DURATION:P1DT
END:VEVENT
BEGIN:VEVENT
UID:ry0qtvqPK-gpYLBE8Jw2k
SUMMARY:立春
DTSTAMP:20260423T230904Z
DTSTART;VALUE=DATE:20230204
CATEGORIES:節気
DURATION:P1DT
END:VEVENT
BEGIN:VEVENT
UID:Ds9xFQvlOsdTi2_Ml8s2C
SUMMARY:一粒万倍日
DTSTAMP:20260423T230904Z
DTSTART;VALUE=DATE:20230205
CATEGORIES:選日
DURATION:P1DT
END:VEVENT
BEGIN:VEVENT
UID:ik0R4Ng1mpzKKKvO-dRYg
SUMMARY:建国記念の日
DTSTAMP:20260423T230904Z
DTSTART;VALUE=DATE:20230211
CATEGORIES:祝日
DURATION:P1DT
END:VEVENT
BEGIN:VEVENT
UID:NnM80G170v0wXtX-EdiON
SUMMARY:一粒万倍日
DTSTAMP:20260423T230904Z
DTSTART;VALUE=DATE:20230212
CATEGORIES:選日
DURATION:P1DT
END:VEVENT
BEGIN:VEVENT
UID:OJ3l5NRNe4s5T8E8CMYfT
SUMMARY:一粒万倍日
DTSTAMP:20260423T230904Z
DTSTART;VALUE=DATE:20230217
CATEGORIES:選日
DURATION:P1DT
END:VEVENT
BEGIN:VEVENT
UID:otq4GoXAxupJtmGUkwAaZ
SUMMARY:雨水
DTSTAMP:20260423T230904Z
DTSTART;VALUE=DATE:20230219
CATEGORIES:節気
DURATION:P1DT
END:VEVENT
BEGIN:VEVENT
UID:fDAKcgetSIBk85S73pyV0
SUMMARY:天皇誕生日
DTSTAMP:20260423T230904Z
DTSTART;VALUE=DATE:20230223
CATEGORIES:祝日
DURATION:P1DT
END:VEVENT
BEGIN:VEVENT
UID:EvIALQMg4SXcB60c3A9nS
SUMMARY:一粒万倍日
DTSTAMP:20260423T230904Z
DTSTART;VALUE=DATE:20230224
CATEGORIES:選日
DURATION:P1DT
END:VEVENT
BEGIN:VEVENT
UID:jdDmUXVTUVWeAnLTIZbgf
SUMMARY:一粒万倍日
DTSTAMP:20260423T230904Z
DTSTART;VALUE=DATE:20230301
CATEGORIES:選日
DURATION:P1DT
END:VEVENT
BEGIN:VEVENT
UID:wnuhiUkhifAsunDe0jpbv
SUMMARY:啓蟄
DTSTAMP:20260423T230904Z
DTSTART;VALUE=DATE:20230306
CATEGORIES:節気
DURATION:P1DT
END:VEVENT
BEGIN:VEVENT
UID:vL0YwbdT1hYJamZ-Q3UBH
SUMMARY:一粒万倍日
DTSTAMP:20260423T230904Z
DTSTART;VALUE=DATE:20230309
CATEGORIES:選日
DURATION:P1DT
END:VEVENT
BEGIN:VEVENT
UID:AwBwwMiR5VeNaabXhsybK
SUMMARY:一粒万倍日
DTSTAMP:20260423T230904Z
DTSTART;VALUE=DATE:20230316
CATEGORIES:選日
DURATION:P1DT
END:VEVENT
BEGIN:VEVENT
UID:Eu7T0ek1FUiQXFvowxp1b
SUMMARY:春分の日
DTSTAMP:20260423T230904Z
DTSTART;VALUE=DATE:20230321
CATEGORIES:祝日
DURATION:P1DT
END:VEVENT
BEGIN:VEVENT
UID:CKxzStVvDi7yr1XrVf0Oc
SUMMARY:一粒万倍日
DTSTAMP:20260423T230904Z
DTSTART;VALUE=DATE:20230321
CATEGORIES:選日
DURATION:P1DT
END:VEVENT
BEGIN:VEVENT
UID:Gp0-4xvgMTR8gnqIZSN6w
SUMMARY:天赦日
DTSTAMP:20260423T230904Z
DTSTART;VALUE=DATE:20230321
CATEGORIES:選日
DURATION:P1DT
END:VEVENT
BEGIN:VEVENT
UID:p3LO5BKfz5pre1Xr5eiM_
SUMMARY:春分
DTSTAMP:20260423T230904Z
DTSTART;VALUE=DATE:20230321
CATEGORIES:節気
DURATION:P1DT
END:VEVENT
BEGIN:VEVENT
UID:_EUy9ftQOc1Ib3hFotpmT
SUMMARY:一粒万倍日
DTSTAMP:20260423T230904Z
DTSTART;VALUE=DATE:20230328
CATEGORIES:選日
DURATION:P1DT
END:VEVENT
BEGIN:VEVENT
UID:yPslGkp3Hvxzo3RcNQ4h4
SUMMARY:一粒万倍日
DTSTAMP:20260423T230904Z
DTSTART;VALUE=DATE:20230402
CATEGORIES:選日
DURATION:P1DT
END:VEVENT
BEGIN:VEVENT
UID:4i035Zwhj0Xc9skgp5Qqs
SUMMARY:清明
DTSTAMP:20260423T230904Z
DTSTART;VALUE=DATE:20230405
CATEGORIES:節気
DURATION:P1DT
END:VEVENT
BEGIN:VEVENT
UID:vzh-h80jGnCtlJsk3IOBz
SUMMARY:一粒万倍日
DTSTAMP:20260423T230904Z
DTSTART;VALUE=DATE:20230412
CATEGORIES:選日
DURATION:P1DT
END:VEVENT
BEGIN:VEVENT
UID:PkZ-Tp1fX8nb4rnnS719R
SUMMARY:一粒万倍日
DTSTAMP:20260423T230904Z
DTSTART;VALUE=DATE:20230415
CATEGORIES:選日
DURATION:P1DT
END:VEVENT
BEGIN:VEVENT
UID:ijs88moP1B_usU0nsbfJE
SUMMARY:穀雨
DTSTAMP:20260423T230904Z
DTSTART;VALUE=DATE:20230420
CATEGORIES:節気
DURATION:P1DT
END:VEVENT
BEGIN:VEVENT
UID:uT0CPZPm3SQ-AKcMg_RCP
SUMMARY:一粒万倍日
DTSTAMP:20260423T230904Z
DTSTART;VALUE=DATE:20230424
CATEGORIES:選日
DURATION:P1DT
END:VEVENT
BEGIN:VEVENT
UID:tLiKcSw840ForZi2MSnt8
SUMMARY:一粒万倍日
DTSTAMP:20260423T230904Z
DTSTART;VALUE=DATE:20230427
CATEGORIES:選日
DURATION:P1DT
END:VEVENT
BEGIN:VEVENT
UID:jncLjm4qdhoSbS5oNO9cx
SUMMARY:昭和の日
DTSTAMP:20260423T230904Z
DTSTART;VALUE=DATE:20230429
CATEGORIES:祝日
DURATION:P1DT
END:VEVENT
BEGIN:VEVENT
UID:fvxy7yb7uaeBuUXlf9lEI
SUMMARY:憲法記念日
DTSTAMP:20260423T230904Z
DTSTART;VALUE=DATE:20230503
CATEGORIES:祝日
DURATION:P1DT
END:VEVENT
BEGIN:VEVENT
UID:oPF_K9F3JouUB2iHj7XuL
SUMMARY:みどりの日
DTSTAMP:20260423T230904Z
DTSTART;VALUE=DATE:20230504
CATEGORIES:祝日
DURATION:P1DT
END:VEVENT
BEGIN:VEVENT
UID:E-Q3slokpk4sL-5ziHb75
SUMMARY:こどもの日
DTSTAMP:20260423T230904Z
DTSTART;VALUE=DATE:20230505
CATEGORIES:祝日
DURATION:P1DT
END:VEVENT
BEGIN:VEVENT
UID:hDztOthsHtvRu3VPLoCnx
SUMMARY:立夏
DTSTAMP:20260423T230904Z
DTSTART;VALUE=DATE:20230506
CATEGORIES:節気
DURATION:P1DT
END:VEVENT
BEGIN:VEVENT
UID:R6IECk44betfe-XlhWVl_
SUMMARY:一粒万倍日
DTSTAMP:20260423T230904Z
DTSTART;VALUE=DATE:20230509
CATEGORIES:選日
DURATION:P1DT
END:VEVENT
BEGIN:VEVENT
UID:CGNuwaZK9Lvt3a7Y4Dbhk
SUMMARY:一粒万倍日
DTSTAMP:20260423T230904Z
DTSTART;VALUE=DATE:20230510
CATEGORIES:選日
DURATION:P1DT
END:VEVENT
BEGIN:VEVENT
UID:Yj_d8fXMJRsUJ-9DZwk3H
SUMMARY:一粒万倍日
DTSTAMP:20260423T230904Z
DTSTART;VALUE=DATE:20230521
CATEGORIES:選日
DURATION:P1DT
END:VEVENT
BEGIN:VEVENT
UID:mr3YuoHN1e3hcRiHnIAPs
SUMMARY:小満
DTSTAMP:20260423T230904Z
DTSTART;VALUE=DATE:20230521
CATEGORIES:節気
DURATION:P1DT
END:VEVENT
BEGIN:VEVENT
UID:pXU1ZlbC4wkzct2x4PZvE
SUMMARY:一粒万倍日
DTSTAMP:20260423T230904Z
DTSTART;VALUE=DATE:20230522
CATEGORIES:選日
DURATION:P1DT
END:VEVENT
BEGIN:VEVENT
UID:EDL4wYtd03kM3swQbnJBw
SUMMARY:一粒万倍日
DTSTAMP:20260423T230904Z
DTSTART;VALUE=DATE:20230602
CATEGORIES:選日
DURATION:P1DT
END:VEVENT
BEGIN:VEVENT
UID:L364MZBB1Knrym7DDr6nn
SUMMARY:一粒万倍日
DTSTAMP:20260423T230904Z
DTSTART;VALUE=DATE:20230603
CATEGORIES:選日
DURATION:P1DT
END:VEVENT
BEGIN:VEVENT
UID:Mzhmdbdss1CpjLnnEtk55
SUMMARY:天赦日
DTSTAMP:20260423T230904Z
DTSTART;VALUE=DATE:20230605
CATEGORIES:選日
DURATION:P1DT
END:VEVENT
BEGIN:VEVENT
UID:xQi_yRwpu-qenRzPfDmrx
SUMMARY:芒種
DTSTAMP:20260423T230904Z
DTSTART;VALUE=DATE:20230606
CATEGORIES:節気
DURATION:P1DT
END:VEVENT
BEGIN:VEVENT
UID:UHh9eWQmGamIcgeEO6XdK
SUMMARY:一粒万倍日
DTSTAMP:20260423T230904Z
DTSTART;VALUE=DATE:20230616
CATEGORIES:選日
DURATION:P1DT
END:VEVENT
BEGIN:VEVENT
UID:1W1saqbMYOl0vX2GaiBxz
SUMMARY:一粒万倍日
DTSTAMP:20260423T230904Z
DTSTART;VALUE=DATE:20230617
CATEGORIES:選日
DURATION:P1DT
END:VEVENT
BEGIN:VEVENT
UID:8eO_B0r9soJcF58Qeb69b
SUMMARY:夏至
DTSTAMP:20260423T230904Z
DTSTART;VALUE=DATE:20230621
CATEGORIES:節気
DURATION:P1DT
END:VEVENT
BEGIN:VEVENT
UID:Xcj4IxBlSu7R6L0rmK_bE
SUMMARY:一粒万倍日
DTSTAMP:20260423T230904Z
DTSTART;VALUE=DATE:20230628
CATEGORIES:選日
DURATION:P1DT
END:VEVENT
BEGIN:VEVENT
UID:iFopKEtLLMPh9ey6csLZX
SUMMARY:一粒万倍日
DTSTAMP:20260423T230904Z
DTSTART;VALUE=DATE:20230629
CATEGORIES:選日
DURATION:P1DT
END:VEVENT
BEGIN:VEVENT
UID:joC8pEl9xhgSKWYw2va36
SUMMARY:小暑
DTSTAMP:20260423T230904Z
DTSTART;VALUE=DATE:20230707
CATEGORIES:節気
DURATION:P1DT
END:VEVENT
BEGIN:VEVENT
UID:e7QnWrpvmfRzRicOvFABV
SUMMARY:一粒万倍日
DTSTAMP:20260423T230904Z
DTSTART;VALUE=DATE:20230711
CATEGORIES:選日
DURATION:P1DT
END:VEVENT
BEGIN:VEVENT
UID:9-c_k10H7gJsMjxnmmPI4
SUMMARY:一粒万倍日
DTSTAMP:20260423T230904Z
DTSTART;VALUE=DATE:20230714
CATEGORIES:選日
DURATION:P1DT
END:VEVENT
BEGIN:VEVENT
UID:JtQhdB5iiSxu1wjWTAnOR
SUMMARY:海の日
DTSTAMP:20260423T230904Z
DTSTART;VALUE=DATE:20230717
CATEGORIES:祝日
DURATION:P1DT
END:VEVENT
BEGIN:VEVENT
UID:cAMz_Zsn4ChONiIDPXxNs
SUMMARY:一粒万倍日
DTSTAMP:20260423T230904Z
DTSTART;VALUE=DATE:20230723
CATEGORIES:選日
DURATION:P1DT
END:VEVENT
BEGIN:VEVENT
UID:xKAeem9_2FcuLLPKGCwt3
SUMMARY:大暑
DTSTAMP:20260423T230904Z
DTSTART;VALUE=DATE:20230723
CATEGORIES:節気
DURATION:P1DT
END:VEVENT
BEGIN:VEVENT
UID:3gGkYxU91YhGczF_tahI5
SUMMARY:一粒万倍日
DTSTAMP:20260423T230904Z
DTSTART;VALUE=DATE:20230726
CATEGORIES:選日
DURATION:P1DT
END:VEVENT
BEGIN:VEVENT
UID:DSkq6f0y4D4pizbcR0y2-
SUMMARY:一粒万倍日
DTSTAMP:20260423T230904Z
DTSTART;VALUE=DATE:20230804
CATEGORIES:選日
DURATION:P1DT
END:VEVENT
BEGIN:VEVENT
UID:OOcEOa6vmaaYpMAMF_E1s
SUMMARY:天赦日
DTSTAMP:20260423T230904Z
DTSTART;VALUE=DATE:20230804
CATEGORIES:選日
DURATION:P1DT
END:VEVENT
BEGIN:VEVENT
UID:vrSbKwl3LLC0iH7doO5GR
SUMMARY:一粒万倍日
DTSTAMP:20260423T230904Z
DTSTART;VALUE=DATE:20230807
CATEGORIES:選日
DURATION:P1DT
END:VEVENT
BEGIN:VEVENT
UID:gVTpsLFZlCoCAMZduYpZA
SUMMARY:立秋
DTSTAMP:20260423T230904Z
DTSTART;VALUE=DATE:20230808
CATEGORIES:節気
DURATION:P1DT
END:VEVENT
BEGIN:VEVENT
UID:RxHWNzGem5j84-9BC4JKl
SUMMARY:一粒万倍日
DTSTAMP:20260423T230904Z
DTSTART;VALUE=DATE:20230810
CATEGORIES:選日
DURATION:P1DT
END:VEVENT
BEGIN:VEVENT
UID:DD3QLVd5C5x_aiNGHO7Df
SUMMARY:山の日
DTSTAMP:20260423T230904Z
DTSTART;VALUE=DATE:20230811
CATEGORIES:祝日
DURATION:P1DT
END:VEVENT
BEGIN:VEVENT
UID:Zw6EGuHBsw38wKUuEz651
SUMMARY:一粒万倍日
DTSTAMP:20260423T230904Z
DTSTART;VALUE=DATE:20230817
CATEGORIES:選日
DURATION:P1DT
END:VEVENT
BEGIN:VEVENT
UID:TaU4lve8AQjrdKMaIOW4f
SUMMARY:天赦日
DTSTAMP:20260423T230904Z
DTSTART;VALUE=DATE:20230818
CATEGORIES:選日
DURATION:P1DT
END:VEVENT
BEGIN:VEVENT
UID:g0L1mE5Oj5euvHF4PxNal
SUMMARY:一粒万倍日
DTSTAMP:20260423T230904Z
DTSTART;VALUE=DATE:20230822
CATEGORIES:選日
DURATION:P1DT
END:VEVENT
BEGIN:VEVENT
UID:yTVfmrX1_MNIpXAXPDlsf
SUMMARY:処暑
DTSTAMP:20260423T230904Z
DTSTART;VALUE=DATE:20230823
CATEGORIES:節気
DURATION:P1DT
END:VEVENT
BEGIN:VEVENT
UID:J-bzrk27PsBA0s5EHdEz5
SUMMARY:一粒万倍日
DTSTAMP:20260423T230904Z
DTSTART;VALUE=DATE:20230829
CATEGORIES:選日
DURATION:P1DT
END:VEVENT
BEGIN:VEVENT
UID:8PUvUi_5UW4btQGAbGa5s
SUMMARY:一粒万倍日
DTSTAMP:20260423T230904Z
DTSTART;VALUE=DATE:20230903
CATEGORIES:選日
DURATION:P1DT
END:VEVENT
BEGIN:VEVENT
UID:ljw57TpVEjwAstQpkHRKu
SUMMARY:白露
DTSTAMP:20260423T230904Z
DTSTART;VALUE=DATE:20230908
CATEGORIES:節気
DURATION:P1DT
END:VEVENT
BEGIN:VEVENT
UID:ytSx3CqJfCyHNtJnNLtob
SUMMARY:一粒万倍日
DTSTAMP:20260423T230904Z
DTSTART;VALUE=DATE:20230911
CATEGORIES:選日
DURATION:P1DT
END:VEVENT
BEGIN:VEVENT
UID:YvfZc2ovtj03QUwRCK-3B
SUMMARY:敬老の日
DTSTAMP:20260423T230904Z
DTSTART;VALUE=DATE:20230918
CATEGORIES:祝日
DURATION:P1DT
END:VEVENT
BEGIN:VEVENT
UID:QT-of9Ygu8aHUaGLYzKfl
SUMMARY:一粒万倍日
DTSTAMP:20260423T230904Z
DTSTART;VALUE=DATE:20230918
CATEGORIES:選日
DURATION:P1DT
END:VEVENT
BEGIN:VEVENT
UID:71PnsV3RbDixzW29Kl5K7
SUMMARY:秋分の日
DTSTAMP:20260423T230904Z
DTSTART;VALUE=DATE:20230923
CATEGORIES:祝日
DURATION:P1DT
END:VEVENT
BEGIN:VEVENT
UID:jtkC4EMz7ywYtJoCw36eN
SUMMARY:一粒万倍日
DTSTAMP:20260423T230904Z
DTSTART;VALUE=DATE:20230923
CATEGORIES:選日
DURATION:P1DT
END:VEVENT
BEGIN:VEVENT
UID:tvs_4NBORaGMlPq3xnZki
SUMMARY:秋分
DTSTAMP:20260423T230904Z
DTSTART;VALUE=DATE:20230923
CATEGORIES:節気
DURATION:P1DT
END:VEVENT
BEGIN:VEVENT
UID:9N2SPnlWqDzKB8SvXLtgb
SUMMARY:一粒万倍日
DTSTAMP:20260423T230904Z
DTSTART;VALUE=DATE:20230930
CATEGORIES:選日
DURATION:P1DT
END:VEVENT
BEGIN:VEVENT
UID:--meEyqdKDNNsZmqj5cx2
SUMMARY:一粒万倍日
DTSTAMP:20260423T230904Z
DTSTART;VALUE=DATE:20231005
CATEGORIES:選日
DURATION:P1DT
END:VEVENT
BEGIN:VEVENT
UID:yHHF78ujnXNjNNMSoWWKV
SUMMARY:寒露
DTSTAMP:20260423T230904Z
DTSTART;VALUE=DATE:20231008
CATEGORIES:節気
DURATION:P1DT
END:VEVENT
BEGIN:VEVENT
UID:hPbKkCYdeCH_mDDH54upu
SUMMARY:スポーツの日
DTSTAMP:20260423T230904Z
DTSTART;VALUE=DATE:20231009
CATEGORIES:祝日
DURATION:P1DT
END:VEVENT
BEGIN:VEVENT
UID:4_6iYeUmugGXwqNy9ZItl
SUMMARY:一粒万倍日
DTSTAMP:20260423T230904Z
DTSTART;VALUE=DATE:20231015
CATEGORIES:選日
DURATION:P1DT
END:VEVENT
BEGIN:VEVENT
UID:yYFLfm8SDm4LMPXTfKHue
SUMMARY:天赦日
DTSTAMP:20260423T230904Z
DTSTART;VALUE=DATE:20231017
CATEGORIES:選日
DURATION:P1DT
END:VEVENT
BEGIN:VEVENT
UID:5N8-Js1og5tnZWxVW15i_
SUMMARY:一粒万倍日
DTSTAMP:20260423T230904Z
DTSTART;VALUE=DATE:20231018
CATEGORIES:選日
DURATION:P1DT
END:VEVENT
BEGIN:VEVENT
UID:Q8tYd6uF4IurBvzo93z0i
SUMMARY:霜降
DTSTAMP:20260423T230904Z
DTSTART;VALUE=DATE:20231024
CATEGORIES:節気
DURATION:P1DT
END:VEVENT
BEGIN:VEVENT
UID:LW3_Lje9AuNdx4ZSKfgov
SUMMARY:一粒万倍日
DTSTAMP:20260423T230904Z
DTSTART;VALUE=DATE:20231027
CATEGORIES:選日
DURATION:P1DT
END:VEVENT
BEGIN:VEVENT
UID:Q-Lgj8UahtilIJfpOW50k
SUMMARY:一粒万倍日
DTSTAMP:20260423T230904Z
DTSTART;VALUE=DATE:20231030
CATEGORIES:選日
DURATION:P1DT
END:VEVENT
BEGIN:VEVENT
UID:1oTQTw444L71nzZaQQBSy
SUMMARY:文化の日
DTSTAMP:20260423T230904Z
DTSTART;VALUE=DATE:20231103
CATEGORIES:祝日
DURATION:P1DT
END:VEVENT
BEGIN:VEVENT
UID:PHBYnZcbAct2h5qZLIgsc
SUMMARY:立冬
DTSTAMP:20260423T230904Z
DTSTART;VALUE=DATE:20231108
CATEGORIES:節気
DURATION:P1DT
END:VEVENT
BEGIN:VEVENT
UID:1eUmC4HLQuDm6R4kB_kUu
SUMMARY:一粒万倍日
DTSTAMP:20260423T230904Z
DTSTART;VALUE=DATE:20231111
CATEGORIES:選日
DURATION:P1DT
END:VEVENT
BEGIN:VEVENT
UID:mNqdFxzGHu3ahybnwdwY1
SUMMARY:一粒万倍日
DTSTAMP:20260423T230904Z
DTSTART;VALUE=DATE:20231112
CATEGORIES:選日
DURATION:P1DT
END:VEVENT
BEGIN:VEVENT
UID:iI80k4MaK7Eo9Y_7_Qkws
SUMMARY:小雪
DTSTAMP:20260423T230904Z
DTSTART;VALUE=DATE:20231122
CATEGORIES:節気
DURATION:P1DT
END:VEVENT
BEGIN:VEVENT
UID:Ac7hrztIKL76KUCLWrqvp
SUMMARY:勤労感謝の日
DTSTAMP:20260423T230904Z
DTSTART;VALUE=DATE:20231123
CATEGORIES:祝日
DURATION:P1DT
END:VEVENT
BEGIN:VEVENT
UID:XHJ3zzYgu84p3XZ9V5bh-
SUMMARY:一粒万倍日
DTSTAMP:20260423T230904Z
DTSTART;VALUE=DATE:20231123
CATEGORIES:選日
DURATION:P1DT
END:VEVENT
BEGIN:VEVENT
UID:syj0Nw0q-bvScHUNpQoyR
SUMMARY:一粒万倍日
DTSTAMP:20260423T230904Z
DTSTART;VALUE=DATE:20231124
CATEGORIES:選日
DURATION:P1DT
END:VEVENT
BEGIN:VEVENT
UID:fTZZvE86N7vLNgshjCoI3
SUMMARY:一粒万倍日
DTSTAMP:20260423T230904Z
DTSTART;VALUE=DATE:20231205
CATEGORIES:選日
DURATION:P1DT
END:VEVENT
BEGIN:VEVENT
UID:0WnmTrPqP5PgQdhZ6V0zo
SUMMARY:一粒万倍日
DTSTAMP:20260423T230904Z
DTSTART;VALUE=DATE:20231206
CATEGORIES:選日
DURATION:P1DT
END:VEVENT
BEGIN:VEVENT
UID:ZRuRodkoFxqvYo_hIqDZS
SUMMARY:一粒万倍日
DTSTAMP:20260423T230904Z
DTSTART;VALUE=DATE:20231207
CATEGORIES:選日
DURATION:P1DT
END:VEVENT
BEGIN:VEVENT
UID:CsS3JWpcXH5dckfg7mEGM
SUMMARY:大雪
DTSTAMP:20260423T230904Z
DTSTART;VALUE=DATE:20231207
CATEGORIES:節気
DURATION:P1DT
END:VEVENT
BEGIN:VEVENT
UID:ifJ1HAkeyNlHd__002A1C
SUMMARY:一粒万倍日
DTSTAMP:20260423T230904Z
DTSTART;VALUE=DATE:20231208
CATEGORIES:選日
DURATION:P1DT
END:VEVENT
BEGIN:VEVENT
UID:QebioEllKeNcJ5gUCUFB7
SUMMARY:一粒万倍日
DTSTAMP:20260423T230904Z
DTSTART;VALUE=DATE:20231219
CATEGORIES:選日
DURATION:P1DT
END:VEVENT
BEGIN:VEVENT
UID:jd1RAoy_kfZTsoUVHJla6
SUMMARY:一粒万倍日
DTSTAMP:20260423T230904Z
DTSTART;VALUE=DATE:20231220
CATEGORIES:選日
DURATION:P1DT
END:VEVENT
BEGIN:VEVENT
UID:rna7rqc_YtEC7scDgVIQj
SUMMARY:冬至
DTSTAMP:20260423T230904Z
DTSTART;VALUE=DATE:20231222
CATEGORIES:節気
DURATION:P1DT
END:VEVENT
BEGIN:VEVENT
UID:TKxwI45C0wEjzGh36Z_aM
SUMMARY:一粒万倍日
DTSTAMP:20260423T230904Z
DTSTART;VALUE=DATE:20231231
CATEGORIES:選日
DURATION:P1DT
END:VEVENT
END:VCALENDAR
