BEGIN:VCALENDAR
VERSION:2.0
CALSCALE:GREGORIAN
PRODID:adamgibbons/ics
METHOD:PUBLISH
X-WR-CALNAME:koyomi
X-PUBLISHED-TTL:PT1H
BEGIN:VEVENT
UID:TGtafepEXW37IdhRJDaeH
SUMMARY:元日
DTSTAMP:20260423T180151Z
DTSTART;VALUE=DATE:20240101
CATEGORIES:祝日
DURATION:P1DT
END:VEVENT
BEGIN:VEVENT
UID:mEk7WmC9JepdKEegOrRJN
SUMMARY:一粒万倍日
DTSTAMP:20260423T180151Z
DTSTART;VALUE=DATE:20240101
CATEGORIES:選日
DURATION:P1DT
END:VEVENT
BEGIN:VEVENT
UID:1IQEa9VaxhgWKBAlf9SyN
SUMMARY:天赦日
DTSTAMP:20260423T180151Z
DTSTART;VALUE=DATE:20240101
CATEGORIES:選日
DURATION:P1DT
END:VEVENT
BEGIN:VEVENT
UID:X86CwkDD4rBvzS3pihE_v
SUMMARY:小寒
DTSTAMP:20260423T180151Z
DTSTART;VALUE=DATE:20240106
CATEGORIES:節気
DURATION:P1DT
END:VEVENT
BEGIN:VEVENT
UID:5YH9VSk4DRIfs1TzpnBrW
SUMMARY:成人の日
DTSTAMP:20260423T180151Z
DTSTART;VALUE=DATE:20240108
CATEGORIES:祝日
DURATION:P1DT
END:VEVENT
BEGIN:VEVENT
UID:MYUM3Z4Z5Uy7PKavY7wCJ
SUMMARY:一粒万倍日
DTSTAMP:20260423T180151Z
DTSTART;VALUE=DATE:20240113
CATEGORIES:選日
DURATION:P1DT
END:VEVENT
BEGIN:VEVENT
UID:qQ1EFnTUs5SqdvKS5Gb6c
SUMMARY:一粒万倍日
DTSTAMP:20260423T180151Z
DTSTART;VALUE=DATE:20240116
CATEGORIES:選日
DURATION:P1DT
END:VEVENT
BEGIN:VEVENT
UID:XtRqaBdQCUD9TY5LF5sWD
SUMMARY:大寒
DTSTAMP:20260423T180151Z
DTSTART;VALUE=DATE:20240120
CATEGORIES:節気
DURATION:P1DT
END:VEVENT
BEGIN:VEVENT
UID:wF59FIRre8JjU9J70Ja5A
SUMMARY:一粒万倍日
DTSTAMP:20260423T180151Z
DTSTART;VALUE=DATE:20240125
CATEGORIES:選日
DURATION:P1DT
END:VEVENT
BEGIN:VEVENT
UID:FPBDImTU8AoIPCcbiGkfF
SUMMARY:一粒万倍日
DTSTAMP:20260423T180151Z
DTSTART;VALUE=DATE:20240128
CATEGORIES:選日
DURATION:P1DT
END:VEVENT
BEGIN:VEVENT
UID:VfNmYdWtGJCbNgPQhjhlU
SUMMARY:立春
DTSTAMP:20260423T180151Z
DTSTART;VALUE=DATE:20240204
CATEGORIES:節気
DURATION:P1DT
END:VEVENT
BEGIN:VEVENT
UID:NBSKrLa07cUGaaEf__YDq
SUMMARY:一粒万倍日
DTSTAMP:20260423T180151Z
DTSTART;VALUE=DATE:20240207
CATEGORIES:選日
DURATION:P1DT
END:VEVENT
BEGIN:VEVENT
UID:FsFrAE4FnrvYTbr8S2c5H
SUMMARY:建国記念の日
DTSTAMP:20260423T180151Z
DTSTART;VALUE=DATE:20240211
CATEGORIES:祝日
DURATION:P1DT
END:VEVENT
BEGIN:VEVENT
UID:_KgFN1S4voef9Eh1zP3Iv
SUMMARY:建国記念の日 振替休日
DTSTAMP:20260423T180151Z
DTSTART;VALUE=DATE:20240212
CATEGORIES:祝日
DURATION:P1DT
END:VEVENT
BEGIN:VEVENT
UID:sVK06c8vBL24_Vo1Gzq3O
SUMMARY:一粒万倍日
DTSTAMP:20260423T180151Z
DTSTART;VALUE=DATE:20240212
CATEGORIES:選日
DURATION:P1DT
END:VEVENT
BEGIN:VEVENT
UID:mEUEPQTa_TfRXMtHexFoy
SUMMARY:一粒万倍日
DTSTAMP:20260423T180151Z
DTSTART;VALUE=DATE:20240219
CATEGORIES:選日
DURATION:P1DT
END:VEVENT
BEGIN:VEVENT
UID:-Fg4h8akbhK0YMXgIOljE
SUMMARY:雨水
DTSTAMP:20260423T180151Z
DTSTART;VALUE=DATE:20240219
CATEGORIES:節気
DURATION:P1DT
END:VEVENT
BEGIN:VEVENT
UID:uXqnxj9VbvU3KiCuv5bzs
SUMMARY:天皇誕生日
DTSTAMP:20260423T180151Z
DTSTART;VALUE=DATE:20240223
CATEGORIES:祝日
DURATION:P1DT
END:VEVENT
BEGIN:VEVENT
UID:QgVHmcsvSjOA7BSNCYrK2
SUMMARY:一粒万倍日
DTSTAMP:20260423T180151Z
DTSTART;VALUE=DATE:20240224
CATEGORIES:選日
DURATION:P1DT
END:VEVENT
BEGIN:VEVENT
UID:AAQURAfN1VAIMfH2CAmX5
SUMMARY:一粒万倍日
DTSTAMP:20260423T180151Z
DTSTART;VALUE=DATE:20240302
CATEGORIES:選日
DURATION:P1DT
END:VEVENT
BEGIN:VEVENT
UID:ViIKfe_x9Avmk88GftQkK
SUMMARY:啓蟄
DTSTAMP:20260423T180151Z
DTSTART;VALUE=DATE:20240305
CATEGORIES:節気
DURATION:P1DT
END:VEVENT
BEGIN:VEVENT
UID:OgcCH3XM-VrU-zd1d8kPy
SUMMARY:一粒万倍日
DTSTAMP:20260423T180151Z
DTSTART;VALUE=DATE:20240310
CATEGORIES:選日
DURATION:P1DT
END:VEVENT
BEGIN:VEVENT
UID:3238O3rFO2NQOFVFmWSsH
SUMMARY:一粒万倍日
DTSTAMP:20260423T180151Z
DTSTART;VALUE=DATE:20240315
CATEGORIES:選日
DURATION:P1DT
END:VEVENT
BEGIN:VEVENT
UID:fFup13LEY4xCjjRFoZDK-
SUMMARY:天赦日
DTSTAMP:20260423T180151Z
DTSTART;VALUE=DATE:20240315
CATEGORIES:選日
DURATION:P1DT
END:VEVENT
BEGIN:VEVENT
UID:0m9JHz2v0ye-0pRazITqY
SUMMARY:春分の日
DTSTAMP:20260423T180151Z
DTSTART;VALUE=DATE:20240320
CATEGORIES:祝日
DURATION:P1DT
END:VEVENT
BEGIN:VEVENT
UID:CufepvMouZap4T58XVtnW
SUMMARY:春分
DTSTAMP:20260423T180151Z
DTSTART;VALUE=DATE:20240320
CATEGORIES:節気
DURATION:P1DT
END:VEVENT
BEGIN:VEVENT
UID:aE2eI2lXd16Mgym0dNofN
SUMMARY:一粒万倍日
DTSTAMP:20260423T180151Z
DTSTART;VALUE=DATE:20240322
CATEGORIES:選日
DURATION:P1DT
END:VEVENT
BEGIN:VEVENT
UID:X_I56gdXuR_Gd-idH7MCr
SUMMARY:一粒万倍日
DTSTAMP:20260423T180151Z
DTSTART;VALUE=DATE:20240327
CATEGORIES:選日
DURATION:P1DT
END:VEVENT
BEGIN:VEVENT
UID:pSWrnWT6RO326cMXVQqnG
SUMMARY:一粒万倍日
DTSTAMP:20260423T180151Z
DTSTART;VALUE=DATE:20240403
CATEGORIES:選日
DURATION:P1DT
END:VEVENT
BEGIN:VEVENT
UID:5Lxy3tBAC_5mGnIuN7XLI
SUMMARY:清明
DTSTAMP:20260423T180151Z
DTSTART;VALUE=DATE:20240404
CATEGORIES:節気
DURATION:P1DT
END:VEVENT
BEGIN:VEVENT
UID:jeIT1iNgAI9lPJqGFqQHB
SUMMARY:一粒万倍日
DTSTAMP:20260423T180151Z
DTSTART;VALUE=DATE:20240406
CATEGORIES:選日
DURATION:P1DT
END:VEVENT
BEGIN:VEVENT
UID:TW1wJI_QVnmhdsMiMGdfL
SUMMARY:一粒万倍日
DTSTAMP:20260423T180151Z
DTSTART;VALUE=DATE:20240409
CATEGORIES:選日
DURATION:P1DT
END:VEVENT
BEGIN:VEVENT
UID:gBJhJSPKhq_2azw2zfhEH
SUMMARY:一粒万倍日
DTSTAMP:20260423T180151Z
DTSTART;VALUE=DATE:20240418
CATEGORIES:選日
DURATION:P1DT
END:VEVENT
BEGIN:VEVENT
UID:7iQN9k9JWFrRx8oItB_RZ
SUMMARY:穀雨
DTSTAMP:20260423T180151Z
DTSTART;VALUE=DATE:20240419
CATEGORIES:節気
DURATION:P1DT
END:VEVENT
BEGIN:VEVENT
UID:0CJSCAqYBHPXWl9PaiLkP
SUMMARY:一粒万倍日
DTSTAMP:20260423T180151Z
DTSTART;VALUE=DATE:20240421
CATEGORIES:選日
DURATION:P1DT
END:VEVENT
BEGIN:VEVENT
UID:A5Z6Cw_7qqZ2OeesdtJcW
SUMMARY:昭和の日
DTSTAMP:20260423T180151Z
DTSTART;VALUE=DATE:20240429
CATEGORIES:祝日
DURATION:P1DT
END:VEVENT
BEGIN:VEVENT
UID:Hla_h3YxRt6D3l6gZsQ5Q
SUMMARY:一粒万倍日
DTSTAMP:20260423T180151Z
DTSTART;VALUE=DATE:20240430
CATEGORIES:選日
DURATION:P1DT
END:VEVENT
BEGIN:VEVENT
UID:UP_3PQ72QxX6buNBIZnHO
SUMMARY:憲法記念日
DTSTAMP:20260423T180151Z
DTSTART;VALUE=DATE:20240503
CATEGORIES:祝日
DURATION:P1DT
END:VEVENT
BEGIN:VEVENT
UID:6muT09bwceb4TpMctR2UO
SUMMARY:一粒万倍日
DTSTAMP:20260423T180151Z
DTSTART;VALUE=DATE:20240503
CATEGORIES:選日
DURATION:P1DT
END:VEVENT
BEGIN:VEVENT
UID:it3Dk0O5EpB5xwwe2Mt-U
SUMMARY:みどりの日
DTSTAMP:20260423T180151Z
DTSTART;VALUE=DATE:20240504
CATEGORIES:祝日
DURATION:P1DT
END:VEVENT
BEGIN:VEVENT
UID:BxJwiLs-YI-jp0kBNLeYC
SUMMARY:こどもの日
DTSTAMP:20260423T180151Z
DTSTART;VALUE=DATE:20240505
CATEGORIES:祝日
DURATION:P1DT
END:VEVENT
BEGIN:VEVENT
UID:-yt_ManxEGrp7VKfaFi-_
SUMMARY:立夏
DTSTAMP:20260423T180151Z
DTSTART;VALUE=DATE:20240505
CATEGORIES:節気
DURATION:P1DT
END:VEVENT
BEGIN:VEVENT
UID:7Osf61zdxJSL5lFpuTkL4
SUMMARY:こどもの日 振替休日
DTSTAMP:20260423T180151Z
DTSTART;VALUE=DATE:20240506
CATEGORIES:祝日
DURATION:P1DT
END:VEVENT
BEGIN:VEVENT
UID:ppwFYJlIHr-DePEPLrz2n
SUMMARY:一粒万倍日
DTSTAMP:20260423T180151Z
DTSTART;VALUE=DATE:20240515
CATEGORIES:選日
DURATION:P1DT
END:VEVENT
BEGIN:VEVENT
UID:O1W6zch9HFC9z1O_Sg0wt
SUMMARY:一粒万倍日
DTSTAMP:20260423T180151Z
DTSTART;VALUE=DATE:20240516
CATEGORIES:選日
DURATION:P1DT
END:VEVENT
BEGIN:VEVENT
UID:JFVsTbOrR_Kc1aZdo6GMs
SUMMARY:小満
DTSTAMP:20260423T180151Z
DTSTART;VALUE=DATE:20240520
CATEGORIES:節気
DURATION:P1DT
END:VEVENT
BEGIN:VEVENT
UID:mY9qHqkjdrpGPM2FZUVol
SUMMARY:一粒万倍日
DTSTAMP:20260423T180151Z
DTSTART;VALUE=DATE:20240527
CATEGORIES:選日
DURATION:P1DT
END:VEVENT
BEGIN:VEVENT
UID:d6WGFoWNp63lewok3iP8F
SUMMARY:一粒万倍日
DTSTAMP:20260423T180151Z
DTSTART;VALUE=DATE:20240528
CATEGORIES:選日
DURATION:P1DT
END:VEVENT
BEGIN:VEVENT
UID:OSJcMMMWub9c6CrDaV2Zo
SUMMARY:天赦日
DTSTAMP:20260423T180151Z
DTSTART;VALUE=DATE:20240530
CATEGORIES:選日
DURATION:P1DT
END:VEVENT
BEGIN:VEVENT
UID:wlfPgAtQrjEo0Uzku7YQl
SUMMARY:芒種
DTSTAMP:20260423T180151Z
DTSTART;VALUE=DATE:20240605
CATEGORIES:節気
DURATION:P1DT
END:VEVENT
BEGIN:VEVENT
UID:1qrYN-NNoE0k7vWa8jrAR
SUMMARY:一粒万倍日
DTSTAMP:20260423T180151Z
DTSTART;VALUE=DATE:20240610
CATEGORIES:選日
DURATION:P1DT
END:VEVENT
BEGIN:VEVENT
UID:NHRti2_0z-0kJKWt-LZ42
SUMMARY:一粒万倍日
DTSTAMP:20260423T180151Z
DTSTART;VALUE=DATE:20240611
CATEGORIES:選日
DURATION:P1DT
END:VEVENT
BEGIN:VEVENT
UID:hAmbuDMVGAQA2V1pmAWg6
SUMMARY:夏至
DTSTAMP:20260423T180151Z
DTSTART;VALUE=DATE:20240621
CATEGORIES:節気
DURATION:P1DT
END:VEVENT
BEGIN:VEVENT
UID:TvyGv7HkTjleEDsotNuZy
SUMMARY:一粒万倍日
DTSTAMP:20260423T180151Z
DTSTART;VALUE=DATE:20240622
CATEGORIES:選日
DURATION:P1DT
END:VEVENT
BEGIN:VEVENT
UID:53p_GNf9GarcHsjN7llXh
SUMMARY:一粒万倍日
DTSTAMP:20260423T180151Z
DTSTART;VALUE=DATE:20240623
CATEGORIES:選日
DURATION:P1DT
END:VEVENT
BEGIN:VEVENT
UID:FyslWFps_rv-IBEsK1aPL
SUMMARY:一粒万倍日
DTSTAMP:20260423T180151Z
DTSTART;VALUE=DATE:20240704
CATEGORIES:選日
DURATION:P1DT
END:VEVENT
BEGIN:VEVENT
UID:09GPbY_ByLUE0ogchpGe5
SUMMARY:一粒万倍日
DTSTAMP:20260423T180151Z
DTSTART;VALUE=DATE:20240705
CATEGORIES:選日
DURATION:P1DT
END:VEVENT
BEGIN:VEVENT
UID:aQFcouhghwIrB4IkV4nzS
SUMMARY:小暑
DTSTAMP:20260423T180151Z
DTSTART;VALUE=DATE:20240706
CATEGORIES:節気
DURATION:P1DT
END:VEVENT
BEGIN:VEVENT
UID:f1fGBH9f1ezfYO9p1EyEd
SUMMARY:一粒万倍日
DTSTAMP:20260423T180151Z
DTSTART;VALUE=DATE:20240708
CATEGORIES:選日
DURATION:P1DT
END:VEVENT
BEGIN:VEVENT
UID:W9jigoJt8UGTEcpcS0hE4
SUMMARY:海の日
DTSTAMP:20260423T180151Z
DTSTART;VALUE=DATE:20240715
CATEGORIES:祝日
DURATION:P1DT
END:VEVENT
BEGIN:VEVENT
UID:sgiXh-bPls3-VdxuUJUje
SUMMARY:一粒万倍日
DTSTAMP:20260423T180151Z
DTSTART;VALUE=DATE:20240717
CATEGORIES:選日
DURATION:P1DT
END:VEVENT
BEGIN:VEVENT
UID:w03OOrDozW9t8QGAaSKlF
SUMMARY:一粒万倍日
DTSTAMP:20260423T180151Z
DTSTART;VALUE=DATE:20240720
CATEGORIES:選日
DURATION:P1DT
END:VEVENT
BEGIN:VEVENT
UID:eOzewc3VkKqR25A2q9MBx
SUMMARY:大暑
DTSTAMP:20260423T180151Z
DTSTART;VALUE=DATE:20240722
CATEGORIES:節気
DURATION:P1DT
END:VEVENT
BEGIN:VEVENT
UID:85VpPxhLdC8PsEZ8SVPq7
SUMMARY:一粒万倍日
DTSTAMP:20260423T180151Z
DTSTART;VALUE=DATE:20240729
CATEGORIES:選日
DURATION:P1DT
END:VEVENT
BEGIN:VEVENT
UID:UllhVqrirw6da_Ee5fl9b
SUMMARY:天赦日
DTSTAMP:20260423T180151Z
DTSTART;VALUE=DATE:20240729
CATEGORIES:選日
DURATION:P1DT
END:VEVENT
BEGIN:VEVENT
UID:UAZjXgPRnPsn5Enu9HpKe
SUMMARY:一粒万倍日
DTSTAMP:20260423T180151Z
DTSTART;VALUE=DATE:20240801
CATEGORIES:選日
DURATION:P1DT
END:VEVENT
BEGIN:VEVENT
UID:3PKh_P_tJdrIf4q1iwFdE
SUMMARY:立秋
DTSTAMP:20260423T180151Z
DTSTART;VALUE=DATE:20240807
CATEGORIES:節気
DURATION:P1DT
END:VEVENT
BEGIN:VEVENT
UID:Hlz6QqIHXOlfutb5YJY2P
SUMMARY:山の日
DTSTAMP:20260423T180151Z
DTSTART;VALUE=DATE:20240811
CATEGORIES:祝日
DURATION:P1DT
END:VEVENT
BEGIN:VEVENT
UID:4lKL3Dt2m_Y2LvPScvVhH
SUMMARY:一粒万倍日
DTSTAMP:20260423T180151Z
DTSTART;VALUE=DATE:20240811
CATEGORIES:選日
DURATION:P1DT
END:VEVENT
BEGIN:VEVENT
UID:hixtCT4xGaIAVsSHwT4PT
SUMMARY:山の日 振替休日
DTSTAMP:20260423T180151Z
DTSTART;VALUE=DATE:20240812
CATEGORIES:祝日
DURATION:P1DT
END:VEVENT
BEGIN:VEVENT
UID:mGETVEY5v5MzUV-iJ9v3g
SUMMARY:天赦日
DTSTAMP:20260423T180151Z
DTSTART;VALUE=DATE:20240812
CATEGORIES:選日
DURATION:P1DT
END:VEVENT
BEGIN:VEVENT
UID:UM3OGaOH6NdaOLuzgfhJI
SUMMARY:一粒万倍日
DTSTAMP:20260423T180151Z
DTSTART;VALUE=DATE:20240816
CATEGORIES:選日
DURATION:P1DT
END:VEVENT
BEGIN:VEVENT
UID:SGgSYkwTOH1zDCo786mzH
SUMMARY:処暑
DTSTAMP:20260423T180151Z
DTSTART;VALUE=DATE:20240822
CATEGORIES:節気
DURATION:P1DT
END:VEVENT
BEGIN:VEVENT
UID:8oWJlwQK-qnEl-lqGM_b8
SUMMARY:一粒万倍日
DTSTAMP:20260423T180151Z
DTSTART;VALUE=DATE:20240823
CATEGORIES:選日
DURATION:P1DT
END:VEVENT
BEGIN:VEVENT
UID:pHVFKyY-5vDnXkTnaeb6l
SUMMARY:一粒万倍日
DTSTAMP:20260423T180151Z
DTSTART;VALUE=DATE:20240828
CATEGORIES:選日
DURATION:P1DT
END:VEVENT
BEGIN:VEVENT
UID:OTg94eWf8HuOyFdPbfZ4k
SUMMARY:一粒万倍日
DTSTAMP:20260423T180151Z
DTSTART;VALUE=DATE:20240904
CATEGORIES:選日
DURATION:P1DT
END:VEVENT
BEGIN:VEVENT
UID:ancALa9jbBjUtzutHtqXR
SUMMARY:白露
DTSTAMP:20260423T180151Z
DTSTART;VALUE=DATE:20240907
CATEGORIES:節気
DURATION:P1DT
END:VEVENT
BEGIN:VEVENT
UID:cdeooXSDQjSyEC9GvGWDv
SUMMARY:一粒万倍日
DTSTAMP:20260423T180151Z
DTSTART;VALUE=DATE:20240912
CATEGORIES:選日
DURATION:P1DT
END:VEVENT
BEGIN:VEVENT
UID:XDpYhw4Sy_re2l4a2rTgg
SUMMARY:敬老の日
DTSTAMP:20260423T180151Z
DTSTART;VALUE=DATE:20240916
CATEGORIES:祝日
DURATION:P1DT
END:VEVENT
BEGIN:VEVENT
UID:m-eo25vWrBxttMBDRyHkO
SUMMARY:一粒万倍日
DTSTAMP:20260423T180151Z
DTSTART;VALUE=DATE:20240917
CATEGORIES:選日
DURATION:P1DT
END:VEVENT
BEGIN:VEVENT
UID:XqqsW6zRheLCYZ8c08zOa
SUMMARY:秋分の日
DTSTAMP:20260423T180151Z
DTSTART;VALUE=DATE:20240922
CATEGORIES:祝日
DURATION:P1DT
END:VEVENT
BEGIN:VEVENT
UID:3XsHgsCrd3eGKO7cUuL_X
SUMMARY:秋分
DTSTAMP:20260423T180151Z
DTSTART;VALUE=DATE:20240922
CATEGORIES:節気
DURATION:P1DT
END:VEVENT
BEGIN:VEVENT
UID:v9BiPdMMcSB-X6K9j2LeS
SUMMARY:秋分の日 振替休日
DTSTAMP:20260423T180151Z
DTSTART;VALUE=DATE:20240923
CATEGORIES:祝日
DURATION:P1DT
END:VEVENT
BEGIN:VEVENT
UID:jdNhouUpPeb0K2n8HaPwh
SUMMARY:一粒万倍日
DTSTAMP:20260423T180151Z
DTSTART;VALUE=DATE:20240924
CATEGORIES:選日
DURATION:P1DT
END:VEVENT
BEGIN:VEVENT
UID:ChKK8boaL0MPQx7kPz_1A
SUMMARY:一粒万倍日
DTSTAMP:20260423T180151Z
DTSTART;VALUE=DATE:20240929
CATEGORIES:選日
DURATION:P1DT
END:VEVENT
BEGIN:VEVENT
UID:mxHwE98RwuywUsm8LyxPM
SUMMARY:一粒万倍日
DTSTAMP:20260423T180151Z
DTSTART;VALUE=DATE:20241006
CATEGORIES:選日
DURATION:P1DT
END:VEVENT
BEGIN:VEVENT
UID:FU9gIBdHWHOxP1eaVshIE
SUMMARY:寒露
DTSTAMP:20260423T180151Z
DTSTART;VALUE=DATE:20241008
CATEGORIES:節気
DURATION:P1DT
END:VEVENT
BEGIN:VEVENT
UID:bTha4fqwMVNyJ5wlfi_62
SUMMARY:一粒万倍日
DTSTAMP:20260423T180151Z
DTSTART;VALUE=DATE:20241009
CATEGORIES:選日
DURATION:P1DT
END:VEVENT
BEGIN:VEVENT
UID:XPFxOvBJm64MEGb1KEi5v
SUMMARY:天赦日
DTSTAMP:20260423T180151Z
DTSTART;VALUE=DATE:20241011
CATEGORIES:選日
DURATION:P1DT
END:VEVENT
BEGIN:VEVENT
UID:eB6033WdGEhnX2u5K8FzH
SUMMARY:一粒万倍日
DTSTAMP:20260423T180151Z
DTSTART;VALUE=DATE:20241012
CATEGORIES:選日
DURATION:P1DT
END:VEVENT
BEGIN:VEVENT
UID:so_3iXZvLucLZdnkMi_9H
SUMMARY:スポーツの日
DTSTAMP:20260423T180151Z
DTSTART;VALUE=DATE:20241014
CATEGORIES:祝日
DURATION:P1DT
END:VEVENT
BEGIN:VEVENT
UID:L1RN_h6BcbMhSZxLxpsmB
SUMMARY:一粒万倍日
DTSTAMP:20260423T180151Z
DTSTART;VALUE=DATE:20241021
CATEGORIES:選日
DURATION:P1DT
END:VEVENT
BEGIN:VEVENT
UID:Oc4pO6JFyZr66N4BC7szh
SUMMARY:霜降
DTSTAMP:20260423T180151Z
DTSTART;VALUE=DATE:20241023
CATEGORIES:節気
DURATION:P1DT
END:VEVENT
BEGIN:VEVENT
UID:cJn675jwVYyOwsvaddBxM
SUMMARY:一粒万倍日
DTSTAMP:20260423T180151Z
DTSTART;VALUE=DATE:20241024
CATEGORIES:選日
DURATION:P1DT
END:VEVENT
BEGIN:VEVENT
UID:TlDZ9vjMuBj7q4GzLIVYw
SUMMARY:一粒万倍日
DTSTAMP:20260423T180151Z
DTSTART;VALUE=DATE:20241102
CATEGORIES:選日
DURATION:P1DT
END:VEVENT
BEGIN:VEVENT
UID:LFC_EyX2dglDRjjudypKV
SUMMARY:文化の日
DTSTAMP:20260423T180151Z
DTSTART;VALUE=DATE:20241103
CATEGORIES:祝日
DURATION:P1DT
END:VEVENT
BEGIN:VEVENT
UID:SES6uulqNRwZ5kVNvUIFl
SUMMARY:文化の日 振替休日
DTSTAMP:20260423T180151Z
DTSTART;VALUE=DATE:20241104
CATEGORIES:祝日
DURATION:P1DT
END:VEVENT
BEGIN:VEVENT
UID:Vu048N4j-Ikyu5DNBe66Q
SUMMARY:一粒万倍日
DTSTAMP:20260423T180151Z
DTSTART;VALUE=DATE:20241105
CATEGORIES:選日
DURATION:P1DT
END:VEVENT
BEGIN:VEVENT
UID:7vq_Dz3m7psrvp6yKyQuP
SUMMARY:立冬
DTSTAMP:20260423T180151Z
DTSTART;VALUE=DATE:20241107
CATEGORIES:節気
DURATION:P1DT
END:VEVENT
BEGIN:VEVENT
UID:XQv1aawNGkYBkAYGbb_Qh
SUMMARY:一粒万倍日
DTSTAMP:20260423T180151Z
DTSTART;VALUE=DATE:20241117
CATEGORIES:選日
DURATION:P1DT
END:VEVENT
BEGIN:VEVENT
UID:cKqSaOEezTXL7jD6vypVL
SUMMARY:一粒万倍日
DTSTAMP:20260423T180151Z
DTSTART;VALUE=DATE:20241118
CATEGORIES:選日
DURATION:P1DT
END:VEVENT
BEGIN:VEVENT
UID:jJWCGjbH-S149g602X7t2
SUMMARY:小雪
DTSTAMP:20260423T180151Z
DTSTART;VALUE=DATE:20241122
CATEGORIES:節気
DURATION:P1DT
END:VEVENT
BEGIN:VEVENT
UID:tzE9XPaDIXNXAIecOXn5n
SUMMARY:勤労感謝の日
DTSTAMP:20260423T180151Z
DTSTART;VALUE=DATE:20241123
CATEGORIES:祝日
DURATION:P1DT
END:VEVENT
BEGIN:VEVENT
UID:g8qsoa0KU-1H8i-J-mEa6
SUMMARY:一粒万倍日
DTSTAMP:20260423T180151Z
DTSTART;VALUE=DATE:20241129
CATEGORIES:選日
DURATION:P1DT
END:VEVENT
BEGIN:VEVENT
UID:zKjN2D06CN6ZzdwYiY9uf
SUMMARY:一粒万倍日
DTSTAMP:20260423T180151Z
DTSTART;VALUE=DATE:20241130
CATEGORIES:選日
DURATION:P1DT
END:VEVENT
BEGIN:VEVENT
UID:HRDVPfvCes9TAIJtDsxKz
SUMMARY:大雪
DTSTAMP:20260423T180151Z
DTSTART;VALUE=DATE:20241206
CATEGORIES:節気
DURATION:P1DT
END:VEVENT
BEGIN:VEVENT
UID:64RRSpaJMnYfHvBW3jwfQ
SUMMARY:一粒万倍日
DTSTAMP:20260423T180151Z
DTSTART;VALUE=DATE:20241213
CATEGORIES:選日
DURATION:P1DT
END:VEVENT
BEGIN:VEVENT
UID:wojmfo-JyIHlOeytG7GEE
SUMMARY:一粒万倍日
DTSTAMP:20260423T180151Z
DTSTART;VALUE=DATE:20241214
CATEGORIES:選日
DURATION:P1DT
END:VEVENT
BEGIN:VEVENT
UID:g7suFlPOIJfexuotkGVXr
SUMMARY:冬至
DTSTAMP:20260423T180151Z
DTSTART;VALUE=DATE:20241221
CATEGORIES:節気
DURATION:P1DT
END:VEVENT
BEGIN:VEVENT
UID:WlabxiznC3rL0SR5n5Op5
SUMMARY:一粒万倍日
DTSTAMP:20260423T180151Z
DTSTART;VALUE=DATE:20241225
CATEGORIES:選日
DURATION:P1DT
END:VEVENT
BEGIN:VEVENT
UID:J1YoTmJNDiZmf8NGbd8rd
SUMMARY:一粒万倍日
DTSTAMP:20260423T180151Z
DTSTART;VALUE=DATE:20241226
CATEGORIES:選日
DURATION:P1DT
END:VEVENT
BEGIN:VEVENT
UID:2irDv8dGytLiofHaEWyPy
SUMMARY:天赦日
DTSTAMP:20260423T180151Z
DTSTART;VALUE=DATE:20241226
CATEGORIES:選日
DURATION:P1DT
END:VEVENT
END:VCALENDAR
