BEGIN:VCALENDAR
VERSION:2.0
CALSCALE:GREGORIAN
PRODID:adamgibbons/ics
METHOD:PUBLISH
X-WR-CALNAME:koyomi
X-PUBLISHED-TTL:PT1H
BEGIN:VEVENT
UID:8SIp9BPi_6VuGsZxwxm7T
SUMMARY:元日
DTSTAMP:20260423T180151Z
DTSTART;VALUE=DATE:20250101
CATEGORIES:祝日
DURATION:P1DT
END:VEVENT
BEGIN:VEVENT
UID:PDTL9t9wH6s-h6oqsuI4i
SUMMARY:小寒
DTSTAMP:20260423T180151Z
DTSTART;VALUE=DATE:20250105
CATEGORIES:節気
DURATION:P1DT
END:VEVENT
BEGIN:VEVENT
UID:T4a-7PziWCqnJiuMIEd_P
SUMMARY:一粒万倍日
DTSTAMP:20260423T180151Z
DTSTART;VALUE=DATE:20250107
CATEGORIES:選日
DURATION:P1DT
END:VEVENT
BEGIN:VEVENT
UID:XFE7BTPqj5OVW3cdVSkzN
SUMMARY:一粒万倍日
DTSTAMP:20260423T180151Z
DTSTART;VALUE=DATE:20250110
CATEGORIES:選日
DURATION:P1DT
END:VEVENT
BEGIN:VEVENT
UID:vYsNdwefMoNo_omG7vMM-
SUMMARY:成人の日
DTSTAMP:20260423T180151Z
DTSTART;VALUE=DATE:20250113
CATEGORIES:祝日
DURATION:P1DT
END:VEVENT
BEGIN:VEVENT
UID:eHzlAGuOsTDGsjN9IXoVY
SUMMARY:一粒万倍日
DTSTAMP:20260423T180151Z
DTSTART;VALUE=DATE:20250119
CATEGORIES:選日
DURATION:P1DT
END:VEVENT
BEGIN:VEVENT
UID:Yt7r_VytR0-0qwrq0ooTt
SUMMARY:大寒
DTSTAMP:20260423T180151Z
DTSTART;VALUE=DATE:20250120
CATEGORIES:節気
DURATION:P1DT
END:VEVENT
BEGIN:VEVENT
UID:6yLKqc78-_aTMQxVsuLTp
SUMMARY:一粒万倍日
DTSTAMP:20260423T180151Z
DTSTART;VALUE=DATE:20250122
CATEGORIES:選日
DURATION:P1DT
END:VEVENT
BEGIN:VEVENT
UID:iLeSQQEdJJLpyOC_y7-3t
SUMMARY:一粒万倍日
DTSTAMP:20260423T180151Z
DTSTART;VALUE=DATE:20250131
CATEGORIES:選日
DURATION:P1DT
END:VEVENT
BEGIN:VEVENT
UID:xMqqNhlRtPdHOMPRI6NeP
SUMMARY:立春
DTSTAMP:20260423T180151Z
DTSTART;VALUE=DATE:20250203
CATEGORIES:節気
DURATION:P1DT
END:VEVENT
BEGIN:VEVENT
UID:e8i1b0E8ArWKHMho1cILC
SUMMARY:一粒万倍日
DTSTAMP:20260423T180151Z
DTSTART;VALUE=DATE:20250206
CATEGORIES:選日
DURATION:P1DT
END:VEVENT
BEGIN:VEVENT
UID:_AQlqu4vWMwRQ41lLedZ2
SUMMARY:建国記念の日
DTSTAMP:20260423T180151Z
DTSTART;VALUE=DATE:20250211
CATEGORIES:祝日
DURATION:P1DT
END:VEVENT
BEGIN:VEVENT
UID:tP-dNdGzlGgWstYLNSRaO
SUMMARY:一粒万倍日
DTSTAMP:20260423T180151Z
DTSTART;VALUE=DATE:20250213
CATEGORIES:選日
DURATION:P1DT
END:VEVENT
BEGIN:VEVENT
UID:v-ZIfk4CwMbTFprdsv7fV
SUMMARY:一粒万倍日
DTSTAMP:20260423T180151Z
DTSTART;VALUE=DATE:20250218
CATEGORIES:選日
DURATION:P1DT
END:VEVENT
BEGIN:VEVENT
UID:T48oTPd82w7IgHcObpFvI
SUMMARY:雨水
DTSTAMP:20260423T180151Z
DTSTART;VALUE=DATE:20250218
CATEGORIES:節気
DURATION:P1DT
END:VEVENT
BEGIN:VEVENT
UID:ChWP2u_vy52lJ32Hxcwty
SUMMARY:天皇誕生日
DTSTAMP:20260423T180151Z
DTSTART;VALUE=DATE:20250223
CATEGORIES:祝日
DURATION:P1DT
END:VEVENT
BEGIN:VEVENT
UID:O9UUPFeqFiAANMjOHZ2JL
SUMMARY:天皇誕生日 振替休日
DTSTAMP:20260423T180151Z
DTSTART;VALUE=DATE:20250224
CATEGORIES:祝日
DURATION:P1DT
END:VEVENT
BEGIN:VEVENT
UID:D1a9JmCnkxOUWo8BXFkPC
SUMMARY:一粒万倍日
DTSTAMP:20260423T180151Z
DTSTART;VALUE=DATE:20250225
CATEGORIES:選日
DURATION:P1DT
END:VEVENT
BEGIN:VEVENT
UID:YgLgLSNYLlvOAdxBuBhbh
SUMMARY:一粒万倍日
DTSTAMP:20260423T180151Z
DTSTART;VALUE=DATE:20250302
CATEGORIES:選日
DURATION:P1DT
END:VEVENT
BEGIN:VEVENT
UID:yVzED5m3OJvVkIFAF4Sc_
SUMMARY:一粒万倍日
DTSTAMP:20260423T180151Z
DTSTART;VALUE=DATE:20250305
CATEGORIES:選日
DURATION:P1DT
END:VEVENT
BEGIN:VEVENT
UID:vSXPIOA-WTe4kNvM3tgoQ
SUMMARY:啓蟄
DTSTAMP:20260423T180151Z
DTSTART;VALUE=DATE:20250305
CATEGORIES:節気
DURATION:P1DT
END:VEVENT
BEGIN:VEVENT
UID:QJtRqqs12diK87oKKxCq0
SUMMARY:一粒万倍日
DTSTAMP:20260423T180151Z
DTSTART;VALUE=DATE:20250310
CATEGORIES:選日
DURATION:P1DT
END:VEVENT
BEGIN:VEVENT
UID:F8T84UZ6pAs8STNRW-RUE
SUMMARY:天赦日
DTSTAMP:20260423T180151Z
DTSTART;VALUE=DATE:20250310
CATEGORIES:選日
DURATION:P1DT
END:VEVENT
BEGIN:VEVENT
UID:cEnCz25ZNRHQOuVZ8rAr7
SUMMARY:一粒万倍日
DTSTAMP:20260423T180151Z
DTSTART;VALUE=DATE:20250317
CATEGORIES:選日
DURATION:P1DT
END:VEVENT
BEGIN:VEVENT
UID:XAqEPHgMRqe9S1AaaD6Mr
SUMMARY:春分の日
DTSTAMP:20260423T180151Z
DTSTART;VALUE=DATE:20250320
CATEGORIES:祝日
DURATION:P1DT
END:VEVENT
BEGIN:VEVENT
UID:b-6GRzQMrtp4quS6q5nmH
SUMMARY:春分
DTSTAMP:20260423T180151Z
DTSTART;VALUE=DATE:20250320
CATEGORIES:節気
DURATION:P1DT
END:VEVENT
BEGIN:VEVENT
UID:QFTe9tPbQ22k48GQemncJ
SUMMARY:一粒万倍日
DTSTAMP:20260423T180151Z
DTSTART;VALUE=DATE:20250322
CATEGORIES:選日
DURATION:P1DT
END:VEVENT
BEGIN:VEVENT
UID:g6Ferqqj2GHuq-VihWazc
SUMMARY:一粒万倍日
DTSTAMP:20260423T180151Z
DTSTART;VALUE=DATE:20250329
CATEGORIES:選日
DURATION:P1DT
END:VEVENT
BEGIN:VEVENT
UID:d60m-B3zby3ifQl5XzB2S
SUMMARY:一粒万倍日
DTSTAMP:20260423T180151Z
DTSTART;VALUE=DATE:20250403
CATEGORIES:選日
DURATION:P1DT
END:VEVENT
BEGIN:VEVENT
UID:ZmQjOmgP3AbG8VCINtyLX
SUMMARY:一粒万倍日
DTSTAMP:20260423T180151Z
DTSTART;VALUE=DATE:20250404
CATEGORIES:選日
DURATION:P1DT
END:VEVENT
BEGIN:VEVENT
UID:qJSm6dtr_Vgr8muyl_XFh
SUMMARY:清明
DTSTAMP:20260423T180151Z
DTSTART;VALUE=DATE:20250404
CATEGORIES:節気
DURATION:P1DT
END:VEVENT
BEGIN:VEVENT
UID:VlPsW2Ju2NIR4f1LIzVqw
SUMMARY:一粒万倍日
DTSTAMP:20260423T180151Z
DTSTART;VALUE=DATE:20250413
CATEGORIES:選日
DURATION:P1DT
END:VEVENT
BEGIN:VEVENT
UID:JZEi5loELYbQgwJrf96rQ
SUMMARY:一粒万倍日
DTSTAMP:20260423T180151Z
DTSTART;VALUE=DATE:20250416
CATEGORIES:選日
DURATION:P1DT
END:VEVENT
BEGIN:VEVENT
UID:6k2a5Ehbs9o5I5RxyfhXk
SUMMARY:穀雨
DTSTAMP:20260423T180151Z
DTSTART;VALUE=DATE:20250420
CATEGORIES:節気
DURATION:P1DT
END:VEVENT
BEGIN:VEVENT
UID:6QfdBj-g0rZt495Y_jDE1
SUMMARY:一粒万倍日
DTSTAMP:20260423T180151Z
DTSTART;VALUE=DATE:20250425
CATEGORIES:選日
DURATION:P1DT
END:VEVENT
BEGIN:VEVENT
UID:Npo85u_LLoTd97JNtZdf2
SUMMARY:一粒万倍日
DTSTAMP:20260423T180151Z
DTSTART;VALUE=DATE:20250428
CATEGORIES:選日
DURATION:P1DT
END:VEVENT
BEGIN:VEVENT
UID:OxDjHF0aALEc2W-QFSC6v
SUMMARY:昭和の日
DTSTAMP:20260423T180151Z
DTSTART;VALUE=DATE:20250429
CATEGORIES:祝日
DURATION:P1DT
END:VEVENT
BEGIN:VEVENT
UID:EbFqj6WbINzxM1giQX6Yu
SUMMARY:憲法記念日
DTSTAMP:20260423T180151Z
DTSTART;VALUE=DATE:20250503
CATEGORIES:祝日
DURATION:P1DT
END:VEVENT
BEGIN:VEVENT
UID:woJH7m_atiBYpTTuwyKQj
SUMMARY:みどりの日
DTSTAMP:20260423T180151Z
DTSTART;VALUE=DATE:20250504
CATEGORIES:祝日
DURATION:P1DT
END:VEVENT
BEGIN:VEVENT
UID:Lwqxz0XZNfF74hKZEsh1Q
SUMMARY:こどもの日
DTSTAMP:20260423T180151Z
DTSTART;VALUE=DATE:20250505
CATEGORIES:祝日
DURATION:P1DT
END:VEVENT
BEGIN:VEVENT
UID:qbk613YVde8YW69pVZvrm
SUMMARY:立夏
DTSTAMP:20260423T180151Z
DTSTART;VALUE=DATE:20250505
CATEGORIES:節気
DURATION:P1DT
END:VEVENT
BEGIN:VEVENT
UID:tXnPf8Dmg-pICynBZfX2J
SUMMARY:こどもの日 振替休日
DTSTAMP:20260423T180151Z
DTSTART;VALUE=DATE:20250506
CATEGORIES:祝日
DURATION:P1DT
END:VEVENT
BEGIN:VEVENT
UID:A-z1sQUKahmnPFiLbiVFX
SUMMARY:一粒万倍日
DTSTAMP:20260423T180151Z
DTSTART;VALUE=DATE:20250510
CATEGORIES:選日
DURATION:P1DT
END:VEVENT
BEGIN:VEVENT
UID:c-8fhNIw6affBPvsd8uq0
SUMMARY:一粒万倍日
DTSTAMP:20260423T180151Z
DTSTART;VALUE=DATE:20250511
CATEGORIES:選日
DURATION:P1DT
END:VEVENT
BEGIN:VEVENT
UID:JniQjt7Kl5EszoN-FnZz8
SUMMARY:小満
DTSTAMP:20260423T180151Z
DTSTART;VALUE=DATE:20250521
CATEGORIES:節気
DURATION:P1DT
END:VEVENT
BEGIN:VEVENT
UID:qf3iV6hE9F9Z_pTmRmWio
SUMMARY:一粒万倍日
DTSTAMP:20260423T180151Z
DTSTART;VALUE=DATE:20250522
CATEGORIES:選日
DURATION:P1DT
END:VEVENT
BEGIN:VEVENT
UID:oCLyGvA1XoXF_6rbaxWIB
SUMMARY:一粒万倍日
DTSTAMP:20260423T180151Z
DTSTART;VALUE=DATE:20250523
CATEGORIES:選日
DURATION:P1DT
END:VEVENT
BEGIN:VEVENT
UID:moo1t02rwXoZphTE0ptkj
SUMMARY:天赦日
DTSTAMP:20260423T180151Z
DTSTART;VALUE=DATE:20250525
CATEGORIES:選日
DURATION:P1DT
END:VEVENT
BEGIN:VEVENT
UID:xke2Regfm39PUSZ28bv2A
SUMMARY:一粒万倍日
DTSTAMP:20260423T180151Z
DTSTART;VALUE=DATE:20250603
CATEGORIES:選日
DURATION:P1DT
END:VEVENT
BEGIN:VEVENT
UID:me3UpEiYTv8Qe8IoyCHYe
SUMMARY:一粒万倍日
DTSTAMP:20260423T180151Z
DTSTART;VALUE=DATE:20250604
CATEGORIES:選日
DURATION:P1DT
END:VEVENT
BEGIN:VEVENT
UID:2d5nYIps2gQiWpjaWkPDD
SUMMARY:一粒万倍日
DTSTAMP:20260423T180151Z
DTSTART;VALUE=DATE:20250605
CATEGORIES:選日
DURATION:P1DT
END:VEVENT
BEGIN:VEVENT
UID:r-1mdBoQCwkhpn9Hw6QSW
SUMMARY:芒種
DTSTAMP:20260423T180151Z
DTSTART;VALUE=DATE:20250605
CATEGORIES:節気
DURATION:P1DT
END:VEVENT
BEGIN:VEVENT
UID:Zt6VMK4AP5kTEq4zpoBf3
SUMMARY:一粒万倍日
DTSTAMP:20260423T180151Z
DTSTART;VALUE=DATE:20250606
CATEGORIES:選日
DURATION:P1DT
END:VEVENT
BEGIN:VEVENT
UID:rEIk3gt4OJ4hmr_aDFOVo
SUMMARY:一粒万倍日
DTSTAMP:20260423T180151Z
DTSTART;VALUE=DATE:20250617
CATEGORIES:選日
DURATION:P1DT
END:VEVENT
BEGIN:VEVENT
UID:vqQ_am_ljiPgCzESnnxD3
SUMMARY:一粒万倍日
DTSTAMP:20260423T180151Z
DTSTART;VALUE=DATE:20250618
CATEGORIES:選日
DURATION:P1DT
END:VEVENT
BEGIN:VEVENT
UID:FJxLQOtQR5_ne-NsUm-E5
SUMMARY:夏至
DTSTAMP:20260423T180151Z
DTSTART;VALUE=DATE:20250621
CATEGORIES:節気
DURATION:P1DT
END:VEVENT
BEGIN:VEVENT
UID:yD7pJXnwNQnw3daCUSjnV
SUMMARY:一粒万倍日
DTSTAMP:20260423T180151Z
DTSTART;VALUE=DATE:20250629
CATEGORIES:選日
DURATION:P1DT
END:VEVENT
BEGIN:VEVENT
UID:GO_jbvq6E6aocflmf5wAc
SUMMARY:一粒万倍日
DTSTAMP:20260423T180151Z
DTSTART;VALUE=DATE:20250630
CATEGORIES:選日
DURATION:P1DT
END:VEVENT
BEGIN:VEVENT
UID:0wIUW6jiGg9v7Dr084f2d
SUMMARY:小暑
DTSTAMP:20260423T180151Z
DTSTART;VALUE=DATE:20250707
CATEGORIES:節気
DURATION:P1DT
END:VEVENT
BEGIN:VEVENT
UID:nQTjeQZhOfKGbkHDJ8e4T
SUMMARY:一粒万倍日
DTSTAMP:20260423T180151Z
DTSTART;VALUE=DATE:20250712
CATEGORIES:選日
DURATION:P1DT
END:VEVENT
BEGIN:VEVENT
UID:ND19iiZ1ip4AqxUw5j05h
SUMMARY:一粒万倍日
DTSTAMP:20260423T180151Z
DTSTART;VALUE=DATE:20250715
CATEGORIES:選日
DURATION:P1DT
END:VEVENT
BEGIN:VEVENT
UID:uJhDPYY-euA7OTT9Ht29h
SUMMARY:海の日
DTSTAMP:20260423T180151Z
DTSTART;VALUE=DATE:20250721
CATEGORIES:祝日
DURATION:P1DT
END:VEVENT
BEGIN:VEVENT
UID:VkM6iJagoMiwaUItFOuI5
SUMMARY:大暑
DTSTAMP:20260423T180151Z
DTSTART;VALUE=DATE:20250722
CATEGORIES:節気
DURATION:P1DT
END:VEVENT
BEGIN:VEVENT
UID:Hxtz5ERhWFhi9wKi8BVDh
SUMMARY:一粒万倍日
DTSTAMP:20260423T180151Z
DTSTART;VALUE=DATE:20250724
CATEGORIES:選日
DURATION:P1DT
END:VEVENT
BEGIN:VEVENT
UID:2AjZdMlqeDMxZH1PJOcT4
SUMMARY:天赦日
DTSTAMP:20260423T180151Z
DTSTART;VALUE=DATE:20250724
CATEGORIES:選日
DURATION:P1DT
END:VEVENT
BEGIN:VEVENT
UID:Bv1yfyHvQKLwnKYJpDywl
SUMMARY:一粒万倍日
DTSTAMP:20260423T180151Z
DTSTART;VALUE=DATE:20250727
CATEGORIES:選日
DURATION:P1DT
END:VEVENT
BEGIN:VEVENT
UID:IovYR151pbc8RElSFYhxC
SUMMARY:一粒万倍日
DTSTAMP:20260423T180151Z
DTSTART;VALUE=DATE:20250805
CATEGORIES:選日
DURATION:P1DT
END:VEVENT
BEGIN:VEVENT
UID:5siZTzEtA37EOgozEt2oN
SUMMARY:天赦日
DTSTAMP:20260423T180151Z
DTSTART;VALUE=DATE:20250807
CATEGORIES:選日
DURATION:P1DT
END:VEVENT
BEGIN:VEVENT
UID:bpXdpN5eBHOrNA2Uebdaa
SUMMARY:立秋
DTSTAMP:20260423T180151Z
DTSTART;VALUE=DATE:20250807
CATEGORIES:節気
DURATION:P1DT
END:VEVENT
BEGIN:VEVENT
UID:gkXxvEGzH2-4mIn2wdIGJ
SUMMARY:山の日
DTSTAMP:20260423T180151Z
DTSTART;VALUE=DATE:20250811
CATEGORIES:祝日
DURATION:P1DT
END:VEVENT
BEGIN:VEVENT
UID:JsGBQcEJ_Udyg1nteTytQ
SUMMARY:一粒万倍日
DTSTAMP:20260423T180151Z
DTSTART;VALUE=DATE:20250811
CATEGORIES:選日
DURATION:P1DT
END:VEVENT
BEGIN:VEVENT
UID:ns4lhwR0vbdxqV_oSGaCe
SUMMARY:一粒万倍日
DTSTAMP:20260423T180151Z
DTSTART;VALUE=DATE:20250818
CATEGORIES:選日
DURATION:P1DT
END:VEVENT
BEGIN:VEVENT
UID:Ce5Vc1dfjrh-44EP4kDl0
SUMMARY:一粒万倍日
DTSTAMP:20260423T180151Z
DTSTART;VALUE=DATE:20250823
CATEGORIES:選日
DURATION:P1DT
END:VEVENT
BEGIN:VEVENT
UID:MNQrOPB5zWr3EiDr0Cjnl
SUMMARY:処暑
DTSTAMP:20260423T180151Z
DTSTART;VALUE=DATE:20250823
CATEGORIES:節気
DURATION:P1DT
END:VEVENT
BEGIN:VEVENT
UID:_gkGDTlZYxABgsJUKsqt8
SUMMARY:一粒万倍日
DTSTAMP:20260423T180151Z
DTSTART;VALUE=DATE:20250830
CATEGORIES:選日
DURATION:P1DT
END:VEVENT
BEGIN:VEVENT
UID:-7qsM5xJDS8n1fBuS61rk
SUMMARY:一粒万倍日
DTSTAMP:20260423T180151Z
DTSTART;VALUE=DATE:20250904
CATEGORIES:選日
DURATION:P1DT
END:VEVENT
BEGIN:VEVENT
UID:S6z2SaCGipTOaEeNI6K4-
SUMMARY:一粒万倍日
DTSTAMP:20260423T180151Z
DTSTART;VALUE=DATE:20250907
CATEGORIES:選日
DURATION:P1DT
END:VEVENT
BEGIN:VEVENT
UID:HDgEm9KslHQ-mT8jLSlRQ
SUMMARY:白露
DTSTAMP:20260423T180151Z
DTSTART;VALUE=DATE:20250907
CATEGORIES:節気
DURATION:P1DT
END:VEVENT
BEGIN:VEVENT
UID:_HbJa6a7mSxf9STDqt5oG
SUMMARY:一粒万倍日
DTSTAMP:20260423T180151Z
DTSTART;VALUE=DATE:20250912
CATEGORIES:選日
DURATION:P1DT
END:VEVENT
BEGIN:VEVENT
UID:ffdbJsyMy793hkatkOtWq
SUMMARY:敬老の日
DTSTAMP:20260423T180151Z
DTSTART;VALUE=DATE:20250915
CATEGORIES:祝日
DURATION:P1DT
END:VEVENT
BEGIN:VEVENT
UID:wjzoJhsTYD0H5OWhGqhBg
SUMMARY:一粒万倍日
DTSTAMP:20260423T180151Z
DTSTART;VALUE=DATE:20250919
CATEGORIES:選日
DURATION:P1DT
END:VEVENT
BEGIN:VEVENT
UID:U1yKZBHsJazG-EjalOs-5
SUMMARY:秋分の日
DTSTAMP:20260423T180151Z
DTSTART;VALUE=DATE:20250923
CATEGORIES:祝日
DURATION:P1DT
END:VEVENT
BEGIN:VEVENT
UID:1eo5hdONW6FXolGli6VBs
SUMMARY:秋分
DTSTAMP:20260423T180151Z
DTSTART;VALUE=DATE:20250923
CATEGORIES:節気
DURATION:P1DT
END:VEVENT
BEGIN:VEVENT
UID:qRYU5k6UD_Yqv1wDAm23q
SUMMARY:一粒万倍日
DTSTAMP:20260423T180151Z
DTSTART;VALUE=DATE:20250924
CATEGORIES:選日
DURATION:P1DT
END:VEVENT
BEGIN:VEVENT
UID:vU0bUSwRf0xwyZ1ZNA1Mc
SUMMARY:一粒万倍日
DTSTAMP:20260423T180151Z
DTSTART;VALUE=DATE:20251001
CATEGORIES:選日
DURATION:P1DT
END:VEVENT
BEGIN:VEVENT
UID:gUlMMgxGOK0WLSFD51z5Q
SUMMARY:一粒万倍日
DTSTAMP:20260423T180151Z
DTSTART;VALUE=DATE:20251006
CATEGORIES:選日
DURATION:P1DT
END:VEVENT
BEGIN:VEVENT
UID:DePy_JfL0wQxjZwR_GVaB
SUMMARY:天赦日
DTSTAMP:20260423T180151Z
DTSTART;VALUE=DATE:20251006
CATEGORIES:選日
DURATION:P1DT
END:VEVENT
BEGIN:VEVENT
UID:DA5FRgxPkV0Sx18ZC1xB0
SUMMARY:寒露
DTSTAMP:20260423T180151Z
DTSTART;VALUE=DATE:20251008
CATEGORIES:節気
DURATION:P1DT
END:VEVENT
BEGIN:VEVENT
UID:tt_xurhkjM7A-iax7xOt8
SUMMARY:スポーツの日
DTSTAMP:20260423T180151Z
DTSTART;VALUE=DATE:20251013
CATEGORIES:祝日
DURATION:P1DT
END:VEVENT
BEGIN:VEVENT
UID:BzLr4NB9qTLvz_xfFafjE
SUMMARY:一粒万倍日
DTSTAMP:20260423T180151Z
DTSTART;VALUE=DATE:20251016
CATEGORIES:選日
DURATION:P1DT
END:VEVENT
BEGIN:VEVENT
UID:B8n6klWIO5-0LBnK7i-V6
SUMMARY:一粒万倍日
DTSTAMP:20260423T180151Z
DTSTART;VALUE=DATE:20251019
CATEGORIES:選日
DURATION:P1DT
END:VEVENT
BEGIN:VEVENT
UID:62zuQ6tWka0U3k-X0ZUWu
SUMMARY:霜降
DTSTAMP:20260423T180151Z
DTSTART;VALUE=DATE:20251023
CATEGORIES:節気
DURATION:P1DT
END:VEVENT
BEGIN:VEVENT
UID:OX07QKuKIuGkDBGU2bF7r
SUMMARY:一粒万倍日
DTSTAMP:20260423T180151Z
DTSTART;VALUE=DATE:20251028
CATEGORIES:選日
DURATION:P1DT
END:VEVENT
BEGIN:VEVENT
UID:pYge73ifTdRujTUukUWvt
SUMMARY:一粒万倍日
DTSTAMP:20260423T180151Z
DTSTART;VALUE=DATE:20251031
CATEGORIES:選日
DURATION:P1DT
END:VEVENT
BEGIN:VEVENT
UID:PN7CvyNHH5IzNjtQZjL-K
SUMMARY:文化の日
DTSTAMP:20260423T180151Z
DTSTART;VALUE=DATE:20251103
CATEGORIES:祝日
DURATION:P1DT
END:VEVENT
BEGIN:VEVENT
UID:cBMvJ7W3lq2OUzUnPplsq
SUMMARY:立冬
DTSTAMP:20260423T180151Z
DTSTART;VALUE=DATE:20251107
CATEGORIES:節気
DURATION:P1DT
END:VEVENT
BEGIN:VEVENT
UID:igqXrduqTanQ-9W5JKQDe
SUMMARY:一粒万倍日
DTSTAMP:20260423T180151Z
DTSTART;VALUE=DATE:20251112
CATEGORIES:選日
DURATION:P1DT
END:VEVENT
BEGIN:VEVENT
UID:9azW3ktz-O2qoHM049JoT
SUMMARY:一粒万倍日
DTSTAMP:20260423T180151Z
DTSTART;VALUE=DATE:20251113
CATEGORIES:選日
DURATION:P1DT
END:VEVENT
BEGIN:VEVENT
UID:s7Qq4TXPJVdWEfhmemEdA
SUMMARY:小雪
DTSTAMP:20260423T180151Z
DTSTART;VALUE=DATE:20251122
CATEGORIES:節気
DURATION:P1DT
END:VEVENT
BEGIN:VEVENT
UID:04ODhmY4ObaDA7_Smyxem
SUMMARY:勤労感謝の日
DTSTAMP:20260423T180151Z
DTSTART;VALUE=DATE:20251123
CATEGORIES:祝日
DURATION:P1DT
END:VEVENT
BEGIN:VEVENT
UID:ck6GCEy7twXnEivmZDfId
SUMMARY:勤労感謝の日 振替休日
DTSTAMP:20260423T180151Z
DTSTART;VALUE=DATE:20251124
CATEGORIES:祝日
DURATION:P1DT
END:VEVENT
BEGIN:VEVENT
UID:wjkziUBXIaBHPRIxrx0xo
SUMMARY:一粒万倍日
DTSTAMP:20260423T180151Z
DTSTART;VALUE=DATE:20251124
CATEGORIES:選日
DURATION:P1DT
END:VEVENT
BEGIN:VEVENT
UID:5PkoVs5wjZcZhnluDwY5Q
SUMMARY:一粒万倍日
DTSTAMP:20260423T180151Z
DTSTART;VALUE=DATE:20251125
CATEGORIES:選日
DURATION:P1DT
END:VEVENT
BEGIN:VEVENT
UID:xEZLwzAFDOy1LejHrQYJz
SUMMARY:一粒万倍日
DTSTAMP:20260423T180151Z
DTSTART;VALUE=DATE:20251206
CATEGORIES:選日
DURATION:P1DT
END:VEVENT
BEGIN:VEVENT
UID:3oMcUGDF1t_ELXoCh_ZiK
SUMMARY:大雪
DTSTAMP:20260423T180151Z
DTSTART;VALUE=DATE:20251207
CATEGORIES:節気
DURATION:P1DT
END:VEVENT
BEGIN:VEVENT
UID:73BLM4dC_5hDh4HHZuDg0
SUMMARY:一粒万倍日
DTSTAMP:20260423T180151Z
DTSTART;VALUE=DATE:20251208
CATEGORIES:選日
DURATION:P1DT
END:VEVENT
BEGIN:VEVENT
UID:DkybD56yQ2Bo69StnaGf2
SUMMARY:一粒万倍日
DTSTAMP:20260423T180151Z
DTSTART;VALUE=DATE:20251209
CATEGORIES:選日
DURATION:P1DT
END:VEVENT
BEGIN:VEVENT
UID:wTpp33GQGc85Uu0RtfdxT
SUMMARY:一粒万倍日
DTSTAMP:20260423T180151Z
DTSTART;VALUE=DATE:20251220
CATEGORIES:選日
DURATION:P1DT
END:VEVENT
BEGIN:VEVENT
UID:k7NpfiBU5fALa_Bn9wsJl
SUMMARY:一粒万倍日
DTSTAMP:20260423T180151Z
DTSTART;VALUE=DATE:20251221
CATEGORIES:選日
DURATION:P1DT
END:VEVENT
BEGIN:VEVENT
UID:D0aWm7239CEyev3AUB19x
SUMMARY:天赦日
DTSTAMP:20260423T180151Z
DTSTART;VALUE=DATE:20251221
CATEGORIES:選日
DURATION:P1DT
END:VEVENT
BEGIN:VEVENT
UID:BH6_Kd37u0eim5zW9LLV-
SUMMARY:冬至
DTSTAMP:20260423T180151Z
DTSTART;VALUE=DATE:20251221
CATEGORIES:節気
DURATION:P1DT
END:VEVENT
END:VCALENDAR
