BEGIN:VCALENDAR
VERSION:2.0
CALSCALE:GREGORIAN
PRODID:adamgibbons/ics
METHOD:PUBLISH
X-WR-CALNAME:koyomi
X-PUBLISHED-TTL:PT1H
BEGIN:VEVENT
UID:DeNivhPxlb8lQrttR17f_
SUMMARY:元日
DTSTAMP:20260423T161155Z
DTSTART;VALUE=DATE:20260101
CATEGORIES:祝日
DURATION:P1DT
END:VEVENT
BEGIN:VEVENT
UID:d9EXqnZweNVOdrBQIvccq
SUMMARY:一粒万倍日
DTSTAMP:20260423T161155Z
DTSTART;VALUE=DATE:20260101
CATEGORIES:選日
DURATION:P1DT
END:VEVENT
BEGIN:VEVENT
UID:_b3MR2Lttw6LaE_QDIchK
SUMMARY:一粒万倍日
DTSTAMP:20260423T161155Z
DTSTART;VALUE=DATE:20260102
CATEGORIES:選日
DURATION:P1DT
END:VEVENT
BEGIN:VEVENT
UID:TuUxPhlcSySg6eY8dw8jJ
SUMMARY:一粒万倍日
DTSTAMP:20260423T161155Z
DTSTART;VALUE=DATE:20260105
CATEGORIES:選日
DURATION:P1DT
END:VEVENT
BEGIN:VEVENT
UID:WXdOJSlYm4r7oL8AK6hH0
SUMMARY:小寒
DTSTAMP:20260423T161155Z
DTSTART;VALUE=DATE:20260105
CATEGORIES:節気
DURATION:P1DT
END:VEVENT
BEGIN:VEVENT
UID:yPitAa23G54Nnygf1P2Sb
SUMMARY:成人の日
DTSTAMP:20260423T161155Z
DTSTART;VALUE=DATE:20260112
CATEGORIES:祝日
DURATION:P1DT
END:VEVENT
BEGIN:VEVENT
UID:1X7J3TMEGSVOXelhMHsTs
SUMMARY:一粒万倍日
DTSTAMP:20260423T161155Z
DTSTART;VALUE=DATE:20260114
CATEGORIES:選日
DURATION:P1DT
END:VEVENT
BEGIN:VEVENT
UID:UVJN44yOssifgxJNh5nv8
SUMMARY:一粒万倍日
DTSTAMP:20260423T161155Z
DTSTART;VALUE=DATE:20260117
CATEGORIES:選日
DURATION:P1DT
END:VEVENT
BEGIN:VEVENT
UID:AS-mNq-bSh5fRMttCaceI
SUMMARY:大寒
DTSTAMP:20260423T161155Z
DTSTART;VALUE=DATE:20260120
CATEGORIES:節気
DURATION:P1DT
END:VEVENT
BEGIN:VEVENT
UID:i2Mt8tyEq0n9BJQC85DAa
SUMMARY:一粒万倍日
DTSTAMP:20260423T161155Z
DTSTART;VALUE=DATE:20260126
CATEGORIES:選日
DURATION:P1DT
END:VEVENT
BEGIN:VEVENT
UID:P9LIgfAOrjyMRWd6mTVYE
SUMMARY:一粒万倍日
DTSTAMP:20260423T161155Z
DTSTART;VALUE=DATE:20260129
CATEGORIES:選日
DURATION:P1DT
END:VEVENT
BEGIN:VEVENT
UID:NRwL2NEIxEWdjPa_axi8t
SUMMARY:立春
DTSTAMP:20260423T161155Z
DTSTART;VALUE=DATE:20260204
CATEGORIES:節気
DURATION:P1DT
END:VEVENT
BEGIN:VEVENT
UID:zhsaV84zBdXMCSRdOVa6V
SUMMARY:一粒万倍日
DTSTAMP:20260423T161155Z
DTSTART;VALUE=DATE:20260208
CATEGORIES:選日
DURATION:P1DT
END:VEVENT
BEGIN:VEVENT
UID:WzqGZc5UQGkqsmi4E2nod
SUMMARY:建国記念の日
DTSTAMP:20260423T161155Z
DTSTART;VALUE=DATE:20260211
CATEGORIES:祝日
DURATION:P1DT
END:VEVENT
BEGIN:VEVENT
UID:cau1Av2BnzNt45ItjHSGx
SUMMARY:一粒万倍日
DTSTAMP:20260423T161155Z
DTSTART;VALUE=DATE:20260213
CATEGORIES:選日
DURATION:P1DT
END:VEVENT
BEGIN:VEVENT
UID:FhAC_DHiEFW_aNJuEXygK
SUMMARY:雨水
DTSTAMP:20260423T161155Z
DTSTART;VALUE=DATE:20260218
CATEGORIES:節気
DURATION:P1DT
END:VEVENT
BEGIN:VEVENT
UID:w_hjACQ6BhyKHENAYtv_a
SUMMARY:一粒万倍日
DTSTAMP:20260423T161155Z
DTSTART;VALUE=DATE:20260220
CATEGORIES:選日
DURATION:P1DT
END:VEVENT
BEGIN:VEVENT
UID:Ra7z-pj1sjnvPpgeWE9Yb
SUMMARY:天皇誕生日
DTSTAMP:20260423T161155Z
DTSTART;VALUE=DATE:20260223
CATEGORIES:祝日
DURATION:P1DT
END:VEVENT
BEGIN:VEVENT
UID:w3sVSCUHZl8BQxTtguGjh
SUMMARY:一粒万倍日
DTSTAMP:20260423T161155Z
DTSTART;VALUE=DATE:20260225
CATEGORIES:選日
DURATION:P1DT
END:VEVENT
BEGIN:VEVENT
UID:B5hCzSWNvecSFzEIC4EtF
SUMMARY:一粒万倍日
DTSTAMP:20260423T161155Z
DTSTART;VALUE=DATE:20260304
CATEGORIES:選日
DURATION:P1DT
END:VEVENT
BEGIN:VEVENT
UID:wkHWmt9PNlPK_iwK8XfYe
SUMMARY:一粒万倍日
DTSTAMP:20260423T161155Z
DTSTART;VALUE=DATE:20260305
CATEGORIES:選日
DURATION:P1DT
END:VEVENT
BEGIN:VEVENT
UID:vf8TQvh0g72Whi1z2Q-Y6
SUMMARY:天赦日
DTSTAMP:20260423T161155Z
DTSTART;VALUE=DATE:20260305
CATEGORIES:選日
DURATION:P1DT
END:VEVENT
BEGIN:VEVENT
UID:uu7swO17wgdHb_smx0Z5p
SUMMARY:啓蟄
DTSTAMP:20260423T161155Z
DTSTART;VALUE=DATE:20260305
CATEGORIES:節気
DURATION:P1DT
END:VEVENT
BEGIN:VEVENT
UID:KKtZ6oAef_3rbT2uqJ7re
SUMMARY:一粒万倍日
DTSTAMP:20260423T161155Z
DTSTART;VALUE=DATE:20260312
CATEGORIES:選日
DURATION:P1DT
END:VEVENT
BEGIN:VEVENT
UID:7h2NpqtxNAcXECc9NlyPP
SUMMARY:一粒万倍日
DTSTAMP:20260423T161155Z
DTSTART;VALUE=DATE:20260317
CATEGORIES:選日
DURATION:P1DT
END:VEVENT
BEGIN:VEVENT
UID:gR_8orh9xjzvY0ebAPeUg
SUMMARY:春分の日
DTSTAMP:20260423T161155Z
DTSTART;VALUE=DATE:20260320
CATEGORIES:祝日
DURATION:P1DT
END:VEVENT
BEGIN:VEVENT
UID:pmIZtZ9UaG0VQdIVXLO5y
SUMMARY:春分
DTSTAMP:20260423T161155Z
DTSTART;VALUE=DATE:20260320
CATEGORIES:節気
DURATION:P1DT
END:VEVENT
BEGIN:VEVENT
UID:ibNYbDFwTepJAuzzIjVNn
SUMMARY:一粒万倍日
DTSTAMP:20260423T161155Z
DTSTART;VALUE=DATE:20260324
CATEGORIES:選日
DURATION:P1DT
END:VEVENT
BEGIN:VEVENT
UID:IbXG9kbfNvGDbrSTcUaB7
SUMMARY:一粒万倍日
DTSTAMP:20260423T161155Z
DTSTART;VALUE=DATE:20260329
CATEGORIES:選日
DURATION:P1DT
END:VEVENT
BEGIN:VEVENT
UID:DCL3bWzeAwCrqFKIB0eTw
SUMMARY:清明
DTSTAMP:20260423T161155Z
DTSTART;VALUE=DATE:20260405
CATEGORIES:節気
DURATION:P1DT
END:VEVENT
BEGIN:VEVENT
UID:jbVPzOgLYizsw5P2ZhFqS
SUMMARY:一粒万倍日
DTSTAMP:20260423T161155Z
DTSTART;VALUE=DATE:20260408
CATEGORIES:選日
DURATION:P1DT
END:VEVENT
BEGIN:VEVENT
UID:i3TC2yJOi46vzOYW4rRpQ
SUMMARY:一粒万倍日
DTSTAMP:20260423T161155Z
DTSTART;VALUE=DATE:20260411
CATEGORIES:選日
DURATION:P1DT
END:VEVENT
BEGIN:VEVENT
UID:MAXhCPGmRuqCBRP8tP0wO
SUMMARY:一粒万倍日
DTSTAMP:20260423T161155Z
DTSTART;VALUE=DATE:20260420
CATEGORIES:選日
DURATION:P1DT
END:VEVENT
BEGIN:VEVENT
UID:RQBi_7ZFm0BsKgrvZhPxY
SUMMARY:穀雨
DTSTAMP:20260423T161155Z
DTSTART;VALUE=DATE:20260420
CATEGORIES:節気
DURATION:P1DT
END:VEVENT
BEGIN:VEVENT
UID:UXtICQIzOe-33POIjuqYB
SUMMARY:一粒万倍日
DTSTAMP:20260423T161155Z
DTSTART;VALUE=DATE:20260423
CATEGORIES:選日
DURATION:P1DT
END:VEVENT
BEGIN:VEVENT
UID:GkG9m1rcJhaQjsl0m8bna
SUMMARY:昭和の日
DTSTAMP:20260423T161155Z
DTSTART;VALUE=DATE:20260429
CATEGORIES:祝日
DURATION:P1DT
END:VEVENT
BEGIN:VEVENT
UID:wOWiAKlyA3NMYVAKOEztc
SUMMARY:一粒万倍日
DTSTAMP:20260423T161155Z
DTSTART;VALUE=DATE:20260502
CATEGORIES:選日
DURATION:P1DT
END:VEVENT
BEGIN:VEVENT
UID:n2JrwSvjVPH3zHWv08GNx
SUMMARY:憲法記念日
DTSTAMP:20260423T161155Z
DTSTART;VALUE=DATE:20260503
CATEGORIES:祝日
DURATION:P1DT
END:VEVENT
BEGIN:VEVENT
UID:nRb3jl1_SjLyXoPz3I1Fn
SUMMARY:みどりの日
DTSTAMP:20260423T161155Z
DTSTART;VALUE=DATE:20260504
CATEGORIES:祝日
DURATION:P1DT
END:VEVENT
BEGIN:VEVENT
UID:nYF4fJxNihHPYnl5CHW-q
SUMMARY:天赦日
DTSTAMP:20260423T161155Z
DTSTART;VALUE=DATE:20260504
CATEGORIES:選日
DURATION:P1DT
END:VEVENT
BEGIN:VEVENT
UID:OJmm7r5j2vdYr60zdOHxY
SUMMARY:こどもの日
DTSTAMP:20260423T161155Z
DTSTART;VALUE=DATE:20260505
CATEGORIES:祝日
DURATION:P1DT
END:VEVENT
BEGIN:VEVENT
UID:A72WXCwwKJBlLLnbj0IoA
SUMMARY:一粒万倍日
DTSTAMP:20260423T161155Z
DTSTART;VALUE=DATE:20260505
CATEGORIES:選日
DURATION:P1DT
END:VEVENT
BEGIN:VEVENT
UID:SJhJKLnjDbj-9eNkGA1l6
SUMMARY:立夏
DTSTAMP:20260423T161155Z
DTSTART;VALUE=DATE:20260505
CATEGORIES:節気
DURATION:P1DT
END:VEVENT
BEGIN:VEVENT
UID:c7SbEJZ2tTGGueABcsEqh
SUMMARY:こどもの日 振替休日
DTSTAMP:20260423T161155Z
DTSTART;VALUE=DATE:20260506
CATEGORIES:祝日
DURATION:P1DT
END:VEVENT
BEGIN:VEVENT
UID:vAwDMXzpyu9Lh-aJcTI7j
SUMMARY:一粒万倍日
DTSTAMP:20260423T161155Z
DTSTART;VALUE=DATE:20260506
CATEGORIES:選日
DURATION:P1DT
END:VEVENT
BEGIN:VEVENT
UID:2eoxBLFoOm1h9xtLJ0uDD
SUMMARY:一粒万倍日
DTSTAMP:20260423T161155Z
DTSTART;VALUE=DATE:20260517
CATEGORIES:選日
DURATION:P1DT
END:VEVENT
BEGIN:VEVENT
UID:yZMmAhQZqE8ME6044X4kX
SUMMARY:一粒万倍日
DTSTAMP:20260423T161155Z
DTSTART;VALUE=DATE:20260518
CATEGORIES:選日
DURATION:P1DT
END:VEVENT
BEGIN:VEVENT
UID:WbGBaSi0fTY4jMxUr3jWE
SUMMARY:天赦日
DTSTAMP:20260423T161155Z
DTSTART;VALUE=DATE:20260520
CATEGORIES:選日
DURATION:P1DT
END:VEVENT
BEGIN:VEVENT
UID:LPJkdAhvw2aNln3VkvsC_
SUMMARY:小満
DTSTAMP:20260423T161155Z
DTSTART;VALUE=DATE:20260521
CATEGORIES:節気
DURATION:P1DT
END:VEVENT
BEGIN:VEVENT
UID:q_03xkYI13ACXBYT14pQv
SUMMARY:一粒万倍日
DTSTAMP:20260423T161155Z
DTSTART;VALUE=DATE:20260529
CATEGORIES:選日
DURATION:P1DT
END:VEVENT
BEGIN:VEVENT
UID:TdZQX1QygPi3hudP0sVcO
SUMMARY:一粒万倍日
DTSTAMP:20260423T161155Z
DTSTART;VALUE=DATE:20260530
CATEGORIES:選日
DURATION:P1DT
END:VEVENT
BEGIN:VEVENT
UID:ESWsD-gNYNu7xCLAlAwwh
SUMMARY:芒種
DTSTAMP:20260423T161155Z
DTSTART;VALUE=DATE:20260605
CATEGORIES:節気
DURATION:P1DT
END:VEVENT
BEGIN:VEVENT
UID:ViJeMkudMyRIglPdS3oHt
SUMMARY:一粒万倍日
DTSTAMP:20260423T161155Z
DTSTART;VALUE=DATE:20260612
CATEGORIES:選日
DURATION:P1DT
END:VEVENT
BEGIN:VEVENT
UID:jIk-zTOi17YYDWWMvCT-H
SUMMARY:一粒万倍日
DTSTAMP:20260423T161155Z
DTSTART;VALUE=DATE:20260613
CATEGORIES:選日
DURATION:P1DT
END:VEVENT
BEGIN:VEVENT
UID:ZsHKMmk1xkbqnUU9M06D-
SUMMARY:夏至
DTSTAMP:20260423T161155Z
DTSTART;VALUE=DATE:20260621
CATEGORIES:節気
DURATION:P1DT
END:VEVENT
BEGIN:VEVENT
UID:JFxXfBD_3nzZVb8_ZxXtZ
SUMMARY:一粒万倍日
DTSTAMP:20260423T161155Z
DTSTART;VALUE=DATE:20260624
CATEGORIES:選日
DURATION:P1DT
END:VEVENT
BEGIN:VEVENT
UID:kEg8Cv7qVABLg-VSz3EIK
SUMMARY:一粒万倍日
DTSTAMP:20260423T161155Z
DTSTART;VALUE=DATE:20260625
CATEGORIES:選日
DURATION:P1DT
END:VEVENT
BEGIN:VEVENT
UID:-J_IvwU0nVpP9XjxLD9Xa
SUMMARY:一粒万倍日
DTSTAMP:20260423T161155Z
DTSTART;VALUE=DATE:20260706
CATEGORIES:選日
DURATION:P1DT
END:VEVENT
BEGIN:VEVENT
UID:KCJroe4o1hkc8tB1O0BpI
SUMMARY:一粒万倍日
DTSTAMP:20260423T161155Z
DTSTART;VALUE=DATE:20260707
CATEGORIES:選日
DURATION:P1DT
END:VEVENT
BEGIN:VEVENT
UID:RZYjv1ZmzabI10ZElMeZ8
SUMMARY:小暑
DTSTAMP:20260423T161155Z
DTSTART;VALUE=DATE:20260707
CATEGORIES:節気
DURATION:P1DT
END:VEVENT
BEGIN:VEVENT
UID:tCC-rJjDB7eK3cHY0YpIv
SUMMARY:一粒万倍日
DTSTAMP:20260423T161155Z
DTSTART;VALUE=DATE:20260710
CATEGORIES:選日
DURATION:P1DT
END:VEVENT
BEGIN:VEVENT
UID:Ui8LvXyqQusCPTy_j82uZ
SUMMARY:一粒万倍日
DTSTAMP:20260423T161155Z
DTSTART;VALUE=DATE:20260719
CATEGORIES:選日
DURATION:P1DT
END:VEVENT
BEGIN:VEVENT
UID:MEXsMeQdygiAT9VoJV_2S
SUMMARY:天赦日
DTSTAMP:20260423T161155Z
DTSTART;VALUE=DATE:20260719
CATEGORIES:選日
DURATION:P1DT
END:VEVENT
BEGIN:VEVENT
UID:pvBt8BpToqeLrLsj5Z3-0
SUMMARY:海の日
DTSTAMP:20260423T161155Z
DTSTART;VALUE=DATE:20260720
CATEGORIES:祝日
DURATION:P1DT
END:VEVENT
BEGIN:VEVENT
UID:UQjXvNyWHMhqxro8LARf3
SUMMARY:一粒万倍日
DTSTAMP:20260423T161155Z
DTSTART;VALUE=DATE:20260722
CATEGORIES:選日
DURATION:P1DT
END:VEVENT
BEGIN:VEVENT
UID:h6lWJZfcZjgZ3daB7bRTY
SUMMARY:大暑
DTSTAMP:20260423T161155Z
DTSTART;VALUE=DATE:20260723
CATEGORIES:節気
DURATION:P1DT
END:VEVENT
BEGIN:VEVENT
UID:uNj0ZAggdlOKHENigMec1
SUMMARY:一粒万倍日
DTSTAMP:20260423T161155Z
DTSTART;VALUE=DATE:20260731
CATEGORIES:選日
DURATION:P1DT
END:VEVENT
BEGIN:VEVENT
UID:A32S3NFQXlD0yK84jO95c
SUMMARY:一粒万倍日
DTSTAMP:20260423T161155Z
DTSTART;VALUE=DATE:20260803
CATEGORIES:選日
DURATION:P1DT
END:VEVENT
BEGIN:VEVENT
UID:KASNlnXjyNARFyCPYWDyM
SUMMARY:立秋
DTSTAMP:20260423T161155Z
DTSTART;VALUE=DATE:20260807
CATEGORIES:節気
DURATION:P1DT
END:VEVENT
BEGIN:VEVENT
UID:TGfmQjCtBH6LQTYPzbe1C
SUMMARY:山の日
DTSTAMP:20260423T161155Z
DTSTART;VALUE=DATE:20260811
CATEGORIES:祝日
DURATION:P1DT
END:VEVENT
BEGIN:VEVENT
UID:UNWkqJzw2167-qy8PfxRH
SUMMARY:一粒万倍日
DTSTAMP:20260423T161155Z
DTSTART;VALUE=DATE:20260813
CATEGORIES:選日
DURATION:P1DT
END:VEVENT
BEGIN:VEVENT
UID:BRvFdST-ksfMTCcA8wkox
SUMMARY:一粒万倍日
DTSTAMP:20260423T161155Z
DTSTART;VALUE=DATE:20260818
CATEGORIES:選日
DURATION:P1DT
END:VEVENT
BEGIN:VEVENT
UID:6lN-uFgvL29s0Yxvxa9bn
SUMMARY:処暑
DTSTAMP:20260423T161155Z
DTSTART;VALUE=DATE:20260823
CATEGORIES:節気
DURATION:P1DT
END:VEVENT
BEGIN:VEVENT
UID:UwzzcrLwlbSOyQbHP2RtL
SUMMARY:一粒万倍日
DTSTAMP:20260423T161155Z
DTSTART;VALUE=DATE:20260825
CATEGORIES:選日
DURATION:P1DT
END:VEVENT
BEGIN:VEVENT
UID:rpMT9j44I5XoHSpEvq7EM
SUMMARY:一粒万倍日
DTSTAMP:20260423T161155Z
DTSTART;VALUE=DATE:20260830
CATEGORIES:選日
DURATION:P1DT
END:VEVENT
BEGIN:VEVENT
UID:hK7o-hl8BZ8LpFVQ6cM9s
SUMMARY:一粒万倍日
DTSTAMP:20260423T161155Z
DTSTART;VALUE=DATE:20260906
CATEGORIES:選日
DURATION:P1DT
END:VEVENT
BEGIN:VEVENT
UID:E8YAK63O5lnR3lrNnDW9y
SUMMARY:一粒万倍日
DTSTAMP:20260423T161155Z
DTSTART;VALUE=DATE:20260907
CATEGORIES:選日
DURATION:P1DT
END:VEVENT
BEGIN:VEVENT
UID:RtjCWVd1uG3bBsK-kO5kt
SUMMARY:白露
DTSTAMP:20260423T161155Z
DTSTART;VALUE=DATE:20260907
CATEGORIES:節気
DURATION:P1DT
END:VEVENT
BEGIN:VEVENT
UID:eldOEjsDLyRF4daLXTtqI
SUMMARY:一粒万倍日
DTSTAMP:20260423T161155Z
DTSTART;VALUE=DATE:20260914
CATEGORIES:選日
DURATION:P1DT
END:VEVENT
BEGIN:VEVENT
UID:nvZTMgOOuCtCAlDWnsp7n
SUMMARY:一粒万倍日
DTSTAMP:20260423T161155Z
DTSTART;VALUE=DATE:20260919
CATEGORIES:選日
DURATION:P1DT
END:VEVENT
BEGIN:VEVENT
UID:8Tg4BgwPRzTEzWVVEU3Lx
SUMMARY:敬老の日
DTSTAMP:20260423T161155Z
DTSTART;VALUE=DATE:20260921
CATEGORIES:祝日
DURATION:P1DT
END:VEVENT
BEGIN:VEVENT
UID:1UCJy4qKF4vzz21zcmLUP
SUMMARY:休日
DTSTAMP:20260423T161155Z
DTSTART;VALUE=DATE:20260922
CATEGORIES:祝日
DURATION:P1DT
END:VEVENT
BEGIN:VEVENT
UID:DhViQBXOe3lhkTSWuXNJs
SUMMARY:秋分の日
DTSTAMP:20260423T161155Z
DTSTART;VALUE=DATE:20260923
CATEGORIES:祝日
DURATION:P1DT
END:VEVENT
BEGIN:VEVENT
UID:DdgohottZ7UWTO4TlI_Pw
SUMMARY:秋分
DTSTAMP:20260423T161155Z
DTSTART;VALUE=DATE:20260923
CATEGORIES:節気
DURATION:P1DT
END:VEVENT
BEGIN:VEVENT
UID:bP6GQLV68frdSp9N1-8kx
SUMMARY:一粒万倍日
DTSTAMP:20260423T161155Z
DTSTART;VALUE=DATE:20260926
CATEGORIES:選日
DURATION:P1DT
END:VEVENT
BEGIN:VEVENT
UID:3h8-kJ5e5WF579OcwePwD
SUMMARY:一粒万倍日
DTSTAMP:20260423T161155Z
DTSTART;VALUE=DATE:20261001
CATEGORIES:選日
DURATION:P1DT
END:VEVENT
BEGIN:VEVENT
UID:urzZMgYXjN1GlyMGtTpp_
SUMMARY:天赦日
DTSTAMP:20260423T161155Z
DTSTART;VALUE=DATE:20261001
CATEGORIES:選日
DURATION:P1DT
END:VEVENT
BEGIN:VEVENT
UID:4Mgja1YhOk_vGwaAjtCMw
SUMMARY:寒露
DTSTAMP:20260423T161155Z
DTSTART;VALUE=DATE:20261008
CATEGORIES:節気
DURATION:P1DT
END:VEVENT
BEGIN:VEVENT
UID:VkcZdqThFvP3YO0KPwNXd
SUMMARY:一粒万倍日
DTSTAMP:20260423T161155Z
DTSTART;VALUE=DATE:20261011
CATEGORIES:選日
DURATION:P1DT
END:VEVENT
BEGIN:VEVENT
UID:DEQUj6qosc48uX5A6mkGl
SUMMARY:スポーツの日
DTSTAMP:20260423T161155Z
DTSTART;VALUE=DATE:20261012
CATEGORIES:祝日
DURATION:P1DT
END:VEVENT
BEGIN:VEVENT
UID:ndurHKP3e73assziDNfk4
SUMMARY:一粒万倍日
DTSTAMP:20260423T161155Z
DTSTART;VALUE=DATE:20261014
CATEGORIES:選日
DURATION:P1DT
END:VEVENT
BEGIN:VEVENT
UID:i7M7V2budT-uLva4acoid
SUMMARY:一粒万倍日
DTSTAMP:20260423T161155Z
DTSTART;VALUE=DATE:20261023
CATEGORIES:選日
DURATION:P1DT
END:VEVENT
BEGIN:VEVENT
UID:60PiF6qsHdPUkwhp7IoD0
SUMMARY:霜降
DTSTAMP:20260423T161155Z
DTSTART;VALUE=DATE:20261023
CATEGORIES:節気
DURATION:P1DT
END:VEVENT
BEGIN:VEVENT
UID:0N6cd-SACyeBzVOKhCa1e
SUMMARY:一粒万倍日
DTSTAMP:20260423T161155Z
DTSTART;VALUE=DATE:20261026
CATEGORIES:選日
DURATION:P1DT
END:VEVENT
BEGIN:VEVENT
UID:s09uCS-q_X3Ah1YLytpiv
SUMMARY:文化の日
DTSTAMP:20260423T161155Z
DTSTART;VALUE=DATE:20261103
CATEGORIES:祝日
DURATION:P1DT
END:VEVENT
BEGIN:VEVENT
UID:wMF2a4RMiI3zbqtISUxkz
SUMMARY:一粒万倍日
DTSTAMP:20260423T161155Z
DTSTART;VALUE=DATE:20261104
CATEGORIES:選日
DURATION:P1DT
END:VEVENT
BEGIN:VEVENT
UID:x-N_c7t6-oW028ucZ58FY
SUMMARY:一粒万倍日
DTSTAMP:20260423T161155Z
DTSTART;VALUE=DATE:20261107
CATEGORIES:選日
DURATION:P1DT
END:VEVENT
BEGIN:VEVENT
UID:lqMVtSNbePDqK4JpoKE5Z
SUMMARY:立冬
DTSTAMP:20260423T161155Z
DTSTART;VALUE=DATE:20261107
CATEGORIES:節気
DURATION:P1DT
END:VEVENT
BEGIN:VEVENT
UID:TTxCxgMxBYvxu7bTt-cHD
SUMMARY:一粒万倍日
DTSTAMP:20260423T161155Z
DTSTART;VALUE=DATE:20261108
CATEGORIES:選日
DURATION:P1DT
END:VEVENT
BEGIN:VEVENT
UID:J5T9rrhOP7I4n8qXCwBPF
SUMMARY:一粒万倍日
DTSTAMP:20260423T161155Z
DTSTART;VALUE=DATE:20261119
CATEGORIES:選日
DURATION:P1DT
END:VEVENT
BEGIN:VEVENT
UID:gAwE2OtRkMLWbLXgJPhTU
SUMMARY:一粒万倍日
DTSTAMP:20260423T161155Z
DTSTART;VALUE=DATE:20261120
CATEGORIES:選日
DURATION:P1DT
END:VEVENT
BEGIN:VEVENT
UID:TOP6_hbGN1Us1ZArH01cn
SUMMARY:小雪
DTSTAMP:20260423T161155Z
DTSTART;VALUE=DATE:20261122
CATEGORIES:節気
DURATION:P1DT
END:VEVENT
BEGIN:VEVENT
UID:lQhM9ndqOfqU_OmFjkfyj
SUMMARY:勤労感謝の日
DTSTAMP:20260423T161155Z
DTSTART;VALUE=DATE:20261123
CATEGORIES:祝日
DURATION:P1DT
END:VEVENT
BEGIN:VEVENT
UID:k0bSxCheBzV3hcwWXbRpd
SUMMARY:一粒万倍日
DTSTAMP:20260423T161155Z
DTSTART;VALUE=DATE:20261201
CATEGORIES:選日
DURATION:P1DT
END:VEVENT
BEGIN:VEVENT
UID:gQBqQvOjDO1oJvtySdncM
SUMMARY:一粒万倍日
DTSTAMP:20260423T161155Z
DTSTART;VALUE=DATE:20261202
CATEGORIES:選日
DURATION:P1DT
END:VEVENT
BEGIN:VEVENT
UID:BFTfBYq4D4icEug3o4VXg
SUMMARY:大雪
DTSTAMP:20260423T161155Z
DTSTART;VALUE=DATE:20261207
CATEGORIES:節気
DURATION:P1DT
END:VEVENT
BEGIN:VEVENT
UID:y0BP33EzvghA9FpjsAlaj
SUMMARY:一粒万倍日
DTSTAMP:20260423T161155Z
DTSTART;VALUE=DATE:20261215
CATEGORIES:選日
DURATION:P1DT
END:VEVENT
BEGIN:VEVENT
UID:gz3w047t0ZkO-1cCoM61_
SUMMARY:一粒万倍日
DTSTAMP:20260423T161155Z
DTSTART;VALUE=DATE:20261216
CATEGORIES:選日
DURATION:P1DT
END:VEVENT
BEGIN:VEVENT
UID:U9nWtC-wgTQ3ZsaD5KTjH
SUMMARY:天赦日
DTSTAMP:20260423T161155Z
DTSTART;VALUE=DATE:20261216
CATEGORIES:選日
DURATION:P1DT
END:VEVENT
BEGIN:VEVENT
UID:lje5giKwKrEoysKJBHVX1
SUMMARY:冬至
DTSTAMP:20260423T161155Z
DTSTART;VALUE=DATE:20261222
CATEGORIES:節気
DURATION:P1DT
END:VEVENT
BEGIN:VEVENT
UID:PL_HioLo4T_sx3cSUItVi
SUMMARY:一粒万倍日
DTSTAMP:20260423T161155Z
DTSTART;VALUE=DATE:20261227
CATEGORIES:選日
DURATION:P1DT
END:VEVENT
BEGIN:VEVENT
UID:Fo7kKbMfkgafUzagF1MYQ
SUMMARY:一粒万倍日
DTSTAMP:20260423T161155Z
DTSTART;VALUE=DATE:20261228
CATEGORIES:選日
DURATION:P1DT
END:VEVENT
END:VCALENDAR
