BEGIN:VCALENDAR
VERSION:2.0
CALSCALE:GREGORIAN
PRODID:adamgibbons/ics
METHOD:PUBLISH
X-WR-CALNAME:koyomi
X-PUBLISHED-TTL:PT1H
BEGIN:VEVENT
UID:gYN1Ify4AczQphZ5rEpII
SUMMARY:元日
DTSTAMP:20260423T180121Z
DTSTART;VALUE=DATE:20270101
CATEGORIES:祝日
DURATION:P1DT
END:VEVENT
BEGIN:VEVENT
UID:bnTfWdrntlEFdleb6z1pt
SUMMARY:小寒
DTSTAMP:20260423T180121Z
DTSTART;VALUE=DATE:20270105
CATEGORIES:節気
DURATION:P1DT
END:VEVENT
BEGIN:VEVENT
UID:f2e6c6qH8L5JKE7u-oUG1
SUMMARY:一粒万倍日
DTSTAMP:20260423T180121Z
DTSTART;VALUE=DATE:20270109
CATEGORIES:選日
DURATION:P1DT
END:VEVENT
BEGIN:VEVENT
UID:12kuXg7CUjkTZ5M8iX4Fe
SUMMARY:成人の日
DTSTAMP:20260423T180121Z
DTSTART;VALUE=DATE:20270111
CATEGORIES:祝日
DURATION:P1DT
END:VEVENT
BEGIN:VEVENT
UID:LUd_ruk73CN9_R3tOGOeS
SUMMARY:一粒万倍日
DTSTAMP:20260423T180121Z
DTSTART;VALUE=DATE:20270112
CATEGORIES:選日
DURATION:P1DT
END:VEVENT
BEGIN:VEVENT
UID:DrUCk49RuPlpiHqgfsluJ
SUMMARY:大寒
DTSTAMP:20260423T180121Z
DTSTART;VALUE=DATE:20270120
CATEGORIES:節気
DURATION:P1DT
END:VEVENT
BEGIN:VEVENT
UID:vZU2idMsr79Am7SNp-R-5
SUMMARY:一粒万倍日
DTSTAMP:20260423T180121Z
DTSTART;VALUE=DATE:20270121
CATEGORIES:選日
DURATION:P1DT
END:VEVENT
BEGIN:VEVENT
UID:HuBIoeq7dqPhMlb49iFzD
SUMMARY:一粒万倍日
DTSTAMP:20260423T180121Z
DTSTART;VALUE=DATE:20270124
CATEGORIES:選日
DURATION:P1DT
END:VEVENT
BEGIN:VEVENT
UID:HnkXEGBoFznr3GIgo-VMc
SUMMARY:一粒万倍日
DTSTAMP:20260423T180121Z
DTSTART;VALUE=DATE:20270202
CATEGORIES:選日
DURATION:P1DT
END:VEVENT
BEGIN:VEVENT
UID:pYVkhnt7Lrrmxucmf9A7I
SUMMARY:立春
DTSTAMP:20260423T180121Z
DTSTART;VALUE=DATE:20270204
CATEGORIES:節気
DURATION:P1DT
END:VEVENT
BEGIN:VEVENT
UID:AlONW5aC8ODP5AFFgKDZb
SUMMARY:一粒万倍日
DTSTAMP:20260423T180121Z
DTSTART;VALUE=DATE:20270208
CATEGORIES:選日
DURATION:P1DT
END:VEVENT
BEGIN:VEVENT
UID:pHEgYdGWzc1QIpD8rXMFP
SUMMARY:建国記念の日
DTSTAMP:20260423T180121Z
DTSTART;VALUE=DATE:20270211
CATEGORIES:祝日
DURATION:P1DT
END:VEVENT
BEGIN:VEVENT
UID:4T7CLTOhFUKKKRQSGLvDG
SUMMARY:一粒万倍日
DTSTAMP:20260423T180121Z
DTSTART;VALUE=DATE:20270215
CATEGORIES:選日
DURATION:P1DT
END:VEVENT
BEGIN:VEVENT
UID:u5Vl-VmZ5M5-TK4cSLegd
SUMMARY:雨水
DTSTAMP:20260423T180121Z
DTSTART;VALUE=DATE:20270219
CATEGORIES:節気
DURATION:P1DT
END:VEVENT
BEGIN:VEVENT
UID:GAnYggEJD-5naH49wLj6e
SUMMARY:一粒万倍日
DTSTAMP:20260423T180121Z
DTSTART;VALUE=DATE:20270220
CATEGORIES:選日
DURATION:P1DT
END:VEVENT
BEGIN:VEVENT
UID:K1OFOk-cHwZ74gEMvuVlB
SUMMARY:天皇誕生日
DTSTAMP:20260423T180121Z
DTSTART;VALUE=DATE:20270223
CATEGORIES:祝日
DURATION:P1DT
END:VEVENT
BEGIN:VEVENT
UID:sE4plFkd7SyQPmmLKIuQG
SUMMARY:一粒万倍日
DTSTAMP:20260423T180121Z
DTSTART;VALUE=DATE:20270227
CATEGORIES:選日
DURATION:P1DT
END:VEVENT
BEGIN:VEVENT
UID:BklBPBP9cqhg_9P8jH7-T
SUMMARY:天赦日
DTSTAMP:20260423T180121Z
DTSTART;VALUE=DATE:20270228
CATEGORIES:選日
DURATION:P1DT
END:VEVENT
BEGIN:VEVENT
UID:OihMzao_CvrxYO9bsQ8ee
SUMMARY:一粒万倍日
DTSTAMP:20260423T180121Z
DTSTART;VALUE=DATE:20270304
CATEGORIES:選日
DURATION:P1DT
END:VEVENT
BEGIN:VEVENT
UID:dioOiE8Ccf4tLnYl_9l0E
SUMMARY:啓蟄
DTSTAMP:20260423T180121Z
DTSTART;VALUE=DATE:20270306
CATEGORIES:節気
DURATION:P1DT
END:VEVENT
BEGIN:VEVENT
UID:ySrJBUbvECOPOe82pcL5o
SUMMARY:一粒万倍日
DTSTAMP:20260423T180121Z
DTSTART;VALUE=DATE:20270307
CATEGORIES:選日
DURATION:P1DT
END:VEVENT
BEGIN:VEVENT
UID:W6qkm2mODgfIDmNffaCgI
SUMMARY:一粒万倍日
DTSTAMP:20260423T180121Z
DTSTART;VALUE=DATE:20270312
CATEGORIES:選日
DURATION:P1DT
END:VEVENT
BEGIN:VEVENT
UID:nDo6mnhOPSqSZa9i4LHA5
SUMMARY:一粒万倍日
DTSTAMP:20260423T180121Z
DTSTART;VALUE=DATE:20270319
CATEGORIES:選日
DURATION:P1DT
END:VEVENT
BEGIN:VEVENT
UID:KVmdV0shCkwHebMQ4ZcUb
SUMMARY:春分の日
DTSTAMP:20260423T180121Z
DTSTART;VALUE=DATE:20270321
CATEGORIES:祝日
DURATION:P1DT
END:VEVENT
BEGIN:VEVENT
UID:L6Tcd8GHh8HNPwo4Fn-f_
SUMMARY:春分
DTSTAMP:20260423T180121Z
DTSTART;VALUE=DATE:20270321
CATEGORIES:節気
DURATION:P1DT
END:VEVENT
BEGIN:VEVENT
UID:w8yxJKTxNsj95x2K9aeqA
SUMMARY:春分の日 振替休日
DTSTAMP:20260423T180121Z
DTSTART;VALUE=DATE:20270322
CATEGORIES:祝日
DURATION:P1DT
END:VEVENT
BEGIN:VEVENT
UID:eyOhxon3IzOmm_tkhxTMS
SUMMARY:一粒万倍日
DTSTAMP:20260423T180121Z
DTSTART;VALUE=DATE:20270324
CATEGORIES:選日
DURATION:P1DT
END:VEVENT
BEGIN:VEVENT
UID:g5PylF-hkFqQLqK0oHgJ3
SUMMARY:一粒万倍日
DTSTAMP:20260423T180121Z
DTSTART;VALUE=DATE:20270331
CATEGORIES:選日
DURATION:P1DT
END:VEVENT
BEGIN:VEVENT
UID:NCKxZ-xLzCfeH8S0fa3oI
SUMMARY:清明
DTSTAMP:20260423T180121Z
DTSTART;VALUE=DATE:20270405
CATEGORIES:節気
DURATION:P1DT
END:VEVENT
BEGIN:VEVENT
UID:WIFKOXTAsCLAv5jZqwIyL
SUMMARY:一粒万倍日
DTSTAMP:20260423T180121Z
DTSTART;VALUE=DATE:20270406
CATEGORIES:選日
DURATION:P1DT
END:VEVENT
BEGIN:VEVENT
UID:Q1XLdsMCV3SLL0kf5g0Iz
SUMMARY:一粒万倍日
DTSTAMP:20260423T180121Z
DTSTART;VALUE=DATE:20270415
CATEGORIES:選日
DURATION:P1DT
END:VEVENT
BEGIN:VEVENT
UID:054mM-lw8rC2zrtUTtpaa
SUMMARY:一粒万倍日
DTSTAMP:20260423T180121Z
DTSTART;VALUE=DATE:20270418
CATEGORIES:選日
DURATION:P1DT
END:VEVENT
BEGIN:VEVENT
UID:hw52RH8o8Aaccfv3SAdN9
SUMMARY:穀雨
DTSTAMP:20260423T180121Z
DTSTART;VALUE=DATE:20270420
CATEGORIES:節気
DURATION:P1DT
END:VEVENT
BEGIN:VEVENT
UID:0qWprzhEzetkDFGol5tFX
SUMMARY:一粒万倍日
DTSTAMP:20260423T180121Z
DTSTART;VALUE=DATE:20270427
CATEGORIES:選日
DURATION:P1DT
END:VEVENT
BEGIN:VEVENT
UID:ggp48eTB9a4z0Nsgp6bzY
SUMMARY:昭和の日
DTSTAMP:20260423T180121Z
DTSTART;VALUE=DATE:20270429
CATEGORIES:祝日
DURATION:P1DT
END:VEVENT
BEGIN:VEVENT
UID:BeV9wzoqbzQA9AtOU4mAk
SUMMARY:天赦日
DTSTAMP:20260423T180121Z
DTSTART;VALUE=DATE:20270429
CATEGORIES:選日
DURATION:P1DT
END:VEVENT
BEGIN:VEVENT
UID:9ngrGK3FBSWF3aewHlSIN
SUMMARY:一粒万倍日
DTSTAMP:20260423T180121Z
DTSTART;VALUE=DATE:20270430
CATEGORIES:選日
DURATION:P1DT
END:VEVENT
BEGIN:VEVENT
UID:0MUGxgIcqgbqOjgG9L51A
SUMMARY:憲法記念日
DTSTAMP:20260423T180121Z
DTSTART;VALUE=DATE:20270503
CATEGORIES:祝日
DURATION:P1DT
END:VEVENT
BEGIN:VEVENT
UID:rFwbisMpDjyg1Kb4XHGLv
SUMMARY:みどりの日
DTSTAMP:20260423T180121Z
DTSTART;VALUE=DATE:20270504
CATEGORIES:祝日
DURATION:P1DT
END:VEVENT
BEGIN:VEVENT
UID:R45dhhH0OGxow-94pwQcg
SUMMARY:こどもの日
DTSTAMP:20260423T180121Z
DTSTART;VALUE=DATE:20270505
CATEGORIES:祝日
DURATION:P1DT
END:VEVENT
BEGIN:VEVENT
UID:zMFKPXR06J3IoQmD3qMMx
SUMMARY:立夏
DTSTAMP:20260423T180121Z
DTSTART;VALUE=DATE:20270506
CATEGORIES:節気
DURATION:P1DT
END:VEVENT
BEGIN:VEVENT
UID:iYAgiqMwXvCypRW0-Ljhl
SUMMARY:一粒万倍日
DTSTAMP:20260423T180121Z
DTSTART;VALUE=DATE:20270512
CATEGORIES:選日
DURATION:P1DT
END:VEVENT
BEGIN:VEVENT
UID:nLJABT2mZ_DekN7Oc8UEb
SUMMARY:一粒万倍日
DTSTAMP:20260423T180121Z
DTSTART;VALUE=DATE:20270513
CATEGORIES:選日
DURATION:P1DT
END:VEVENT
BEGIN:VEVENT
UID:CQ7i_5-Kypl3-lP73RJHh
SUMMARY:天赦日
DTSTAMP:20260423T180121Z
DTSTART;VALUE=DATE:20270515
CATEGORIES:選日
DURATION:P1DT
END:VEVENT
BEGIN:VEVENT
UID:l-QdwEmb3K9-nINcbP2Dg
SUMMARY:小満
DTSTAMP:20260423T180121Z
DTSTART;VALUE=DATE:20270521
CATEGORIES:節気
DURATION:P1DT
END:VEVENT
BEGIN:VEVENT
UID:1WafBH_6tkYLXY8O-ndjm
SUMMARY:一粒万倍日
DTSTAMP:20260423T180121Z
DTSTART;VALUE=DATE:20270524
CATEGORIES:選日
DURATION:P1DT
END:VEVENT
BEGIN:VEVENT
UID:VrxcVJUTdtZqO3u7UXciz
SUMMARY:一粒万倍日
DTSTAMP:20260423T180121Z
DTSTART;VALUE=DATE:20270525
CATEGORIES:選日
DURATION:P1DT
END:VEVENT
BEGIN:VEVENT
UID:duO-UZV51zbm4NZZVswzS
SUMMARY:一粒万倍日
DTSTAMP:20260423T180121Z
DTSTART;VALUE=DATE:20270605
CATEGORIES:選日
DURATION:P1DT
END:VEVENT
BEGIN:VEVENT
UID:p0jzupEjyj-IFfllv-WJ_
SUMMARY:芒種
DTSTAMP:20260423T180121Z
DTSTART;VALUE=DATE:20270606
CATEGORIES:節気
DURATION:P1DT
END:VEVENT
BEGIN:VEVENT
UID:SQqe7aPpaj-LMEkIifTS_
SUMMARY:一粒万倍日
DTSTAMP:20260423T180121Z
DTSTART;VALUE=DATE:20270607
CATEGORIES:選日
DURATION:P1DT
END:VEVENT
BEGIN:VEVENT
UID:eHU_fdRl_Fd7J9PRvop8E
SUMMARY:一粒万倍日
DTSTAMP:20260423T180121Z
DTSTART;VALUE=DATE:20270608
CATEGORIES:選日
DURATION:P1DT
END:VEVENT
BEGIN:VEVENT
UID:El_DTrnoJquj8baNvhNe0
SUMMARY:一粒万倍日
DTSTAMP:20260423T180121Z
DTSTART;VALUE=DATE:20270619
CATEGORIES:選日
DURATION:P1DT
END:VEVENT
BEGIN:VEVENT
UID:O2IQJRgD36-po37-G8nvc
SUMMARY:一粒万倍日
DTSTAMP:20260423T180121Z
DTSTART;VALUE=DATE:20270620
CATEGORIES:選日
DURATION:P1DT
END:VEVENT
BEGIN:VEVENT
UID:egzPAv9xcnyf4M-jEYVRX
SUMMARY:夏至
DTSTAMP:20260423T180121Z
DTSTART;VALUE=DATE:20270621
CATEGORIES:節気
DURATION:P1DT
END:VEVENT
BEGIN:VEVENT
UID:ZRxNVhxkPNVJx3ag-fvy4
SUMMARY:一粒万倍日
DTSTAMP:20260423T180121Z
DTSTART;VALUE=DATE:20270701
CATEGORIES:選日
DURATION:P1DT
END:VEVENT
BEGIN:VEVENT
UID:W3N6579ntso5bYgWRbsJF
SUMMARY:一粒万倍日
DTSTAMP:20260423T180121Z
DTSTART;VALUE=DATE:20270702
CATEGORIES:選日
DURATION:P1DT
END:VEVENT
BEGIN:VEVENT
UID:G960Tgr3zrojf-cYR0Rey
SUMMARY:小暑
DTSTAMP:20260423T180121Z
DTSTART;VALUE=DATE:20270707
CATEGORIES:節気
DURATION:P1DT
END:VEVENT
BEGIN:VEVENT
UID:ZZw_LCz1E-IL68ojSq4Nl
SUMMARY:一粒万倍日
DTSTAMP:20260423T180121Z
DTSTART;VALUE=DATE:20270714
CATEGORIES:選日
DURATION:P1DT
END:VEVENT
BEGIN:VEVENT
UID:dptw6EG5hNUdkeHYx4Vi-
SUMMARY:天赦日
DTSTAMP:20260423T180121Z
DTSTART;VALUE=DATE:20270714
CATEGORIES:選日
DURATION:P1DT
END:VEVENT
BEGIN:VEVENT
UID:AqBo4FwmGuB4iudVsp8Jd
SUMMARY:一粒万倍日
DTSTAMP:20260423T180121Z
DTSTART;VALUE=DATE:20270717
CATEGORIES:選日
DURATION:P1DT
END:VEVENT
BEGIN:VEVENT
UID:h8wIhSAUoXFXkQMfhPN8h
SUMMARY:海の日
DTSTAMP:20260423T180121Z
DTSTART;VALUE=DATE:20270719
CATEGORIES:祝日
DURATION:P1DT
END:VEVENT
BEGIN:VEVENT
UID:RK3N-U_hUkQ6FMQeint30
SUMMARY:大暑
DTSTAMP:20260423T180121Z
DTSTART;VALUE=DATE:20270723
CATEGORIES:節気
DURATION:P1DT
END:VEVENT
BEGIN:VEVENT
UID:fekKuAFUs7upthQSPGkqQ
SUMMARY:一粒万倍日
DTSTAMP:20260423T180121Z
DTSTART;VALUE=DATE:20270726
CATEGORIES:選日
DURATION:P1DT
END:VEVENT
BEGIN:VEVENT
UID:lMAe7qAtZwbzGByU9MnHl
SUMMARY:一粒万倍日
DTSTAMP:20260423T180121Z
DTSTART;VALUE=DATE:20270729
CATEGORIES:選日
DURATION:P1DT
END:VEVENT
BEGIN:VEVENT
UID:8uTD0vINmQikT_L9RtbEz
SUMMARY:一粒万倍日
DTSTAMP:20260423T180121Z
DTSTART;VALUE=DATE:20270807
CATEGORIES:選日
DURATION:P1DT
END:VEVENT
BEGIN:VEVENT
UID:0guraXWVCLxCn7QyNYIrW
SUMMARY:一粒万倍日
DTSTAMP:20260423T180121Z
DTSTART;VALUE=DATE:20270808
CATEGORIES:選日
DURATION:P1DT
END:VEVENT
BEGIN:VEVENT
UID:KJSshU53PcGx0biRnvwmH
SUMMARY:立秋
DTSTAMP:20260423T180121Z
DTSTART;VALUE=DATE:20270808
CATEGORIES:節気
DURATION:P1DT
END:VEVENT
BEGIN:VEVENT
UID:WRHdZF8XndX9B7sDLxi8R
SUMMARY:山の日
DTSTAMP:20260423T180121Z
DTSTART;VALUE=DATE:20270811
CATEGORIES:祝日
DURATION:P1DT
END:VEVENT
BEGIN:VEVENT
UID:JwwgWJDaLzEOYK9-YFpbV
SUMMARY:一粒万倍日
DTSTAMP:20260423T180121Z
DTSTART;VALUE=DATE:20270813
CATEGORIES:選日
DURATION:P1DT
END:VEVENT
BEGIN:VEVENT
UID:XLBG1a-IJ0Yb9DD3mEz6s
SUMMARY:一粒万倍日
DTSTAMP:20260423T180121Z
DTSTART;VALUE=DATE:20270820
CATEGORIES:選日
DURATION:P1DT
END:VEVENT
BEGIN:VEVENT
UID:tw07xreQRCZVfidjVpJSc
SUMMARY:処暑
DTSTAMP:20260423T180121Z
DTSTART;VALUE=DATE:20270823
CATEGORIES:節気
DURATION:P1DT
END:VEVENT
BEGIN:VEVENT
UID:AAYQ_0OWspdGmeSi2mCAx
SUMMARY:一粒万倍日
DTSTAMP:20260423T180121Z
DTSTART;VALUE=DATE:20270825
CATEGORIES:選日
DURATION:P1DT
END:VEVENT
BEGIN:VEVENT
UID:qwK8At2us1auqDPOyKvPr
SUMMARY:一粒万倍日
DTSTAMP:20260423T180121Z
DTSTART;VALUE=DATE:20270901
CATEGORIES:選日
DURATION:P1DT
END:VEVENT
BEGIN:VEVENT
UID:m-mwti_MLOdc2OmSgKNqo
SUMMARY:一粒万倍日
DTSTAMP:20260423T180121Z
DTSTART;VALUE=DATE:20270906
CATEGORIES:選日
DURATION:P1DT
END:VEVENT
BEGIN:VEVENT
UID:SAuqJ9KHoxC8HVROlaBvF
SUMMARY:白露
DTSTAMP:20260423T180121Z
DTSTART;VALUE=DATE:20270908
CATEGORIES:節気
DURATION:P1DT
END:VEVENT
BEGIN:VEVENT
UID:syWDgZIIUM1ZHnYfQJovJ
SUMMARY:一粒万倍日
DTSTAMP:20260423T180121Z
DTSTART;VALUE=DATE:20270909
CATEGORIES:選日
DURATION:P1DT
END:VEVENT
BEGIN:VEVENT
UID:p5Ku_ZoU6OpnSWIMr6yxy
SUMMARY:一粒万倍日
DTSTAMP:20260423T180121Z
DTSTART;VALUE=DATE:20270914
CATEGORIES:選日
DURATION:P1DT
END:VEVENT
BEGIN:VEVENT
UID:VGHCzxmIkYZlb3q2FpAAq
SUMMARY:敬老の日
DTSTAMP:20260423T180121Z
DTSTART;VALUE=DATE:20270920
CATEGORIES:祝日
DURATION:P1DT
END:VEVENT
BEGIN:VEVENT
UID:_8u-kjV0pi7zmQ6fHEfYw
SUMMARY:一粒万倍日
DTSTAMP:20260423T180121Z
DTSTART;VALUE=DATE:20270921
CATEGORIES:選日
DURATION:P1DT
END:VEVENT
BEGIN:VEVENT
UID:x0wlWCklVDEPI0D1quvyA
SUMMARY:秋分の日
DTSTAMP:20260423T180121Z
DTSTART;VALUE=DATE:20270923
CATEGORIES:祝日
DURATION:P1DT
END:VEVENT
BEGIN:VEVENT
UID:zrJp5GobkDryUps2mRQjB
SUMMARY:秋分
DTSTAMP:20260423T180121Z
DTSTART;VALUE=DATE:20270923
CATEGORIES:節気
DURATION:P1DT
END:VEVENT
BEGIN:VEVENT
UID:VLVW5q29ackJsko_ksaAE
SUMMARY:一粒万倍日
DTSTAMP:20260423T180121Z
DTSTART;VALUE=DATE:20270926
CATEGORIES:選日
DURATION:P1DT
END:VEVENT
BEGIN:VEVENT
UID:x0HwznDQ59evR6u16v-WA
SUMMARY:天赦日
DTSTAMP:20260423T180121Z
DTSTART;VALUE=DATE:20270926
CATEGORIES:選日
DURATION:P1DT
END:VEVENT
BEGIN:VEVENT
UID:26VEZq89EaF69qjxemBpx
SUMMARY:一粒万倍日
DTSTAMP:20260423T180121Z
DTSTART;VALUE=DATE:20271003
CATEGORIES:選日
DURATION:P1DT
END:VEVENT
BEGIN:VEVENT
UID:fEmmRoil4lQaDuK9Jyr3P
SUMMARY:寒露
DTSTAMP:20260423T180121Z
DTSTART;VALUE=DATE:20271008
CATEGORIES:節気
DURATION:P1DT
END:VEVENT
BEGIN:VEVENT
UID:kZtml52BE3nmQiIULyqhC
SUMMARY:一粒万倍日
DTSTAMP:20260423T180121Z
DTSTART;VALUE=DATE:20271009
CATEGORIES:選日
DURATION:P1DT
END:VEVENT
BEGIN:VEVENT
UID:W-5VD1WtazuPuual3dVoF
SUMMARY:スポーツの日
DTSTAMP:20260423T180121Z
DTSTART;VALUE=DATE:20271011
CATEGORIES:祝日
DURATION:P1DT
END:VEVENT
BEGIN:VEVENT
UID:pssDVTAuKojDGo7GW_hvL
SUMMARY:一粒万倍日
DTSTAMP:20260423T180121Z
DTSTART;VALUE=DATE:20271018
CATEGORIES:選日
DURATION:P1DT
END:VEVENT
BEGIN:VEVENT
UID:MXgTADNvj6ENxBWrjhSDD
SUMMARY:一粒万倍日
DTSTAMP:20260423T180121Z
DTSTART;VALUE=DATE:20271021
CATEGORIES:選日
DURATION:P1DT
END:VEVENT
BEGIN:VEVENT
UID:P-LOjTORWlBM6yfBRiqSB
SUMMARY:霜降
DTSTAMP:20260423T180121Z
DTSTART;VALUE=DATE:20271023
CATEGORIES:節気
DURATION:P1DT
END:VEVENT
BEGIN:VEVENT
UID:92zfJTEo8OTXfUdd6SI93
SUMMARY:一粒万倍日
DTSTAMP:20260423T180121Z
DTSTART;VALUE=DATE:20271030
CATEGORIES:選日
DURATION:P1DT
END:VEVENT
BEGIN:VEVENT
UID:opKvGQPZOIwCbWbqAOws3
SUMMARY:一粒万倍日
DTSTAMP:20260423T180121Z
DTSTART;VALUE=DATE:20271102
CATEGORIES:選日
DURATION:P1DT
END:VEVENT
BEGIN:VEVENT
UID:MBVUnkXHbtR8vvzMpoAhv
SUMMARY:文化の日
DTSTAMP:20260423T180121Z
DTSTART;VALUE=DATE:20271103
CATEGORIES:祝日
DURATION:P1DT
END:VEVENT
BEGIN:VEVENT
UID:crw4LM8DG5b1Ery5HDQOs
SUMMARY:立冬
DTSTAMP:20260423T180121Z
DTSTART;VALUE=DATE:20271107
CATEGORIES:節気
DURATION:P1DT
END:VEVENT
BEGIN:VEVENT
UID:VYv1qW8NAF8dQB-OWS2bK
SUMMARY:一粒万倍日
DTSTAMP:20260423T180121Z
DTSTART;VALUE=DATE:20271114
CATEGORIES:選日
DURATION:P1DT
END:VEVENT
BEGIN:VEVENT
UID:4ULTIcBb2Eat8KnyCkP8P
SUMMARY:一粒万倍日
DTSTAMP:20260423T180122Z
DTSTART;VALUE=DATE:20271115
CATEGORIES:選日
DURATION:P1DT
END:VEVENT
BEGIN:VEVENT
UID:8yVcEHjFoPJ2JVrsWifQ5
SUMMARY:小雪
DTSTAMP:20260423T180122Z
DTSTART;VALUE=DATE:20271122
CATEGORIES:節気
DURATION:P1DT
END:VEVENT
BEGIN:VEVENT
UID:DRvbRw61vmGX1smgTrkT-
SUMMARY:勤労感謝の日
DTSTAMP:20260423T180122Z
DTSTART;VALUE=DATE:20271123
CATEGORIES:祝日
DURATION:P1DT
END:VEVENT
BEGIN:VEVENT
UID:IgrwO76kX4rSXUjL1g4Cl
SUMMARY:一粒万倍日
DTSTAMP:20260423T180122Z
DTSTART;VALUE=DATE:20271126
CATEGORIES:選日
DURATION:P1DT
END:VEVENT
BEGIN:VEVENT
UID:nT9TXFpt1zhTSxt4lsyE1
SUMMARY:一粒万倍日
DTSTAMP:20260423T180122Z
DTSTART;VALUE=DATE:20271127
CATEGORIES:選日
DURATION:P1DT
END:VEVENT
BEGIN:VEVENT
UID:EjNrr0I1fguVsfhcDV4e5
SUMMARY:大雪
DTSTAMP:20260423T180122Z
DTSTART;VALUE=DATE:20271207
CATEGORIES:節気
DURATION:P1DT
END:VEVENT
BEGIN:VEVENT
UID:bqcHY3SYd0Y4dCDBcCovW
SUMMARY:一粒万倍日
DTSTAMP:20260423T180122Z
DTSTART;VALUE=DATE:20271210
CATEGORIES:選日
DURATION:P1DT
END:VEVENT
BEGIN:VEVENT
UID:WwUQR4P5ctrDRKv8Npdhw
SUMMARY:一粒万倍日
DTSTAMP:20260423T180122Z
DTSTART;VALUE=DATE:20271211
CATEGORIES:選日
DURATION:P1DT
END:VEVENT
BEGIN:VEVENT
UID:jV2fdfoYc5d0tUuZHKJGh
SUMMARY:天赦日
DTSTAMP:20260423T180122Z
DTSTART;VALUE=DATE:20271211
CATEGORIES:選日
DURATION:P1DT
END:VEVENT
BEGIN:VEVENT
UID:yNjer21mBNcnU4rCUqzfr
SUMMARY:一粒万倍日
DTSTAMP:20260423T180122Z
DTSTART;VALUE=DATE:20271222
CATEGORIES:選日
DURATION:P1DT
END:VEVENT
BEGIN:VEVENT
UID:f8oIZT3KX8MucKuamrlBj
SUMMARY:冬至
DTSTAMP:20260423T180122Z
DTSTART;VALUE=DATE:20271222
CATEGORIES:節気
DURATION:P1DT
END:VEVENT
BEGIN:VEVENT
UID:V7a3gTAMupi5IV03nXpWR
SUMMARY:一粒万倍日
DTSTAMP:20260423T180122Z
DTSTART;VALUE=DATE:20271223
CATEGORIES:選日
DURATION:P1DT
END:VEVENT
END:VCALENDAR
