BEGIN:VCALENDAR
VERSION:2.0
CALSCALE:GREGORIAN
PRODID:adamgibbons/ics
METHOD:PUBLISH
X-WR-CALNAME:koyomi
X-PUBLISHED-TTL:PT1H
BEGIN:VEVENT
UID:cZ6LQzydXusWxAJ-euwY7
SUMMARY:元日
DTSTAMP:20260423T213333Z
DTSTART;VALUE=DATE:20280101
CATEGORIES:祝日
DURATION:P1DT
END:VEVENT
BEGIN:VEVENT
UID:utCGrwleIemyET5wN9Ih7
SUMMARY:一粒万倍日
DTSTAMP:20260423T213333Z
DTSTART;VALUE=DATE:20280103
CATEGORIES:選日
DURATION:P1DT
END:VEVENT
BEGIN:VEVENT
UID:0GA5C-SLrEppqqEUlzvD_
SUMMARY:一粒万倍日
DTSTAMP:20260423T213333Z
DTSTART;VALUE=DATE:20280104
CATEGORIES:選日
DURATION:P1DT
END:VEVENT
BEGIN:VEVENT
UID:bRSQm-6xQmlX55jQikGdB
SUMMARY:小寒
DTSTAMP:20260423T213333Z
DTSTART;VALUE=DATE:20280106
CATEGORIES:節気
DURATION:P1DT
END:VEVENT
BEGIN:VEVENT
UID:P4x4cTlKM_X0-ov6YiZMX
SUMMARY:一粒万倍日
DTSTAMP:20260423T213333Z
DTSTART;VALUE=DATE:20280107
CATEGORIES:選日
DURATION:P1DT
END:VEVENT
BEGIN:VEVENT
UID:ewChl_0SHQCXkvOiN3hsK
SUMMARY:成人の日
DTSTAMP:20260423T213333Z
DTSTART;VALUE=DATE:20280110
CATEGORIES:祝日
DURATION:P1DT
END:VEVENT
BEGIN:VEVENT
UID:zlx_m2k7KfrWH1jpFwAtZ
SUMMARY:一粒万倍日
DTSTAMP:20260423T213333Z
DTSTART;VALUE=DATE:20280116
CATEGORIES:選日
DURATION:P1DT
END:VEVENT
BEGIN:VEVENT
UID:1Oe2oE5R59hBL2a53h7qx
SUMMARY:一粒万倍日
DTSTAMP:20260423T213333Z
DTSTART;VALUE=DATE:20280119
CATEGORIES:選日
DURATION:P1DT
END:VEVENT
BEGIN:VEVENT
UID:A2lbWUViom349HeF5-GAQ
SUMMARY:大寒
DTSTAMP:20260423T213333Z
DTSTART;VALUE=DATE:20280120
CATEGORIES:節気
DURATION:P1DT
END:VEVENT
BEGIN:VEVENT
UID:9rG4mD_b-QHeOA7JTXO5V
SUMMARY:一粒万倍日
DTSTAMP:20260423T213333Z
DTSTART;VALUE=DATE:20280128
CATEGORIES:選日
DURATION:P1DT
END:VEVENT
BEGIN:VEVENT
UID:8xShVReZ0vQcBpeVzXs6h
SUMMARY:一粒万倍日
DTSTAMP:20260423T213333Z
DTSTART;VALUE=DATE:20280131
CATEGORIES:選日
DURATION:P1DT
END:VEVENT
BEGIN:VEVENT
UID:XhNRdY0zKJbmdmP4ePy-K
SUMMARY:立春
DTSTAMP:20260423T213333Z
DTSTART;VALUE=DATE:20280204
CATEGORIES:節気
DURATION:P1DT
END:VEVENT
BEGIN:VEVENT
UID:1aJImbkx_Hiu0nYaipDHG
SUMMARY:一粒万倍日
DTSTAMP:20260423T213333Z
DTSTART;VALUE=DATE:20280210
CATEGORIES:選日
DURATION:P1DT
END:VEVENT
BEGIN:VEVENT
UID:jEW2V-rtvHOB0hC_QEm3u
SUMMARY:建国記念の日
DTSTAMP:20260423T213333Z
DTSTART;VALUE=DATE:20280211
CATEGORIES:祝日
DURATION:P1DT
END:VEVENT
BEGIN:VEVENT
UID:zCmCwfMis6s4_WOvjZj-b
SUMMARY:一粒万倍日
DTSTAMP:20260423T213333Z
DTSTART;VALUE=DATE:20280215
CATEGORIES:選日
DURATION:P1DT
END:VEVENT
BEGIN:VEVENT
UID:XVYjQyhbvzi2-DazDjh2l
SUMMARY:雨水
DTSTAMP:20260423T213333Z
DTSTART;VALUE=DATE:20280219
CATEGORIES:節気
DURATION:P1DT
END:VEVENT
BEGIN:VEVENT
UID:5WYxpSU7BNug9WXe-we3r
SUMMARY:一粒万倍日
DTSTAMP:20260423T213333Z
DTSTART;VALUE=DATE:20280222
CATEGORIES:選日
DURATION:P1DT
END:VEVENT
BEGIN:VEVENT
UID:G8dkcjeGTjOOpouGTmRX_
SUMMARY:天皇誕生日
DTSTAMP:20260423T213333Z
DTSTART;VALUE=DATE:20280223
CATEGORIES:祝日
DURATION:P1DT
END:VEVENT
BEGIN:VEVENT
UID:2uyz18A_OB6JieYLRAqSp
SUMMARY:天赦日
DTSTAMP:20260423T213333Z
DTSTART;VALUE=DATE:20280223
CATEGORIES:選日
DURATION:P1DT
END:VEVENT
BEGIN:VEVENT
UID:CQOUOIylXgvqMNjs1ifRs
SUMMARY:一粒万倍日
DTSTAMP:20260423T213333Z
DTSTART;VALUE=DATE:20280227
CATEGORIES:選日
DURATION:P1DT
END:VEVENT
BEGIN:VEVENT
UID:0zyJ6InKD4KLxfxQ7EUQA
SUMMARY:啓蟄
DTSTAMP:20260423T213333Z
DTSTART;VALUE=DATE:20280305
CATEGORIES:節気
DURATION:P1DT
END:VEVENT
BEGIN:VEVENT
UID:V0P_KkldIpoWhlUgo62-a
SUMMARY:一粒万倍日
DTSTAMP:20260423T213333Z
DTSTART;VALUE=DATE:20280306
CATEGORIES:選日
DURATION:P1DT
END:VEVENT
BEGIN:VEVENT
UID:HDnTKasclnu_X90Q7JHVC
SUMMARY:一粒万倍日
DTSTAMP:20260423T213333Z
DTSTART;VALUE=DATE:20280313
CATEGORIES:選日
DURATION:P1DT
END:VEVENT
BEGIN:VEVENT
UID:PVke3kQb9GMpsL03XOMqN
SUMMARY:一粒万倍日
DTSTAMP:20260423T213333Z
DTSTART;VALUE=DATE:20280318
CATEGORIES:選日
DURATION:P1DT
END:VEVENT
BEGIN:VEVENT
UID:bmSw_fiytzeijpqv_W4Q6
SUMMARY:春分の日
DTSTAMP:20260423T213333Z
DTSTART;VALUE=DATE:20280320
CATEGORIES:祝日
DURATION:P1DT
END:VEVENT
BEGIN:VEVENT
UID:9k1A147d7CxH_HjXA4HSt
SUMMARY:春分
DTSTAMP:20260423T213333Z
DTSTART;VALUE=DATE:20280320
CATEGORIES:節気
DURATION:P1DT
END:VEVENT
BEGIN:VEVENT
UID:V2YGl5d0HgDvfp-yAbhQU
SUMMARY:一粒万倍日
DTSTAMP:20260423T213333Z
DTSTART;VALUE=DATE:20280325
CATEGORIES:選日
DURATION:P1DT
END:VEVENT
BEGIN:VEVENT
UID:56lwc-SW46wMDkzYvFW6T
SUMMARY:一粒万倍日
DTSTAMP:20260423T213333Z
DTSTART;VALUE=DATE:20280330
CATEGORIES:選日
DURATION:P1DT
END:VEVENT
BEGIN:VEVENT
UID:0fSjGZNIvB7npeL4FHF9d
SUMMARY:清明
DTSTAMP:20260423T213333Z
DTSTART;VALUE=DATE:20280404
CATEGORIES:節気
DURATION:P1DT
END:VEVENT
BEGIN:VEVENT
UID:U-Co1liq7djqUCMXKLfSK
SUMMARY:一粒万倍日
DTSTAMP:20260423T213333Z
DTSTART;VALUE=DATE:20280409
CATEGORIES:選日
DURATION:P1DT
END:VEVENT
BEGIN:VEVENT
UID:Djsz8sXFn-ANcDWdc8nqO
SUMMARY:一粒万倍日
DTSTAMP:20260423T213333Z
DTSTART;VALUE=DATE:20280412
CATEGORIES:選日
DURATION:P1DT
END:VEVENT
BEGIN:VEVENT
UID:Xyu4mQEZ2sejZqBbDY6NE
SUMMARY:穀雨
DTSTAMP:20260423T213333Z
DTSTART;VALUE=DATE:20280419
CATEGORIES:節気
DURATION:P1DT
END:VEVENT
BEGIN:VEVENT
UID:P76K88l2L54nF7K1lSiUP
SUMMARY:一粒万倍日
DTSTAMP:20260423T213333Z
DTSTART;VALUE=DATE:20280421
CATEGORIES:選日
DURATION:P1DT
END:VEVENT
BEGIN:VEVENT
UID:AbtdBYFjMokuAJjJjrG75
SUMMARY:天赦日
DTSTAMP:20260423T213333Z
DTSTART;VALUE=DATE:20280423
CATEGORIES:選日
DURATION:P1DT
END:VEVENT
BEGIN:VEVENT
UID:4MDfjGGr3V9tfK8Ogw5S0
SUMMARY:一粒万倍日
DTSTAMP:20260423T213333Z
DTSTART;VALUE=DATE:20280424
CATEGORIES:選日
DURATION:P1DT
END:VEVENT
BEGIN:VEVENT
UID:WoGj3z89ShEhi8_A4vjHa
SUMMARY:昭和の日
DTSTAMP:20260423T213333Z
DTSTART;VALUE=DATE:20280429
CATEGORIES:祝日
DURATION:P1DT
END:VEVENT
BEGIN:VEVENT
UID:QknplJXwV__3xZvpiWv-v
SUMMARY:憲法記念日
DTSTAMP:20260423T213333Z
DTSTART;VALUE=DATE:20280503
CATEGORIES:祝日
DURATION:P1DT
END:VEVENT
BEGIN:VEVENT
UID:ul2ZvRkcoJ26J7knuTp_f
SUMMARY:一粒万倍日
DTSTAMP:20260423T213333Z
DTSTART;VALUE=DATE:20280503
CATEGORIES:選日
DURATION:P1DT
END:VEVENT
BEGIN:VEVENT
UID:d-xN42RM1-JIk9G07hq2C
SUMMARY:みどりの日
DTSTAMP:20260423T213333Z
DTSTART;VALUE=DATE:20280504
CATEGORIES:祝日
DURATION:P1DT
END:VEVENT
BEGIN:VEVENT
UID:l6sKjzUqjBfH8Y8_zx07W
SUMMARY:こどもの日
DTSTAMP:20260423T213333Z
DTSTART;VALUE=DATE:20280505
CATEGORIES:祝日
DURATION:P1DT
END:VEVENT
BEGIN:VEVENT
UID:Poqi70fdXvGLziL-VBiwX
SUMMARY:立夏
DTSTAMP:20260423T213333Z
DTSTART;VALUE=DATE:20280505
CATEGORIES:節気
DURATION:P1DT
END:VEVENT
BEGIN:VEVENT
UID:SijAAkSpk6_Tlmo7_lYNP
SUMMARY:一粒万倍日
DTSTAMP:20260423T213333Z
DTSTART;VALUE=DATE:20280506
CATEGORIES:選日
DURATION:P1DT
END:VEVENT
BEGIN:VEVENT
UID:ddZDE2xlXLfkCDChXvY9j
SUMMARY:一粒万倍日
DTSTAMP:20260423T213333Z
DTSTART;VALUE=DATE:20280507
CATEGORIES:選日
DURATION:P1DT
END:VEVENT
BEGIN:VEVENT
UID:Y0ngGEXW9syq_lmNRA9s-
SUMMARY:天赦日
DTSTAMP:20260423T213333Z
DTSTART;VALUE=DATE:20280509
CATEGORIES:選日
DURATION:P1DT
END:VEVENT
BEGIN:VEVENT
UID:3_zQOVfwHf2mTyWIRMlVJ
SUMMARY:一粒万倍日
DTSTAMP:20260423T213333Z
DTSTART;VALUE=DATE:20280518
CATEGORIES:選日
DURATION:P1DT
END:VEVENT
BEGIN:VEVENT
UID:NR3c2hbB3RIhYF8HpX-mE
SUMMARY:一粒万倍日
DTSTAMP:20260423T213333Z
DTSTART;VALUE=DATE:20280519
CATEGORIES:選日
DURATION:P1DT
END:VEVENT
BEGIN:VEVENT
UID:u-hyojNZ83lEyrzp9s25C
SUMMARY:小満
DTSTAMP:20260423T213333Z
DTSTART;VALUE=DATE:20280520
CATEGORIES:節気
DURATION:P1DT
END:VEVENT
BEGIN:VEVENT
UID:JM6W_-SfMIqOPS7v3N72w
SUMMARY:一粒万倍日
DTSTAMP:20260423T213333Z
DTSTART;VALUE=DATE:20280530
CATEGORIES:選日
DURATION:P1DT
END:VEVENT
BEGIN:VEVENT
UID:al81wt90aUYNjh2AeVTbA
SUMMARY:一粒万倍日
DTSTAMP:20260423T213333Z
DTSTART;VALUE=DATE:20280531
CATEGORIES:選日
DURATION:P1DT
END:VEVENT
BEGIN:VEVENT
UID:NxTpiBZTCT6Kl6D_EXpBA
SUMMARY:芒種
DTSTAMP:20260423T213333Z
DTSTART;VALUE=DATE:20280605
CATEGORIES:節気
DURATION:P1DT
END:VEVENT
BEGIN:VEVENT
UID:eIizl8YhkzCRkuXEJwcji
SUMMARY:一粒万倍日
DTSTAMP:20260423T213333Z
DTSTART;VALUE=DATE:20280613
CATEGORIES:選日
DURATION:P1DT
END:VEVENT
BEGIN:VEVENT
UID:BfRzEYJLZyED3D_t7TRKc
SUMMARY:一粒万倍日
DTSTAMP:20260423T213333Z
DTSTART;VALUE=DATE:20280614
CATEGORIES:選日
DURATION:P1DT
END:VEVENT
BEGIN:VEVENT
UID:8z4SyBi1-ToLRmEAPU1y_
SUMMARY:夏至
DTSTAMP:20260423T213333Z
DTSTART;VALUE=DATE:20280621
CATEGORIES:節気
DURATION:P1DT
END:VEVENT
BEGIN:VEVENT
UID:BAbkfVtTxzDQhFwKBCqNz
SUMMARY:一粒万倍日
DTSTAMP:20260423T213333Z
DTSTART;VALUE=DATE:20280625
CATEGORIES:選日
DURATION:P1DT
END:VEVENT
BEGIN:VEVENT
UID:RdDgWuT0OE3ZKmc-27nh4
SUMMARY:一粒万倍日
DTSTAMP:20260423T213333Z
DTSTART;VALUE=DATE:20280626
CATEGORIES:選日
DURATION:P1DT
END:VEVENT
BEGIN:VEVENT
UID:hF8yh8lPHIE7tgOGqOz_o
SUMMARY:小暑
DTSTAMP:20260423T213333Z
DTSTART;VALUE=DATE:20280706
CATEGORIES:節気
DURATION:P1DT
END:VEVENT
BEGIN:VEVENT
UID:m3k_K0mA_oWwxL7BkFrMW
SUMMARY:一粒万倍日
DTSTAMP:20260423T213333Z
DTSTART;VALUE=DATE:20280708
CATEGORIES:選日
DURATION:P1DT
END:VEVENT
BEGIN:VEVENT
UID:XrNkXugC3bOTjikFMjTcC
SUMMARY:天赦日
DTSTAMP:20260423T213333Z
DTSTART;VALUE=DATE:20280708
CATEGORIES:選日
DURATION:P1DT
END:VEVENT
BEGIN:VEVENT
UID:arGdedJg_uCYKfGbtkRen
SUMMARY:一粒万倍日
DTSTAMP:20260423T213333Z
DTSTART;VALUE=DATE:20280711
CATEGORIES:選日
DURATION:P1DT
END:VEVENT
BEGIN:VEVENT
UID:mrJbPBP8JYcUw4SOW4UKF
SUMMARY:海の日
DTSTAMP:20260423T213333Z
DTSTART;VALUE=DATE:20280717
CATEGORIES:祝日
DURATION:P1DT
END:VEVENT
BEGIN:VEVENT
UID:TrGTl2fRoqSV7D6vnMRUh
SUMMARY:一粒万倍日
DTSTAMP:20260423T213333Z
DTSTART;VALUE=DATE:20280720
CATEGORIES:選日
DURATION:P1DT
END:VEVENT
BEGIN:VEVENT
UID:R8_OO5Iib55V3mmCQQwUN
SUMMARY:大暑
DTSTAMP:20260423T213333Z
DTSTART;VALUE=DATE:20280722
CATEGORIES:節気
DURATION:P1DT
END:VEVENT
BEGIN:VEVENT
UID:Sc0kFhS9gE9PvBxxmnKqi
SUMMARY:一粒万倍日
DTSTAMP:20260423T213333Z
DTSTART;VALUE=DATE:20280723
CATEGORIES:選日
DURATION:P1DT
END:VEVENT
BEGIN:VEVENT
UID:YJkKKQ_gQJriEtNH7rE92
SUMMARY:一粒万倍日
DTSTAMP:20260423T213333Z
DTSTART;VALUE=DATE:20280801
CATEGORIES:選日
DURATION:P1DT
END:VEVENT
BEGIN:VEVENT
UID:74MPcjRHSp40qC1Nr--jg
SUMMARY:一粒万倍日
DTSTAMP:20260423T213333Z
DTSTART;VALUE=DATE:20280804
CATEGORIES:選日
DURATION:P1DT
END:VEVENT
BEGIN:VEVENT
UID:06gmfXoE6_BqRhw2SEudA
SUMMARY:一粒万倍日
DTSTAMP:20260423T213333Z
DTSTART;VALUE=DATE:20280807
CATEGORIES:選日
DURATION:P1DT
END:VEVENT
BEGIN:VEVENT
UID:_r_uVI8Q7ntYUXi60hoQL
SUMMARY:立秋
DTSTAMP:20260423T213333Z
DTSTART;VALUE=DATE:20280807
CATEGORIES:節気
DURATION:P1DT
END:VEVENT
BEGIN:VEVENT
UID:QZTOT1I5pXkaG1tBgpjzV
SUMMARY:山の日
DTSTAMP:20260423T213333Z
DTSTART;VALUE=DATE:20280811
CATEGORIES:祝日
DURATION:P1DT
END:VEVENT
BEGIN:VEVENT
UID:8me8dQc07wbptsI9rLmYd
SUMMARY:一粒万倍日
DTSTAMP:20260423T213333Z
DTSTART;VALUE=DATE:20280814
CATEGORIES:選日
DURATION:P1DT
END:VEVENT
BEGIN:VEVENT
UID:jTu3x-bQhiFBLuxsIZQjc
SUMMARY:一粒万倍日
DTSTAMP:20260423T213333Z
DTSTART;VALUE=DATE:20280819
CATEGORIES:選日
DURATION:P1DT
END:VEVENT
BEGIN:VEVENT
UID:yUbK_HBTqYVvrBKtBxBOy
SUMMARY:処暑
DTSTAMP:20260423T213333Z
DTSTART;VALUE=DATE:20280822
CATEGORIES:節気
DURATION:P1DT
END:VEVENT
BEGIN:VEVENT
UID:TZgCTKgGTORJUstBUpLPi
SUMMARY:一粒万倍日
DTSTAMP:20260423T213333Z
DTSTART;VALUE=DATE:20280826
CATEGORIES:選日
DURATION:P1DT
END:VEVENT
BEGIN:VEVENT
UID:Qsc6oEeiCfjsNDqedsRFH
SUMMARY:一粒万倍日
DTSTAMP:20260423T213333Z
DTSTART;VALUE=DATE:20280831
CATEGORIES:選日
DURATION:P1DT
END:VEVENT
BEGIN:VEVENT
UID:09kRxbRqPZ8iXGTAypTpK
SUMMARY:白露
DTSTAMP:20260423T213333Z
DTSTART;VALUE=DATE:20280907
CATEGORIES:節気
DURATION:P1DT
END:VEVENT
BEGIN:VEVENT
UID:c3NVNlspuJBnhMqWx2joV
SUMMARY:一粒万倍日
DTSTAMP:20260423T213333Z
DTSTART;VALUE=DATE:20280908
CATEGORIES:選日
DURATION:P1DT
END:VEVENT
BEGIN:VEVENT
UID:jbMA4wppEZElONSGsVdbe
SUMMARY:一粒万倍日
DTSTAMP:20260423T213333Z
DTSTART;VALUE=DATE:20280915
CATEGORIES:選日
DURATION:P1DT
END:VEVENT
BEGIN:VEVENT
UID:B7OeAPBN5y6ILBOx2wsyD
SUMMARY:敬老の日
DTSTAMP:20260423T213333Z
DTSTART;VALUE=DATE:20280918
CATEGORIES:祝日
DURATION:P1DT
END:VEVENT
BEGIN:VEVENT
UID:YnQOSyDiMU8v-VVeQF3sD
SUMMARY:一粒万倍日
DTSTAMP:20260423T213333Z
DTSTART;VALUE=DATE:20280920
CATEGORIES:選日
DURATION:P1DT
END:VEVENT
BEGIN:VEVENT
UID:cIQq8SPw426ZFpJ18BsQO
SUMMARY:天赦日
DTSTAMP:20260423T213333Z
DTSTART;VALUE=DATE:20280920
CATEGORIES:選日
DURATION:P1DT
END:VEVENT
BEGIN:VEVENT
UID:Qu_yyXAoIChlT5RQ92Ezo
SUMMARY:秋分の日
DTSTAMP:20260423T213333Z
DTSTART;VALUE=DATE:20280922
CATEGORIES:祝日
DURATION:P1DT
END:VEVENT
BEGIN:VEVENT
UID:FSGRM9YTfXozxSyXcphje
SUMMARY:秋分
DTSTAMP:20260423T213333Z
DTSTART;VALUE=DATE:20280922
CATEGORIES:節気
DURATION:P1DT
END:VEVENT
BEGIN:VEVENT
UID:f76cPkt2xZUcKXmRdD_J_
SUMMARY:一粒万倍日
DTSTAMP:20260423T213333Z
DTSTART;VALUE=DATE:20280927
CATEGORIES:選日
DURATION:P1DT
END:VEVENT
BEGIN:VEVENT
UID:J3I1XlVhi_7ZBh5cTCems
SUMMARY:一粒万倍日
DTSTAMP:20260423T213333Z
DTSTART;VALUE=DATE:20281002
CATEGORIES:選日
DURATION:P1DT
END:VEVENT
BEGIN:VEVENT
UID:f3_WcepqBSFTWUHLE0lBK
SUMMARY:寒露
DTSTAMP:20260423T213333Z
DTSTART;VALUE=DATE:20281008
CATEGORIES:節気
DURATION:P1DT
END:VEVENT
BEGIN:VEVENT
UID:eucR6fZOJlqksuLXrHsSd
SUMMARY:スポーツの日
DTSTAMP:20260423T213333Z
DTSTART;VALUE=DATE:20281009
CATEGORIES:祝日
DURATION:P1DT
END:VEVENT
BEGIN:VEVENT
UID:TF3KuwFlIjntIfa5nMj0P
SUMMARY:一粒万倍日
DTSTAMP:20260423T213333Z
DTSTART;VALUE=DATE:20281012
CATEGORIES:選日
DURATION:P1DT
END:VEVENT
BEGIN:VEVENT
UID:eMq2tLClpMXmPbs70iQ__
SUMMARY:一粒万倍日
DTSTAMP:20260423T213333Z
DTSTART;VALUE=DATE:20281015
CATEGORIES:選日
DURATION:P1DT
END:VEVENT
BEGIN:VEVENT
UID:helDZwYFDwv8rgnlkaeJo
SUMMARY:霜降
DTSTAMP:20260423T213333Z
DTSTART;VALUE=DATE:20281023
CATEGORIES:節気
DURATION:P1DT
END:VEVENT
BEGIN:VEVENT
UID:BCFRB8-sQ0S7U4_GTKjFG
SUMMARY:一粒万倍日
DTSTAMP:20260423T213333Z
DTSTART;VALUE=DATE:20281024
CATEGORIES:選日
DURATION:P1DT
END:VEVENT
BEGIN:VEVENT
UID:ZTN0SupOd5g-lIhyjhWvf
SUMMARY:一粒万倍日
DTSTAMP:20260423T213333Z
DTSTART;VALUE=DATE:20281027
CATEGORIES:選日
DURATION:P1DT
END:VEVENT
BEGIN:VEVENT
UID:uBVmBNPR-UzkKg1cm6Y0k
SUMMARY:文化の日
DTSTAMP:20260423T213333Z
DTSTART;VALUE=DATE:20281103
CATEGORIES:祝日
DURATION:P1DT
END:VEVENT
BEGIN:VEVENT
UID:uGc4JdslEOWYwGKgxVapz
SUMMARY:一粒万倍日
DTSTAMP:20260423T213333Z
DTSTART;VALUE=DATE:20281105
CATEGORIES:選日
DURATION:P1DT
END:VEVENT
BEGIN:VEVENT
UID:CFQ-Djfv42xUXAlEgNa-T
SUMMARY:立冬
DTSTAMP:20260423T213333Z
DTSTART;VALUE=DATE:20281107
CATEGORIES:節気
DURATION:P1DT
END:VEVENT
BEGIN:VEVENT
UID:lhwn4xkYaUlnaRC7v5mEC
SUMMARY:一粒万倍日
DTSTAMP:20260423T213333Z
DTSTART;VALUE=DATE:20281108
CATEGORIES:選日
DURATION:P1DT
END:VEVENT
BEGIN:VEVENT
UID:uieVuriOGEA6EefaEy0MV
SUMMARY:一粒万倍日
DTSTAMP:20260423T213333Z
DTSTART;VALUE=DATE:20281109
CATEGORIES:選日
DURATION:P1DT
END:VEVENT
BEGIN:VEVENT
UID:Z3AQjHsXgwsD0iDXYnvOx
SUMMARY:一粒万倍日
DTSTAMP:20260423T213333Z
DTSTART;VALUE=DATE:20281120
CATEGORIES:選日
DURATION:P1DT
END:VEVENT
BEGIN:VEVENT
UID:YK2weNiRlje2cwySA-bem
SUMMARY:一粒万倍日
DTSTAMP:20260423T213333Z
DTSTART;VALUE=DATE:20281121
CATEGORIES:選日
DURATION:P1DT
END:VEVENT
BEGIN:VEVENT
UID:4Aa5Ykdyl2PvwyJQMCMwS
SUMMARY:小雪
DTSTAMP:20260423T213333Z
DTSTART;VALUE=DATE:20281122
CATEGORIES:節気
DURATION:P1DT
END:VEVENT
BEGIN:VEVENT
UID:A6YWGTyTYh2-RGGy7wchg
SUMMARY:勤労感謝の日
DTSTAMP:20260423T213333Z
DTSTART;VALUE=DATE:20281123
CATEGORIES:祝日
DURATION:P1DT
END:VEVENT
BEGIN:VEVENT
UID:E-WHJpKKfn0HzVUhdmdQ9
SUMMARY:一粒万倍日
DTSTAMP:20260423T213333Z
DTSTART;VALUE=DATE:20281202
CATEGORIES:選日
DURATION:P1DT
END:VEVENT
BEGIN:VEVENT
UID:5jyvKYhKFYvxozSnDv1GT
SUMMARY:一粒万倍日
DTSTAMP:20260423T213333Z
DTSTART;VALUE=DATE:20281203
CATEGORIES:選日
DURATION:P1DT
END:VEVENT
BEGIN:VEVENT
UID:Wrs1EM4IQydGBalefqnCs
SUMMARY:天赦日
DTSTAMP:20260423T213333Z
DTSTART;VALUE=DATE:20281205
CATEGORIES:選日
DURATION:P1DT
END:VEVENT
BEGIN:VEVENT
UID:uCu6-p0hbSxSoazqp7iP1
SUMMARY:大雪
DTSTAMP:20260423T213333Z
DTSTART;VALUE=DATE:20281206
CATEGORIES:節気
DURATION:P1DT
END:VEVENT
BEGIN:VEVENT
UID:A9-zNzpZs_Qh1PMpsmg1q
SUMMARY:一粒万倍日
DTSTAMP:20260423T213333Z
DTSTART;VALUE=DATE:20281216
CATEGORIES:選日
DURATION:P1DT
END:VEVENT
BEGIN:VEVENT
UID:wx1oTTqL2dJVv-WBzfkJt
SUMMARY:一粒万倍日
DTSTAMP:20260423T213333Z
DTSTART;VALUE=DATE:20281217
CATEGORIES:選日
DURATION:P1DT
END:VEVENT
BEGIN:VEVENT
UID:7QxaNvxHht4PithxrkH4p
SUMMARY:冬至
DTSTAMP:20260423T213333Z
DTSTART;VALUE=DATE:20281221
CATEGORIES:節気
DURATION:P1DT
END:VEVENT
BEGIN:VEVENT
UID:hwBRSBB18VLuVnXZ133xc
SUMMARY:一粒万倍日
DTSTAMP:20260423T213333Z
DTSTART;VALUE=DATE:20281228
CATEGORIES:選日
DURATION:P1DT
END:VEVENT
BEGIN:VEVENT
UID:pM9_tnzYWTBx53a1prlYe
SUMMARY:一粒万倍日
DTSTAMP:20260423T213333Z
DTSTART;VALUE=DATE:20281229
CATEGORIES:選日
DURATION:P1DT
END:VEVENT
END:VCALENDAR
