BEGIN:VCALENDAR
VERSION:2.0
CALSCALE:GREGORIAN
PRODID:adamgibbons/ics
METHOD:PUBLISH
X-WR-CALNAME:koyomi
X-PUBLISHED-TTL:PT1H
BEGIN:VEVENT
UID:7ZyEimaWKCDO4GhbflbcM
SUMMARY:元日
DTSTAMP:20260423T232637Z
DTSTART;VALUE=DATE:20290101
CATEGORIES:祝日
DURATION:P1DT
END:VEVENT
BEGIN:VEVENT
UID:r2OgTYyNcD-DY2p32jDgQ
SUMMARY:小寒
DTSTAMP:20260423T232637Z
DTSTART;VALUE=DATE:20290105
CATEGORIES:節気
DURATION:P1DT
END:VEVENT
BEGIN:VEVENT
UID:zsIpBKt5PFUuqT6FeoJwx
SUMMARY:成人の日
DTSTAMP:20260423T232637Z
DTSTART;VALUE=DATE:20290108
CATEGORIES:祝日
DURATION:P1DT
END:VEVENT
BEGIN:VEVENT
UID:0nfSk91c60Je_DhcvxNfb
SUMMARY:一粒万倍日
DTSTAMP:20260423T232637Z
DTSTART;VALUE=DATE:20290110
CATEGORIES:選日
DURATION:P1DT
END:VEVENT
BEGIN:VEVENT
UID:maz5RyaJgt5WDOASHiygA
SUMMARY:一粒万倍日
DTSTAMP:20260423T232637Z
DTSTART;VALUE=DATE:20290113
CATEGORIES:選日
DURATION:P1DT
END:VEVENT
BEGIN:VEVENT
UID:rNUaktTmTaCTQUCKUyeA4
SUMMARY:大寒
DTSTAMP:20260423T232637Z
DTSTART;VALUE=DATE:20290120
CATEGORIES:節気
DURATION:P1DT
END:VEVENT
BEGIN:VEVENT
UID:006PWbT_25flwQxuIrV6d
SUMMARY:一粒万倍日
DTSTAMP:20260423T232637Z
DTSTART;VALUE=DATE:20290122
CATEGORIES:選日
DURATION:P1DT
END:VEVENT
BEGIN:VEVENT
UID:NiG1GteeLwK10CUtwTBIw
SUMMARY:一粒万倍日
DTSTAMP:20260423T232637Z
DTSTART;VALUE=DATE:20290125
CATEGORIES:選日
DURATION:P1DT
END:VEVENT
BEGIN:VEVENT
UID:C9Xv0us_U6PkphRT6b4b9
SUMMARY:立春
DTSTAMP:20260423T232637Z
DTSTART;VALUE=DATE:20290203
CATEGORIES:節気
DURATION:P1DT
END:VEVENT
BEGIN:VEVENT
UID:2MyroQIlmD3vPsD3_viBC
SUMMARY:一粒万倍日
DTSTAMP:20260423T232637Z
DTSTART;VALUE=DATE:20290204
CATEGORIES:選日
DURATION:P1DT
END:VEVENT
BEGIN:VEVENT
UID:g4sJS_Db3Dh7YC8nj3q-U
SUMMARY:一粒万倍日
DTSTAMP:20260423T232637Z
DTSTART;VALUE=DATE:20290209
CATEGORIES:選日
DURATION:P1DT
END:VEVENT
BEGIN:VEVENT
UID:hb8s4dJB2V1jC6ITSGRwF
SUMMARY:建国記念の日
DTSTAMP:20260423T232637Z
DTSTART;VALUE=DATE:20290211
CATEGORIES:祝日
DURATION:P1DT
END:VEVENT
BEGIN:VEVENT
UID:a-SnKTlhEhxj5H9HatUWj
SUMMARY:建国記念の日 振替休日
DTSTAMP:20260423T232637Z
DTSTART;VALUE=DATE:20290212
CATEGORIES:祝日
DURATION:P1DT
END:VEVENT
BEGIN:VEVENT
UID:g9cUmqC8wQz0wzg2XS-I0
SUMMARY:一粒万倍日
DTSTAMP:20260423T232637Z
DTSTART;VALUE=DATE:20290216
CATEGORIES:選日
DURATION:P1DT
END:VEVENT
BEGIN:VEVENT
UID:QDuVXilPGqq5lD7fndULW
SUMMARY:天赦日
DTSTAMP:20260423T232637Z
DTSTART;VALUE=DATE:20290217
CATEGORIES:選日
DURATION:P1DT
END:VEVENT
BEGIN:VEVENT
UID:rSUCwlbjH44yzIBekUp0Z
SUMMARY:雨水
DTSTAMP:20260423T232637Z
DTSTART;VALUE=DATE:20290218
CATEGORIES:節気
DURATION:P1DT
END:VEVENT
BEGIN:VEVENT
UID:M_N1njY9laMSdE5DR5Cl8
SUMMARY:一粒万倍日
DTSTAMP:20260423T232637Z
DTSTART;VALUE=DATE:20290221
CATEGORIES:選日
DURATION:P1DT
END:VEVENT
BEGIN:VEVENT
UID:XnQdEEfdf8Q3lT4rlwN48
SUMMARY:天皇誕生日
DTSTAMP:20260423T232637Z
DTSTART;VALUE=DATE:20290223
CATEGORIES:祝日
DURATION:P1DT
END:VEVENT
BEGIN:VEVENT
UID:dEVVYd5EDAK7vxv4uU-1l
SUMMARY:一粒万倍日
DTSTAMP:20260423T232637Z
DTSTART;VALUE=DATE:20290228
CATEGORIES:選日
DURATION:P1DT
END:VEVENT
BEGIN:VEVENT
UID:hMSb4L2Yxgm5cppzm-nD0
SUMMARY:啓蟄
DTSTAMP:20260423T232637Z
DTSTART;VALUE=DATE:20290305
CATEGORIES:節気
DURATION:P1DT
END:VEVENT
BEGIN:VEVENT
UID:k1IFx82IqAOJlzQCj0G7H
SUMMARY:一粒万倍日
DTSTAMP:20260423T232637Z
DTSTART;VALUE=DATE:20290308
CATEGORIES:選日
DURATION:P1DT
END:VEVENT
BEGIN:VEVENT
UID:Hsy9zafxKdwbtcHGgytNx
SUMMARY:一粒万倍日
DTSTAMP:20260423T232637Z
DTSTART;VALUE=DATE:20290313
CATEGORIES:選日
DURATION:P1DT
END:VEVENT
BEGIN:VEVENT
UID:9ixMlCnlrVgGEmFNh_NsE
SUMMARY:春分の日
DTSTAMP:20260423T232637Z
DTSTART;VALUE=DATE:20290320
CATEGORIES:祝日
DURATION:P1DT
END:VEVENT
BEGIN:VEVENT
UID:hSHDH-x5Iw9RdJ2buccJZ
SUMMARY:一粒万倍日
DTSTAMP:20260423T232637Z
DTSTART;VALUE=DATE:20290320
CATEGORIES:選日
DURATION:P1DT
END:VEVENT
BEGIN:VEVENT
UID:qL78yXLGvrcRLbsz66vgw
SUMMARY:春分
DTSTAMP:20260423T232637Z
DTSTART;VALUE=DATE:20290320
CATEGORIES:節気
DURATION:P1DT
END:VEVENT
BEGIN:VEVENT
UID:keYF4Ll0MgpwcJRkBfsEK
SUMMARY:一粒万倍日
DTSTAMP:20260423T232637Z
DTSTART;VALUE=DATE:20290325
CATEGORIES:選日
DURATION:P1DT
END:VEVENT
BEGIN:VEVENT
UID:x97a9HzCnB8UK9qzo9ZyE
SUMMARY:一粒万倍日
DTSTAMP:20260423T232637Z
DTSTART;VALUE=DATE:20290401
CATEGORIES:選日
DURATION:P1DT
END:VEVENT
BEGIN:VEVENT
UID:IQoE6xyWi4ztV2LFN91MO
SUMMARY:一粒万倍日
DTSTAMP:20260423T232637Z
DTSTART;VALUE=DATE:20290404
CATEGORIES:選日
DURATION:P1DT
END:VEVENT
BEGIN:VEVENT
UID:QED4mTw7dwztNteg3Fac2
SUMMARY:清明
DTSTAMP:20260423T232637Z
DTSTART;VALUE=DATE:20290404
CATEGORIES:節気
DURATION:P1DT
END:VEVENT
BEGIN:VEVENT
UID:ZgEKrSO_mRJErp4RqCqd5
SUMMARY:一粒万倍日
DTSTAMP:20260423T232637Z
DTSTART;VALUE=DATE:20290407
CATEGORIES:選日
DURATION:P1DT
END:VEVENT
BEGIN:VEVENT
UID:5QVRDezwgSOPeIwUXj9h5
SUMMARY:一粒万倍日
DTSTAMP:20260423T232637Z
DTSTART;VALUE=DATE:20290416
CATEGORIES:選日
DURATION:P1DT
END:VEVENT
BEGIN:VEVENT
UID:zgNOVvvW-Ln0Gg3XWha_G
SUMMARY:天赦日
DTSTAMP:20260423T232637Z
DTSTART;VALUE=DATE:20290418
CATEGORIES:選日
DURATION:P1DT
END:VEVENT
BEGIN:VEVENT
UID:nZtNn_0qNogdSV9CJ1PUw
SUMMARY:一粒万倍日
DTSTAMP:20260423T232637Z
DTSTART;VALUE=DATE:20290419
CATEGORIES:選日
DURATION:P1DT
END:VEVENT
BEGIN:VEVENT
UID:TyrgpU1JyaHPSXSCWIn5U
SUMMARY:穀雨
DTSTAMP:20260423T232637Z
DTSTART;VALUE=DATE:20290420
CATEGORIES:節気
DURATION:P1DT
END:VEVENT
BEGIN:VEVENT
UID:xA7a7_36M4lN6ahC1iNXV
SUMMARY:一粒万倍日
DTSTAMP:20260423T232637Z
DTSTART;VALUE=DATE:20290428
CATEGORIES:選日
DURATION:P1DT
END:VEVENT
BEGIN:VEVENT
UID:93WS8Qdtv5xtyelm6tSIU
SUMMARY:昭和の日
DTSTAMP:20260423T232637Z
DTSTART;VALUE=DATE:20290429
CATEGORIES:祝日
DURATION:P1DT
END:VEVENT
BEGIN:VEVENT
UID:WscF2n-2AGKmxjVAYmNT2
SUMMARY:昭和の日 振替休日
DTSTAMP:20260423T232637Z
DTSTART;VALUE=DATE:20290430
CATEGORIES:祝日
DURATION:P1DT
END:VEVENT
BEGIN:VEVENT
UID:8voOqC23tYAOnc-qPZvSC
SUMMARY:一粒万倍日
DTSTAMP:20260423T232637Z
DTSTART;VALUE=DATE:20290501
CATEGORIES:選日
DURATION:P1DT
END:VEVENT
BEGIN:VEVENT
UID:XS0BrG5UyEl7hm4zLQ5Zm
SUMMARY:憲法記念日
DTSTAMP:20260423T232637Z
DTSTART;VALUE=DATE:20290503
CATEGORIES:祝日
DURATION:P1DT
END:VEVENT
BEGIN:VEVENT
UID:9hlI_IARPoBqyi5rjCXxz
SUMMARY:みどりの日
DTSTAMP:20260423T232637Z
DTSTART;VALUE=DATE:20290504
CATEGORIES:祝日
DURATION:P1DT
END:VEVENT
BEGIN:VEVENT
UID:aMCSYg4bG0pFdKPsIeZZv
SUMMARY:こどもの日
DTSTAMP:20260423T232637Z
DTSTART;VALUE=DATE:20290505
CATEGORIES:祝日
DURATION:P1DT
END:VEVENT
BEGIN:VEVENT
UID:yg9GMzE4gPbAxBW0YOGiq
SUMMARY:立夏
DTSTAMP:20260423T232637Z
DTSTART;VALUE=DATE:20290505
CATEGORIES:節気
DURATION:P1DT
END:VEVENT
BEGIN:VEVENT
UID:mAPKNFu68Szd47Ufs_9EU
SUMMARY:一粒万倍日
DTSTAMP:20260423T232637Z
DTSTART;VALUE=DATE:20290513
CATEGORIES:選日
DURATION:P1DT
END:VEVENT
BEGIN:VEVENT
UID:-kNS-yh6jVxL4HO67ZhdQ
SUMMARY:一粒万倍日
DTSTAMP:20260423T232637Z
DTSTART;VALUE=DATE:20290514
CATEGORIES:選日
DURATION:P1DT
END:VEVENT
BEGIN:VEVENT
UID:BtFbAlXs4pNRdfzuFnECO
SUMMARY:小満
DTSTAMP:20260423T232637Z
DTSTART;VALUE=DATE:20290521
CATEGORIES:節気
DURATION:P1DT
END:VEVENT
BEGIN:VEVENT
UID:VWzJDWhluBJ088bDzQTp7
SUMMARY:一粒万倍日
DTSTAMP:20260423T232637Z
DTSTART;VALUE=DATE:20290525
CATEGORIES:選日
DURATION:P1DT
END:VEVENT
BEGIN:VEVENT
UID:JlFL_hZrn_SUYHLc3w-XC
SUMMARY:一粒万倍日
DTSTAMP:20260423T232637Z
DTSTART;VALUE=DATE:20290526
CATEGORIES:選日
DURATION:P1DT
END:VEVENT
BEGIN:VEVENT
UID:SES7xFKO310oV8o2Uwayd
SUMMARY:芒種
DTSTAMP:20260423T232637Z
DTSTART;VALUE=DATE:20290605
CATEGORIES:節気
DURATION:P1DT
END:VEVENT
BEGIN:VEVENT
UID:Xa1IBnjVLoQh7IjCllj0X
SUMMARY:一粒万倍日
DTSTAMP:20260423T232637Z
DTSTART;VALUE=DATE:20290608
CATEGORIES:選日
DURATION:P1DT
END:VEVENT
BEGIN:VEVENT
UID:6jIy3jfj4LxapUPjsOeT6
SUMMARY:一粒万倍日
DTSTAMP:20260423T232637Z
DTSTART;VALUE=DATE:20290609
CATEGORIES:選日
DURATION:P1DT
END:VEVENT
BEGIN:VEVENT
UID:Tl6tabzQ5-zudoxBi7orY
SUMMARY:一粒万倍日
DTSTAMP:20260423T232637Z
DTSTART;VALUE=DATE:20290620
CATEGORIES:選日
DURATION:P1DT
END:VEVENT
BEGIN:VEVENT
UID:RVmAhAhFtNrIljBffGy_-
SUMMARY:一粒万倍日
DTSTAMP:20260423T232637Z
DTSTART;VALUE=DATE:20290621
CATEGORIES:選日
DURATION:P1DT
END:VEVENT
BEGIN:VEVENT
UID:WlDnJz2LqIky_Bzr9_JFB
SUMMARY:夏至
DTSTAMP:20260423T232637Z
DTSTART;VALUE=DATE:20290621
CATEGORIES:節気
DURATION:P1DT
END:VEVENT
BEGIN:VEVENT
UID:gQKldUwQbqUUh9E4GWoFg
SUMMARY:一粒万倍日
DTSTAMP:20260423T232637Z
DTSTART;VALUE=DATE:20290702
CATEGORIES:選日
DURATION:P1DT
END:VEVENT
BEGIN:VEVENT
UID:B0Y5VKWmaeRPnAX51Fgd3
SUMMARY:一粒万倍日
DTSTAMP:20260423T232637Z
DTSTART;VALUE=DATE:20290703
CATEGORIES:選日
DURATION:P1DT
END:VEVENT
BEGIN:VEVENT
UID:Kf_UgXrKPkVtjib-Di3vJ
SUMMARY:天赦日
DTSTAMP:20260423T232637Z
DTSTART;VALUE=DATE:20290703
CATEGORIES:選日
DURATION:P1DT
END:VEVENT
BEGIN:VEVENT
UID:vTt48tbdd9hnIx2fBLkXR
SUMMARY:小暑
DTSTAMP:20260423T232637Z
DTSTART;VALUE=DATE:20290707
CATEGORIES:節気
DURATION:P1DT
END:VEVENT
BEGIN:VEVENT
UID:ansBFj11_79QFtrLzzafy
SUMMARY:一粒万倍日
DTSTAMP:20260423T232637Z
DTSTART;VALUE=DATE:20290715
CATEGORIES:選日
DURATION:P1DT
END:VEVENT
BEGIN:VEVENT
UID:0mUjx0hRshM48QY57Aa5i
SUMMARY:海の日
DTSTAMP:20260423T232637Z
DTSTART;VALUE=DATE:20290716
CATEGORIES:祝日
DURATION:P1DT
END:VEVENT
BEGIN:VEVENT
UID:ORKyLFRsmAFQ4syGHhL6K
SUMMARY:一粒万倍日
DTSTAMP:20260423T232637Z
DTSTART;VALUE=DATE:20290718
CATEGORIES:選日
DURATION:P1DT
END:VEVENT
BEGIN:VEVENT
UID:XQc0FFymC4V_DggGtfmKG
SUMMARY:大暑
DTSTAMP:20260423T232637Z
DTSTART;VALUE=DATE:20290722
CATEGORIES:節気
DURATION:P1DT
END:VEVENT
BEGIN:VEVENT
UID:rdNCR0tQ9rF3Nbdu1O-H0
SUMMARY:一粒万倍日
DTSTAMP:20260423T232637Z
DTSTART;VALUE=DATE:20290727
CATEGORIES:選日
DURATION:P1DT
END:VEVENT
BEGIN:VEVENT
UID:tpNChXViYgXODLooQLMk5
SUMMARY:一粒万倍日
DTSTAMP:20260423T232637Z
DTSTART;VALUE=DATE:20290730
CATEGORIES:選日
DURATION:P1DT
END:VEVENT
BEGIN:VEVENT
UID:gkVWUDaKZVVfEjiJ7lz_S
SUMMARY:立秋
DTSTAMP:20260423T232637Z
DTSTART;VALUE=DATE:20290807
CATEGORIES:節気
DURATION:P1DT
END:VEVENT
BEGIN:VEVENT
UID:BOr7rUe_vT3sNF_9FHUo4
SUMMARY:一粒万倍日
DTSTAMP:20260423T232637Z
DTSTART;VALUE=DATE:20290809
CATEGORIES:選日
DURATION:P1DT
END:VEVENT
BEGIN:VEVENT
UID:QqmNG1vhWQ6xTKb-7wQAF
SUMMARY:山の日
DTSTAMP:20260423T232637Z
DTSTART;VALUE=DATE:20290811
CATEGORIES:祝日
DURATION:P1DT
END:VEVENT
BEGIN:VEVENT
UID:fTiVv2OREk13TqzUQtkAn
SUMMARY:一粒万倍日
DTSTAMP:20260423T232637Z
DTSTART;VALUE=DATE:20290814
CATEGORIES:選日
DURATION:P1DT
END:VEVENT
BEGIN:VEVENT
UID:5y1dRUR8ZPOmxpLOpL4bW
SUMMARY:一粒万倍日
DTSTAMP:20260423T232637Z
DTSTART;VALUE=DATE:20290821
CATEGORIES:選日
DURATION:P1DT
END:VEVENT
BEGIN:VEVENT
UID:Gw5qR4ELzdDKxhpDH2-GK
SUMMARY:処暑
DTSTAMP:20260423T232637Z
DTSTART;VALUE=DATE:20290823
CATEGORIES:節気
DURATION:P1DT
END:VEVENT
BEGIN:VEVENT
UID:kHcM9g7N5v3QV-RBuzMGP
SUMMARY:一粒万倍日
DTSTAMP:20260423T232637Z
DTSTART;VALUE=DATE:20290826
CATEGORIES:選日
DURATION:P1DT
END:VEVENT
BEGIN:VEVENT
UID:EyvBHkhW8sDEk8H9xX-7a
SUMMARY:一粒万倍日
DTSTAMP:20260423T232637Z
DTSTART;VALUE=DATE:20290902
CATEGORIES:選日
DURATION:P1DT
END:VEVENT
BEGIN:VEVENT
UID:RXWx-spIk7eR5aZ80J20S
SUMMARY:白露
DTSTAMP:20260423T232637Z
DTSTART;VALUE=DATE:20290907
CATEGORIES:節気
DURATION:P1DT
END:VEVENT
BEGIN:VEVENT
UID:EAlOpVnOsDfh3TTPMqrgg
SUMMARY:一粒万倍日
DTSTAMP:20260423T232637Z
DTSTART;VALUE=DATE:20290910
CATEGORIES:選日
DURATION:P1DT
END:VEVENT
BEGIN:VEVENT
UID:j7WvpmbutFiPfcWDmOjCG
SUMMARY:一粒万倍日
DTSTAMP:20260423T232637Z
DTSTART;VALUE=DATE:20290915
CATEGORIES:選日
DURATION:P1DT
END:VEVENT
BEGIN:VEVENT
UID:UZq1T_ijAbqRFYSaXYuOs
SUMMARY:天赦日
DTSTAMP:20260423T232637Z
DTSTART;VALUE=DATE:20290915
CATEGORIES:選日
DURATION:P1DT
END:VEVENT
BEGIN:VEVENT
UID:mdIFgPB6SnAkwBv8RBz6t
SUMMARY:敬老の日
DTSTAMP:20260423T232637Z
DTSTART;VALUE=DATE:20290917
CATEGORIES:祝日
DURATION:P1DT
END:VEVENT
BEGIN:VEVENT
UID:rcTNVzhX1pAt37dSCZGYj
SUMMARY:一粒万倍日
DTSTAMP:20260423T232637Z
DTSTART;VALUE=DATE:20290922
CATEGORIES:選日
DURATION:P1DT
END:VEVENT
BEGIN:VEVENT
UID:jHSmkVwpDkLRvVKwcsEJF
SUMMARY:秋分の日
DTSTAMP:20260423T232637Z
DTSTART;VALUE=DATE:20290923
CATEGORIES:祝日
DURATION:P1DT
END:VEVENT
BEGIN:VEVENT
UID:GPZOznF8APuSK64Wi0SX1
SUMMARY:秋分
DTSTAMP:20260423T232637Z
DTSTART;VALUE=DATE:20290923
CATEGORIES:節気
DURATION:P1DT
END:VEVENT
BEGIN:VEVENT
UID:mn6U_xe16pvaXm0BssP6F
SUMMARY:秋分の日 振替休日
DTSTAMP:20260423T232637Z
DTSTART;VALUE=DATE:20290924
CATEGORIES:祝日
DURATION:P1DT
END:VEVENT
BEGIN:VEVENT
UID:fqn6w20A1lcxGnBNeBQDS
SUMMARY:一粒万倍日
DTSTAMP:20260423T232637Z
DTSTART;VALUE=DATE:20290927
CATEGORIES:選日
DURATION:P1DT
END:VEVENT
BEGIN:VEVENT
UID:Uj8eNXx3RheYWBHVTgz9p
SUMMARY:一粒万倍日
DTSTAMP:20260423T232637Z
DTSTART;VALUE=DATE:20291004
CATEGORIES:選日
DURATION:P1DT
END:VEVENT
BEGIN:VEVENT
UID:VAiuL5bq27OqduaPKyxd_
SUMMARY:スポーツの日
DTSTAMP:20260423T232637Z
DTSTART;VALUE=DATE:20291008
CATEGORIES:祝日
DURATION:P1DT
END:VEVENT
BEGIN:VEVENT
UID:5TkHuwjg8MGQnwMWjdm99
SUMMARY:寒露
DTSTAMP:20260423T232637Z
DTSTART;VALUE=DATE:20291008
CATEGORIES:節気
DURATION:P1DT
END:VEVENT
BEGIN:VEVENT
UID:q5l74huAKTNLXy9fJ6J0g
SUMMARY:一粒万倍日
DTSTAMP:20260423T232637Z
DTSTART;VALUE=DATE:20291010
CATEGORIES:選日
DURATION:P1DT
END:VEVENT
BEGIN:VEVENT
UID:jZLBYMZFpncr2kA0Mo4fw
SUMMARY:一粒万倍日
DTSTAMP:20260423T232637Z
DTSTART;VALUE=DATE:20291019
CATEGORIES:選日
DURATION:P1DT
END:VEVENT
BEGIN:VEVENT
UID:PPq4oMrlrbGpuE0Ss6ysQ
SUMMARY:一粒万倍日
DTSTAMP:20260423T232637Z
DTSTART;VALUE=DATE:20291022
CATEGORIES:選日
DURATION:P1DT
END:VEVENT
BEGIN:VEVENT
UID:IOeFJ3nmppZcUqCAXbB01
SUMMARY:霜降
DTSTAMP:20260423T232637Z
DTSTART;VALUE=DATE:20291023
CATEGORIES:節気
DURATION:P1DT
END:VEVENT
BEGIN:VEVENT
UID:StAF375qdQnVmQ0xHJacN
SUMMARY:一粒万倍日
DTSTAMP:20260423T232637Z
DTSTART;VALUE=DATE:20291031
CATEGORIES:選日
DURATION:P1DT
END:VEVENT
BEGIN:VEVENT
UID:716y5T4cM7sJTwayOHKGn
SUMMARY:文化の日
DTSTAMP:20260423T232637Z
DTSTART;VALUE=DATE:20291103
CATEGORIES:祝日
DURATION:P1DT
END:VEVENT
BEGIN:VEVENT
UID:6WE8oBEjmsrovjardj0_k
SUMMARY:一粒万倍日
DTSTAMP:20260423T232637Z
DTSTART;VALUE=DATE:20291103
CATEGORIES:選日
DURATION:P1DT
END:VEVENT
BEGIN:VEVENT
UID:rMeVhFVCq_84gBrFUoCb-
SUMMARY:立冬
DTSTAMP:20260423T232637Z
DTSTART;VALUE=DATE:20291107
CATEGORIES:節気
DURATION:P1DT
END:VEVENT
BEGIN:VEVENT
UID:so-hLSG8upaN_E-jCXCqj
SUMMARY:一粒万倍日
DTSTAMP:20260423T232637Z
DTSTART;VALUE=DATE:20291115
CATEGORIES:選日
DURATION:P1DT
END:VEVENT
BEGIN:VEVENT
UID:dOLh2YX5yZHOHOQgjOQZi
SUMMARY:一粒万倍日
DTSTAMP:20260423T232637Z
DTSTART;VALUE=DATE:20291116
CATEGORIES:選日
DURATION:P1DT
END:VEVENT
BEGIN:VEVENT
UID:rHDGQ_AJSv--4s3W3uAKb
SUMMARY:小雪
DTSTAMP:20260423T232637Z
DTSTART;VALUE=DATE:20291122
CATEGORIES:節気
DURATION:P1DT
END:VEVENT
BEGIN:VEVENT
UID:Aw0lVhq-Pz3UUwMsXP_5k
SUMMARY:勤労感謝の日
DTSTAMP:20260423T232637Z
DTSTART;VALUE=DATE:20291123
CATEGORIES:祝日
DURATION:P1DT
END:VEVENT
BEGIN:VEVENT
UID:ZHqhTGv39oiZn4CXCo-j2
SUMMARY:一粒万倍日
DTSTAMP:20260423T232637Z
DTSTART;VALUE=DATE:20291127
CATEGORIES:選日
DURATION:P1DT
END:VEVENT
BEGIN:VEVENT
UID:EEqGUEzWAjvpROnDgedet
SUMMARY:一粒万倍日
DTSTAMP:20260423T232637Z
DTSTART;VALUE=DATE:20291128
CATEGORIES:選日
DURATION:P1DT
END:VEVENT
BEGIN:VEVENT
UID:wX2uIUjN3taPe-8lR6z-k
SUMMARY:天赦日
DTSTAMP:20260423T232637Z
DTSTART;VALUE=DATE:20291130
CATEGORIES:選日
DURATION:P1DT
END:VEVENT
BEGIN:VEVENT
UID:s4DJz2We4nI5aLLnHLJW5
SUMMARY:大雪
DTSTAMP:20260423T232637Z
DTSTART;VALUE=DATE:20291207
CATEGORIES:節気
DURATION:P1DT
END:VEVENT
BEGIN:VEVENT
UID:byhtbhNhZgb0Vk-7YmnY8
SUMMARY:一粒万倍日
DTSTAMP:20260423T232637Z
DTSTART;VALUE=DATE:20291211
CATEGORIES:選日
DURATION:P1DT
END:VEVENT
BEGIN:VEVENT
UID:iLXRiaRo0fmcHAhA0whCD
SUMMARY:一粒万倍日
DTSTAMP:20260423T232637Z
DTSTART;VALUE=DATE:20291212
CATEGORIES:選日
DURATION:P1DT
END:VEVENT
BEGIN:VEVENT
UID:I6IxtBMZVL2adEKjrj9Xp
SUMMARY:冬至
DTSTAMP:20260423T232637Z
DTSTART;VALUE=DATE:20291221
CATEGORIES:節気
DURATION:P1DT
END:VEVENT
BEGIN:VEVENT
UID:gsnV9Gxg-1uLANfjlQPdG
SUMMARY:一粒万倍日
DTSTAMP:20260423T232637Z
DTSTART;VALUE=DATE:20291223
CATEGORIES:選日
DURATION:P1DT
END:VEVENT
BEGIN:VEVENT
UID:uqAYo9W0SNkB3ZsXh3V_Z
SUMMARY:一粒万倍日
DTSTAMP:20260423T232637Z
DTSTART;VALUE=DATE:20291224
CATEGORIES:選日
DURATION:P1DT
END:VEVENT
END:VCALENDAR
