BEGIN:VCALENDAR
VERSION:2.0
CALSCALE:GREGORIAN
PRODID:adamgibbons/ics
METHOD:PUBLISH
X-WR-CALNAME:koyomi
X-PUBLISHED-TTL:PT1H
BEGIN:VEVENT
UID:WNigYWOkO_dzYhJrgcgKV
SUMMARY:元日
DTSTAMP:20260424T011439Z
DTSTART;VALUE=DATE:20300101
CATEGORIES:祝日
DURATION:P1DT
END:VEVENT
BEGIN:VEVENT
UID:o2QSFqrT_KHb1NMrZrNlI
SUMMARY:一粒万倍日
DTSTAMP:20260424T011439Z
DTSTART;VALUE=DATE:20300104
CATEGORIES:選日
DURATION:P1DT
END:VEVENT
BEGIN:VEVENT
UID:MNAhI7DU_affodz6-v0Kr
SUMMARY:一粒万倍日
DTSTAMP:20260424T011439Z
DTSTART;VALUE=DATE:20300105
CATEGORIES:選日
DURATION:P1DT
END:VEVENT
BEGIN:VEVENT
UID:HV61Eqtee61iOE5eTayVw
SUMMARY:小寒
DTSTAMP:20260424T011439Z
DTSTART;VALUE=DATE:20300105
CATEGORIES:節気
DURATION:P1DT
END:VEVENT
BEGIN:VEVENT
UID:0aUw_3yLWdw3908f1MzLX
SUMMARY:一粒万倍日
DTSTAMP:20260424T011439Z
DTSTART;VALUE=DATE:20300108
CATEGORIES:選日
DURATION:P1DT
END:VEVENT
BEGIN:VEVENT
UID:hfYiZApXm1iq6MKTHQzYN
SUMMARY:成人の日
DTSTAMP:20260424T011439Z
DTSTART;VALUE=DATE:20300114
CATEGORIES:祝日
DURATION:P1DT
END:VEVENT
BEGIN:VEVENT
UID:kVUhv-6DMk__G9mbOjFji
SUMMARY:一粒万倍日
DTSTAMP:20260424T011439Z
DTSTART;VALUE=DATE:20300117
CATEGORIES:選日
DURATION:P1DT
END:VEVENT
BEGIN:VEVENT
UID:FwlHmpoPLlhPca-MaJRUP
SUMMARY:一粒万倍日
DTSTAMP:20260424T011439Z
DTSTART;VALUE=DATE:20300120
CATEGORIES:選日
DURATION:P1DT
END:VEVENT
BEGIN:VEVENT
UID:TRfOUkD35xc_PViQ3ZZoZ
SUMMARY:大寒
DTSTAMP:20260424T011439Z
DTSTART;VALUE=DATE:20300120
CATEGORIES:節気
DURATION:P1DT
END:VEVENT
BEGIN:VEVENT
UID:NeY2YrdHJe0meUtZ4U0-C
SUMMARY:一粒万倍日
DTSTAMP:20260424T011439Z
DTSTART;VALUE=DATE:20300129
CATEGORIES:選日
DURATION:P1DT
END:VEVENT
BEGIN:VEVENT
UID:3u7K8MuD_YVq523yD9z8M
SUMMARY:天赦日
DTSTAMP:20260424T011439Z
DTSTART;VALUE=DATE:20300129
CATEGORIES:選日
DURATION:P1DT
END:VEVENT
BEGIN:VEVENT
UID:vIMItfnZ33XJbq5CTf9vm
SUMMARY:一粒万倍日
DTSTAMP:20260424T011439Z
DTSTART;VALUE=DATE:20300201
CATEGORIES:選日
DURATION:P1DT
END:VEVENT
BEGIN:VEVENT
UID:2iKQn3pwZV-b38giAE0gc
SUMMARY:一粒万倍日
DTSTAMP:20260424T011439Z
DTSTART;VALUE=DATE:20300204
CATEGORIES:選日
DURATION:P1DT
END:VEVENT
BEGIN:VEVENT
UID:gfF6leVOI8FtTKghvaf_1
SUMMARY:立春
DTSTAMP:20260424T011439Z
DTSTART;VALUE=DATE:20300204
CATEGORIES:節気
DURATION:P1DT
END:VEVENT
BEGIN:VEVENT
UID:1HUE5-e_1GLoMh5modSyJ
SUMMARY:建国記念の日
DTSTAMP:20260424T011439Z
DTSTART;VALUE=DATE:20300211
CATEGORIES:祝日
DURATION:P1DT
END:VEVENT
BEGIN:VEVENT
UID:jX6SkbEHUxw8VenofqAH7
SUMMARY:一粒万倍日
DTSTAMP:20260424T011439Z
DTSTART;VALUE=DATE:20300211
CATEGORIES:選日
DURATION:P1DT
END:VEVENT
BEGIN:VEVENT
UID:Xon-hi_iIZeAfELJCoLqu
SUMMARY:天赦日
DTSTAMP:20260424T011439Z
DTSTART;VALUE=DATE:20300212
CATEGORIES:選日
DURATION:P1DT
END:VEVENT
BEGIN:VEVENT
UID:7iJJOAI3jXlFdPvHvkE47
SUMMARY:一粒万倍日
DTSTAMP:20260424T011439Z
DTSTART;VALUE=DATE:20300216
CATEGORIES:選日
DURATION:P1DT
END:VEVENT
BEGIN:VEVENT
UID:uF64moidt-PJ0jFny-AoJ
SUMMARY:雨水
DTSTAMP:20260424T011439Z
DTSTART;VALUE=DATE:20300218
CATEGORIES:節気
DURATION:P1DT
END:VEVENT
BEGIN:VEVENT
UID:xRKBMvxkoSUVXef1h3DFY
SUMMARY:天皇誕生日
DTSTAMP:20260424T011439Z
DTSTART;VALUE=DATE:20300223
CATEGORIES:祝日
DURATION:P1DT
END:VEVENT
BEGIN:VEVENT
UID:rSEFb-40KGm1OaaBAFDrL
SUMMARY:一粒万倍日
DTSTAMP:20260424T011439Z
DTSTART;VALUE=DATE:20300223
CATEGORIES:選日
DURATION:P1DT
END:VEVENT
BEGIN:VEVENT
UID:YHNCAjgj9iPCIsqdsOYub
SUMMARY:一粒万倍日
DTSTAMP:20260424T011439Z
DTSTART;VALUE=DATE:20300228
CATEGORIES:選日
DURATION:P1DT
END:VEVENT
BEGIN:VEVENT
UID:EXWf8JQyga4JUWy7BM6nu
SUMMARY:啓蟄
DTSTAMP:20260424T011439Z
DTSTART;VALUE=DATE:20300305
CATEGORIES:節気
DURATION:P1DT
END:VEVENT
BEGIN:VEVENT
UID:omRx84krXurt-miKgmKrT
SUMMARY:一粒万倍日
DTSTAMP:20260424T011439Z
DTSTART;VALUE=DATE:20300308
CATEGORIES:選日
DURATION:P1DT
END:VEVENT
BEGIN:VEVENT
UID:0jCUA457fw0EX0py0AZyI
SUMMARY:一粒万倍日
DTSTAMP:20260424T011439Z
DTSTART;VALUE=DATE:20300315
CATEGORIES:選日
DURATION:P1DT
END:VEVENT
BEGIN:VEVENT
UID:D-GScffWUMCnGZ5S6JWWI
SUMMARY:春分の日
DTSTAMP:20260424T011439Z
DTSTART;VALUE=DATE:20300320
CATEGORIES:祝日
DURATION:P1DT
END:VEVENT
BEGIN:VEVENT
UID:UHOagvoKb4q4pA-8kly8F
SUMMARY:一粒万倍日
DTSTAMP:20260424T011439Z
DTSTART;VALUE=DATE:20300320
CATEGORIES:選日
DURATION:P1DT
END:VEVENT
BEGIN:VEVENT
UID:tasC5tDU5-Q8qsSOnvJk_
SUMMARY:春分
DTSTAMP:20260424T011439Z
DTSTART;VALUE=DATE:20300320
CATEGORIES:節気
DURATION:P1DT
END:VEVENT
BEGIN:VEVENT
UID:5FDZJ_bTUCrehkYhENZdn
SUMMARY:一粒万倍日
DTSTAMP:20260424T011439Z
DTSTART;VALUE=DATE:20300327
CATEGORIES:選日
DURATION:P1DT
END:VEVENT
BEGIN:VEVENT
UID:bztf4rBg8W8Tz9YcdWryb
SUMMARY:一粒万倍日
DTSTAMP:20260424T011439Z
DTSTART;VALUE=DATE:20300401
CATEGORIES:選日
DURATION:P1DT
END:VEVENT
BEGIN:VEVENT
UID:DSS3PJP_3c3moAQlyk111
SUMMARY:清明
DTSTAMP:20260424T011439Z
DTSTART;VALUE=DATE:20300405
CATEGORIES:節気
DURATION:P1DT
END:VEVENT
BEGIN:VEVENT
UID:C1WonL6q8Ep54uMnBLak_
SUMMARY:一粒万倍日
DTSTAMP:20260424T011439Z
DTSTART;VALUE=DATE:20300411
CATEGORIES:選日
DURATION:P1DT
END:VEVENT
BEGIN:VEVENT
UID:pYNeRCbINTHKknNIOxCtf
SUMMARY:天赦日
DTSTAMP:20260424T011439Z
DTSTART;VALUE=DATE:20300413
CATEGORIES:選日
DURATION:P1DT
END:VEVENT
BEGIN:VEVENT
UID:iViWJZDo5rcBICvO5SyMu
SUMMARY:一粒万倍日
DTSTAMP:20260424T011439Z
DTSTART;VALUE=DATE:20300414
CATEGORIES:選日
DURATION:P1DT
END:VEVENT
BEGIN:VEVENT
UID:LUPKXtoCL1vxz8x96Nz9f
SUMMARY:穀雨
DTSTAMP:20260424T011439Z
DTSTART;VALUE=DATE:20300420
CATEGORIES:節気
DURATION:P1DT
END:VEVENT
BEGIN:VEVENT
UID:rZQ3cS_GIrPxzD9if4EDL
SUMMARY:一粒万倍日
DTSTAMP:20260424T011439Z
DTSTART;VALUE=DATE:20300423
CATEGORIES:選日
DURATION:P1DT
END:VEVENT
BEGIN:VEVENT
UID:KRLSGVRrLUf3rd5tyPnvl
SUMMARY:一粒万倍日
DTSTAMP:20260424T011439Z
DTSTART;VALUE=DATE:20300426
CATEGORIES:選日
DURATION:P1DT
END:VEVENT
BEGIN:VEVENT
UID:Wif7nRWsVm_xfOF_tVpzg
SUMMARY:昭和の日
DTSTAMP:20260424T011439Z
DTSTART;VALUE=DATE:20300429
CATEGORIES:祝日
DURATION:P1DT
END:VEVENT
BEGIN:VEVENT
UID:Mjwkyfv2bivz977-NrvLG
SUMMARY:憲法記念日
DTSTAMP:20260424T011439Z
DTSTART;VALUE=DATE:20300503
CATEGORIES:祝日
DURATION:P1DT
END:VEVENT
BEGIN:VEVENT
UID:VPCwO4QEveOmLOH8Z63E7
SUMMARY:みどりの日
DTSTAMP:20260424T011439Z
DTSTART;VALUE=DATE:20300504
CATEGORIES:祝日
DURATION:P1DT
END:VEVENT
BEGIN:VEVENT
UID:YPiq4CNipHJlCZhacBPnY
SUMMARY:こどもの日
DTSTAMP:20260424T011439Z
DTSTART;VALUE=DATE:20300505
CATEGORIES:祝日
DURATION:P1DT
END:VEVENT
BEGIN:VEVENT
UID:waEwmP322AclI3uv-ct3v
SUMMARY:立夏
DTSTAMP:20260424T011439Z
DTSTART;VALUE=DATE:20300505
CATEGORIES:節気
DURATION:P1DT
END:VEVENT
BEGIN:VEVENT
UID:8ppOz7hak-GjQPR8MGx3r
SUMMARY:こどもの日 振替休日
DTSTAMP:20260424T011439Z
DTSTART;VALUE=DATE:20300506
CATEGORIES:祝日
DURATION:P1DT
END:VEVENT
BEGIN:VEVENT
UID:G54sFoQw36JRfutxD-FaU
SUMMARY:一粒万倍日
DTSTAMP:20260424T011439Z
DTSTART;VALUE=DATE:20300508
CATEGORIES:選日
DURATION:P1DT
END:VEVENT
BEGIN:VEVENT
UID:3t08hVYdN89aiNmmTorM3
SUMMARY:一粒万倍日
DTSTAMP:20260424T011439Z
DTSTART;VALUE=DATE:20300509
CATEGORIES:選日
DURATION:P1DT
END:VEVENT
BEGIN:VEVENT
UID:am8QsOGWGy4UbEXIUOmqZ
SUMMARY:一粒万倍日
DTSTAMP:20260424T011439Z
DTSTART;VALUE=DATE:20300520
CATEGORIES:選日
DURATION:P1DT
END:VEVENT
BEGIN:VEVENT
UID:DWkC60F85PG--gdEjVQ8A
SUMMARY:一粒万倍日
DTSTAMP:20260424T011439Z
DTSTART;VALUE=DATE:20300521
CATEGORIES:選日
DURATION:P1DT
END:VEVENT
BEGIN:VEVENT
UID:fEDffJIzt7Dey-Qu9WXVi
SUMMARY:小満
DTSTAMP:20260424T011439Z
DTSTART;VALUE=DATE:20300521
CATEGORIES:節気
DURATION:P1DT
END:VEVENT
BEGIN:VEVENT
UID:YD6TgCX_rPAvVRzF6YWcZ
SUMMARY:一粒万倍日
DTSTAMP:20260424T011439Z
DTSTART;VALUE=DATE:20300601
CATEGORIES:選日
DURATION:P1DT
END:VEVENT
BEGIN:VEVENT
UID:1WLeD-eZLCs5_kK68tjLZ
SUMMARY:一粒万倍日
DTSTAMP:20260424T011439Z
DTSTART;VALUE=DATE:20300602
CATEGORIES:選日
DURATION:P1DT
END:VEVENT
BEGIN:VEVENT
UID:giM4fRhmRYbzhfrl9i9OC
SUMMARY:芒種
DTSTAMP:20260424T011439Z
DTSTART;VALUE=DATE:20300605
CATEGORIES:節気
DURATION:P1DT
END:VEVENT
BEGIN:VEVENT
UID:1Lg9PDGQCQfMeYo4hzp37
SUMMARY:一粒万倍日
DTSTAMP:20260424T011439Z
DTSTART;VALUE=DATE:20300615
CATEGORIES:選日
DURATION:P1DT
END:VEVENT
BEGIN:VEVENT
UID:krcE4SFSEyOuNgzxs7gIy
SUMMARY:一粒万倍日
DTSTAMP:20260424T011439Z
DTSTART;VALUE=DATE:20300616
CATEGORIES:選日
DURATION:P1DT
END:VEVENT
BEGIN:VEVENT
UID:fCauJm_tWbH9B5YTXG9I3
SUMMARY:夏至
DTSTAMP:20260424T011439Z
DTSTART;VALUE=DATE:20300621
CATEGORIES:節気
DURATION:P1DT
END:VEVENT
BEGIN:VEVENT
UID:FBG6VRwWKOOhoWRQeK_QL
SUMMARY:一粒万倍日
DTSTAMP:20260424T011439Z
DTSTART;VALUE=DATE:20300627
CATEGORIES:選日
DURATION:P1DT
END:VEVENT
BEGIN:VEVENT
UID:z04qK9IKZDeKcZxTidE1F
SUMMARY:一粒万倍日
DTSTAMP:20260424T011439Z
DTSTART;VALUE=DATE:20300628
CATEGORIES:選日
DURATION:P1DT
END:VEVENT
BEGIN:VEVENT
UID:jgJOycpW8SnQy1OkMfnqt
SUMMARY:天赦日
DTSTAMP:20260424T011439Z
DTSTART;VALUE=DATE:20300628
CATEGORIES:選日
DURATION:P1DT
END:VEVENT
BEGIN:VEVENT
UID:Z7BYQoVtiCdTcjxX5Qcae
SUMMARY:小暑
DTSTAMP:20260424T011439Z
DTSTART;VALUE=DATE:20300707
CATEGORIES:節気
DURATION:P1DT
END:VEVENT
BEGIN:VEVENT
UID:Ts39YBe5Z3u_57G7TlRhy
SUMMARY:一粒万倍日
DTSTAMP:20260424T011439Z
DTSTART;VALUE=DATE:20300710
CATEGORIES:選日
DURATION:P1DT
END:VEVENT
BEGIN:VEVENT
UID:VnjDuumRgYmvJPxmzdx6N
SUMMARY:一粒万倍日
DTSTAMP:20260424T011439Z
DTSTART;VALUE=DATE:20300713
CATEGORIES:選日
DURATION:P1DT
END:VEVENT
BEGIN:VEVENT
UID:dXFfPW4MVKbMoVPiABQOT
SUMMARY:海の日
DTSTAMP:20260424T011439Z
DTSTART;VALUE=DATE:20300715
CATEGORIES:祝日
DURATION:P1DT
END:VEVENT
BEGIN:VEVENT
UID:BKdGJlRNTQFIM5UrqqAAG
SUMMARY:一粒万倍日
DTSTAMP:20260424T011439Z
DTSTART;VALUE=DATE:20300722
CATEGORIES:選日
DURATION:P1DT
END:VEVENT
BEGIN:VEVENT
UID:KBsir_wtDpRo3cWnIi9o2
SUMMARY:大暑
DTSTAMP:20260424T011439Z
DTSTART;VALUE=DATE:20300723
CATEGORIES:節気
DURATION:P1DT
END:VEVENT
BEGIN:VEVENT
UID:1EKAbjuhBszYpdNHQafzQ
SUMMARY:一粒万倍日
DTSTAMP:20260424T011439Z
DTSTART;VALUE=DATE:20300725
CATEGORIES:選日
DURATION:P1DT
END:VEVENT
BEGIN:VEVENT
UID:TUsbwWNDoCNCrU2guWxjM
SUMMARY:一粒万倍日
DTSTAMP:20260424T011439Z
DTSTART;VALUE=DATE:20300803
CATEGORIES:選日
DURATION:P1DT
END:VEVENT
BEGIN:VEVENT
UID:enEX5Tf7AuKYCCj0mrkCy
SUMMARY:一粒万倍日
DTSTAMP:20260424T011439Z
DTSTART;VALUE=DATE:20300806
CATEGORIES:選日
DURATION:P1DT
END:VEVENT
BEGIN:VEVENT
UID:Cl4cEWPF-6UTAgsZXNoRF
SUMMARY:立秋
DTSTAMP:20260424T011439Z
DTSTART;VALUE=DATE:20300807
CATEGORIES:節気
DURATION:P1DT
END:VEVENT
BEGIN:VEVENT
UID:W13qw_-7pAWm9GerDVi94
SUMMARY:一粒万倍日
DTSTAMP:20260424T011439Z
DTSTART;VALUE=DATE:20300809
CATEGORIES:選日
DURATION:P1DT
END:VEVENT
BEGIN:VEVENT
UID:WAmiIvqYRW4qD63Tz6q9i
SUMMARY:山の日
DTSTAMP:20260424T011439Z
DTSTART;VALUE=DATE:20300811
CATEGORIES:祝日
DURATION:P1DT
END:VEVENT
BEGIN:VEVENT
UID:k2oZlz0C18YKGHW94AAl2
SUMMARY:山の日 振替休日
DTSTAMP:20260424T011439Z
DTSTART;VALUE=DATE:20300812
CATEGORIES:祝日
DURATION:P1DT
END:VEVENT
BEGIN:VEVENT
UID:zP1LxwV4zLx7dSZwhjrlU
SUMMARY:一粒万倍日
DTSTAMP:20260424T011439Z
DTSTART;VALUE=DATE:20300816
CATEGORIES:選日
DURATION:P1DT
END:VEVENT
BEGIN:VEVENT
UID:LJ5hq_PoEbQEndRBvMH03
SUMMARY:一粒万倍日
DTSTAMP:20260424T011439Z
DTSTART;VALUE=DATE:20300821
CATEGORIES:選日
DURATION:P1DT
END:VEVENT
BEGIN:VEVENT
UID:H7pz4yKGsxp3CWVI2j71q
SUMMARY:処暑
DTSTAMP:20260424T011439Z
DTSTART;VALUE=DATE:20300823
CATEGORIES:節気
DURATION:P1DT
END:VEVENT
BEGIN:VEVENT
UID:48EbgPA53_ty0Zg3Jq4RP
SUMMARY:一粒万倍日
DTSTAMP:20260424T011439Z
DTSTART;VALUE=DATE:20300828
CATEGORIES:選日
DURATION:P1DT
END:VEVENT
BEGIN:VEVENT
UID:T5jTGda-7UtHOrj1HHo31
SUMMARY:一粒万倍日
DTSTAMP:20260424T011439Z
DTSTART;VALUE=DATE:20300902
CATEGORIES:選日
DURATION:P1DT
END:VEVENT
BEGIN:VEVENT
UID:ij-YybRNufBf2VJyrWyS1
SUMMARY:白露
DTSTAMP:20260424T011439Z
DTSTART;VALUE=DATE:20300907
CATEGORIES:節気
DURATION:P1DT
END:VEVENT
BEGIN:VEVENT
UID:WcFVOj5Jc-VIsQLlySR1g
SUMMARY:一粒万倍日
DTSTAMP:20260424T011439Z
DTSTART;VALUE=DATE:20300910
CATEGORIES:選日
DURATION:P1DT
END:VEVENT
BEGIN:VEVENT
UID:eCUJwLPPfTMq0E3wyCELq
SUMMARY:天赦日
DTSTAMP:20260424T011439Z
DTSTART;VALUE=DATE:20300910
CATEGORIES:選日
DURATION:P1DT
END:VEVENT
BEGIN:VEVENT
UID:Ed8BK1a67wc1h9X-DvPdW
SUMMARY:敬老の日
DTSTAMP:20260424T011439Z
DTSTART;VALUE=DATE:20300916
CATEGORIES:祝日
DURATION:P1DT
END:VEVENT
BEGIN:VEVENT
UID:gju1TlBuZw37R8YTfQWyE
SUMMARY:一粒万倍日
DTSTAMP:20260424T011439Z
DTSTART;VALUE=DATE:20300917
CATEGORIES:選日
DURATION:P1DT
END:VEVENT
BEGIN:VEVENT
UID:oeSttVi55J4o6AoRbSf8q
SUMMARY:一粒万倍日
DTSTAMP:20260424T011439Z
DTSTART;VALUE=DATE:20300922
CATEGORIES:選日
DURATION:P1DT
END:VEVENT
BEGIN:VEVENT
UID:oqWZkQHsDq7gUj-g5ARuB
SUMMARY:秋分の日
DTSTAMP:20260424T011439Z
DTSTART;VALUE=DATE:20300923
CATEGORIES:祝日
DURATION:P1DT
END:VEVENT
BEGIN:VEVENT
UID:ne4VMeYpk8BMnegzuVaU0
SUMMARY:秋分
DTSTAMP:20260424T011439Z
DTSTART;VALUE=DATE:20300923
CATEGORIES:節気
DURATION:P1DT
END:VEVENT
BEGIN:VEVENT
UID:A0uSstTtOP96qVC142ekX
SUMMARY:一粒万倍日
DTSTAMP:20260424T011439Z
DTSTART;VALUE=DATE:20300929
CATEGORIES:選日
DURATION:P1DT
END:VEVENT
BEGIN:VEVENT
UID:qMqnqJ30RCoP7Erw5S2VF
SUMMARY:一粒万倍日
DTSTAMP:20260424T011439Z
DTSTART;VALUE=DATE:20301004
CATEGORIES:選日
DURATION:P1DT
END:VEVENT
BEGIN:VEVENT
UID:yqyXHUrYsAtozKsaw0hSL
SUMMARY:寒露
DTSTAMP:20260424T011439Z
DTSTART;VALUE=DATE:20301008
CATEGORIES:節気
DURATION:P1DT
END:VEVENT
BEGIN:VEVENT
UID:c5eD4hjKCMRBQwSiFSSf-
SUMMARY:スポーツの日
DTSTAMP:20260424T011439Z
DTSTART;VALUE=DATE:20301014
CATEGORIES:祝日
DURATION:P1DT
END:VEVENT
BEGIN:VEVENT
UID:KuW5-Z-fqmnRJoic7OjVX
SUMMARY:一粒万倍日
DTSTAMP:20260424T011439Z
DTSTART;VALUE=DATE:20301014
CATEGORIES:選日
DURATION:P1DT
END:VEVENT
BEGIN:VEVENT
UID:HJsUrmRNRHAl4KNbNCqzc
SUMMARY:一粒万倍日
DTSTAMP:20260424T011439Z
DTSTART;VALUE=DATE:20301017
CATEGORIES:選日
DURATION:P1DT
END:VEVENT
BEGIN:VEVENT
UID:2WCzxDPSZCb3VzPhQgi7C
SUMMARY:霜降
DTSTAMP:20260424T011439Z
DTSTART;VALUE=DATE:20301023
CATEGORIES:節気
DURATION:P1DT
END:VEVENT
BEGIN:VEVENT
UID:0WJoLsP6u_1AIDkArxe1q
SUMMARY:一粒万倍日
DTSTAMP:20260424T011439Z
DTSTART;VALUE=DATE:20301026
CATEGORIES:選日
DURATION:P1DT
END:VEVENT
BEGIN:VEVENT
UID:e4p_EgpV0Mx8iihH5I9yQ
SUMMARY:一粒万倍日
DTSTAMP:20260424T011439Z
DTSTART;VALUE=DATE:20301029
CATEGORIES:選日
DURATION:P1DT
END:VEVENT
BEGIN:VEVENT
UID:JrERPFoqCEPKhaQg0pRy_
SUMMARY:文化の日
DTSTAMP:20260424T011439Z
DTSTART;VALUE=DATE:20301103
CATEGORIES:祝日
DURATION:P1DT
END:VEVENT
BEGIN:VEVENT
UID:8LzHzXp8zdEWVDjWOIry3
SUMMARY:文化の日 振替休日
DTSTAMP:20260424T011439Z
DTSTART;VALUE=DATE:20301104
CATEGORIES:祝日
DURATION:P1DT
END:VEVENT
BEGIN:VEVENT
UID:qTgvNC6LRh1NMwrsQRV1s
SUMMARY:立冬
DTSTAMP:20260424T011439Z
DTSTART;VALUE=DATE:20301107
CATEGORIES:節気
DURATION:P1DT
END:VEVENT
BEGIN:VEVENT
UID:Q0IXHN7kd4NYm4WyRvHJW
SUMMARY:一粒万倍日
DTSTAMP:20260424T011439Z
DTSTART;VALUE=DATE:20301110
CATEGORIES:選日
DURATION:P1DT
END:VEVENT
BEGIN:VEVENT
UID:LHXAwkJCWmRpfKEljVd4E
SUMMARY:一粒万倍日
DTSTAMP:20260424T011439Z
DTSTART;VALUE=DATE:20301111
CATEGORIES:選日
DURATION:P1DT
END:VEVENT
BEGIN:VEVENT
UID:_Q1aOP7CeXjF9D7eUpNyU
SUMMARY:一粒万倍日
DTSTAMP:20260424T011439Z
DTSTART;VALUE=DATE:20301122
CATEGORIES:選日
DURATION:P1DT
END:VEVENT
BEGIN:VEVENT
UID:FeAZ68GA48XgVWhPnvNiG
SUMMARY:小雪
DTSTAMP:20260424T011439Z
DTSTART;VALUE=DATE:20301122
CATEGORIES:節気
DURATION:P1DT
END:VEVENT
BEGIN:VEVENT
UID:x4pi5GfsFzKyG2ocNst8S
SUMMARY:勤労感謝の日
DTSTAMP:20260424T011439Z
DTSTART;VALUE=DATE:20301123
CATEGORIES:祝日
DURATION:P1DT
END:VEVENT
BEGIN:VEVENT
UID:JxobnoZWtLKawvC2WfHGN
SUMMARY:一粒万倍日
DTSTAMP:20260424T011439Z
DTSTART;VALUE=DATE:20301123
CATEGORIES:選日
DURATION:P1DT
END:VEVENT
BEGIN:VEVENT
UID:X_H-B6gyWTtTnGp-Efg6Z
SUMMARY:天赦日
DTSTAMP:20260424T011439Z
DTSTART;VALUE=DATE:20301125
CATEGORIES:選日
DURATION:P1DT
END:VEVENT
BEGIN:VEVENT
UID:yvhb5wSp-MGMhFxbqwhTn
SUMMARY:一粒万倍日
DTSTAMP:20260424T011439Z
DTSTART;VALUE=DATE:20301204
CATEGORIES:選日
DURATION:P1DT
END:VEVENT
BEGIN:VEVENT
UID:Xr3KZD6YAJ8L5mejqmBSg
SUMMARY:一粒万倍日
DTSTAMP:20260424T011439Z
DTSTART;VALUE=DATE:20301205
CATEGORIES:選日
DURATION:P1DT
END:VEVENT
BEGIN:VEVENT
UID:yVOuHzsJDafginkiUk7TO
SUMMARY:一粒万倍日
DTSTAMP:20260424T011439Z
DTSTART;VALUE=DATE:20301207
CATEGORIES:選日
DURATION:P1DT
END:VEVENT
BEGIN:VEVENT
UID:pvrIT1B3wCBnVo7hdt7T9
SUMMARY:大雪
DTSTAMP:20260424T011439Z
DTSTART;VALUE=DATE:20301207
CATEGORIES:節気
DURATION:P1DT
END:VEVENT
BEGIN:VEVENT
UID:bplD0XQafE-uAzciiQIAC
SUMMARY:一粒万倍日
DTSTAMP:20260424T011439Z
DTSTART;VALUE=DATE:20301218
CATEGORIES:選日
DURATION:P1DT
END:VEVENT
BEGIN:VEVENT
UID:52e6tZGJAiCdE9vxXcS0E
SUMMARY:一粒万倍日
DTSTAMP:20260424T011439Z
DTSTART;VALUE=DATE:20301219
CATEGORIES:選日
DURATION:P1DT
END:VEVENT
BEGIN:VEVENT
UID:AvFknUKD1nq7TvfUOqyEL
SUMMARY:冬至
DTSTAMP:20260424T011439Z
DTSTART;VALUE=DATE:20301222
CATEGORIES:節気
DURATION:P1DT
END:VEVENT
BEGIN:VEVENT
UID:fOPnKRKFQmvqwC5uEpOtu
SUMMARY:一粒万倍日
DTSTAMP:20260424T011439Z
DTSTART;VALUE=DATE:20301230
CATEGORIES:選日
DURATION:P1DT
END:VEVENT
BEGIN:VEVENT
UID:EIBPKC5ExGoqW1TzV-oHP
SUMMARY:一粒万倍日
DTSTAMP:20260424T011439Z
DTSTART;VALUE=DATE:20301231
CATEGORIES:選日
DURATION:P1DT
END:VEVENT
END:VCALENDAR
