BEGIN:VCALENDAR
VERSION:2.0
CALSCALE:GREGORIAN
PRODID:adamgibbons/ics
METHOD:PUBLISH
X-WR-CALNAME:koyomi
X-PUBLISHED-TTL:PT1H
BEGIN:VEVENT
UID:jy4UEJZU5hRpuShCbZzNF
SUMMARY:元日
DTSTAMP:20260424T025706Z
DTSTART;VALUE=DATE:20310101
CATEGORIES:祝日
DURATION:P1DT
END:VEVENT
BEGIN:VEVENT
UID:TN9hIXAj--ZuofPE7d0GM
SUMMARY:小寒
DTSTAMP:20260424T025706Z
DTSTART;VALUE=DATE:20310105
CATEGORIES:節気
DURATION:P1DT
END:VEVENT
BEGIN:VEVENT
UID:VAdniO8iATeeVe-9YPuud
SUMMARY:一粒万倍日
DTSTAMP:20260424T025706Z
DTSTART;VALUE=DATE:20310112
CATEGORIES:選日
DURATION:P1DT
END:VEVENT
BEGIN:VEVENT
UID:sjQvgjE0uC4EboUc-fvgL
SUMMARY:成人の日
DTSTAMP:20260424T025706Z
DTSTART;VALUE=DATE:20310113
CATEGORIES:祝日
DURATION:P1DT
END:VEVENT
BEGIN:VEVENT
UID:S_m4Jn0j43al7lPTto5iK
SUMMARY:一粒万倍日
DTSTAMP:20260424T025706Z
DTSTART;VALUE=DATE:20310115
CATEGORIES:選日
DURATION:P1DT
END:VEVENT
BEGIN:VEVENT
UID:LWFiVSQUxPB9SXiUWKVEm
SUMMARY:大寒
DTSTAMP:20260424T025706Z
DTSTART;VALUE=DATE:20310120
CATEGORIES:節気
DURATION:P1DT
END:VEVENT
BEGIN:VEVENT
UID:SgHFSqQ81sJHOk710MPOS
SUMMARY:一粒万倍日
DTSTAMP:20260424T025706Z
DTSTART;VALUE=DATE:20310124
CATEGORIES:選日
DURATION:P1DT
END:VEVENT
BEGIN:VEVENT
UID:HhqwnWbifOHRc4bpAuULB
SUMMARY:天赦日
DTSTAMP:20260424T025706Z
DTSTART;VALUE=DATE:20310124
CATEGORIES:選日
DURATION:P1DT
END:VEVENT
BEGIN:VEVENT
UID:ya-o3j2SNmuJdTKiSOfU_
SUMMARY:一粒万倍日
DTSTAMP:20260424T025706Z
DTSTART;VALUE=DATE:20310127
CATEGORIES:選日
DURATION:P1DT
END:VEVENT
BEGIN:VEVENT
UID:feJ-oIWOZ-EPFG1lTVcD2
SUMMARY:立春
DTSTAMP:20260424T025706Z
DTSTART;VALUE=DATE:20310204
CATEGORIES:節気
DURATION:P1DT
END:VEVENT
BEGIN:VEVENT
UID:UH7oxRF3csO2BPp_Y3Snb
SUMMARY:一粒万倍日
DTSTAMP:20260424T025706Z
DTSTART;VALUE=DATE:20310206
CATEGORIES:選日
DURATION:P1DT
END:VEVENT
BEGIN:VEVENT
UID:xniU7JZxjU3D-2RKef-cN
SUMMARY:天赦日
DTSTAMP:20260424T025706Z
DTSTART;VALUE=DATE:20310207
CATEGORIES:選日
DURATION:P1DT
END:VEVENT
BEGIN:VEVENT
UID:Qcru5R5OOKZ2LNYLPXOrZ
SUMMARY:建国記念の日
DTSTAMP:20260424T025706Z
DTSTART;VALUE=DATE:20310211
CATEGORIES:祝日
DURATION:P1DT
END:VEVENT
BEGIN:VEVENT
UID:qB2nBxCemKesWUQAZ36Rt
SUMMARY:一粒万倍日
DTSTAMP:20260424T025706Z
DTSTART;VALUE=DATE:20310211
CATEGORIES:選日
DURATION:P1DT
END:VEVENT
BEGIN:VEVENT
UID:DWK7J2M3i7zUfxB0vnPXW
SUMMARY:一粒万倍日
DTSTAMP:20260424T025706Z
DTSTART;VALUE=DATE:20310218
CATEGORIES:選日
DURATION:P1DT
END:VEVENT
BEGIN:VEVENT
UID:HOUVgu-XulvJ827GcSI5Q
SUMMARY:雨水
DTSTAMP:20260424T025706Z
DTSTART;VALUE=DATE:20310219
CATEGORIES:節気
DURATION:P1DT
END:VEVENT
BEGIN:VEVENT
UID:QWt5oNhZ8MeMmkf1a3x3Q
SUMMARY:天皇誕生日
DTSTAMP:20260424T025706Z
DTSTART;VALUE=DATE:20310223
CATEGORIES:祝日
DURATION:P1DT
END:VEVENT
BEGIN:VEVENT
UID:AX_FUvjJSqBJtUsge7uF8
SUMMARY:一粒万倍日
DTSTAMP:20260424T025706Z
DTSTART;VALUE=DATE:20310223
CATEGORIES:選日
DURATION:P1DT
END:VEVENT
BEGIN:VEVENT
UID:dZqx9MplPs5qJTJOOQHVO
SUMMARY:天皇誕生日 振替休日
DTSTAMP:20260424T025706Z
DTSTART;VALUE=DATE:20310224
CATEGORIES:祝日
DURATION:P1DT
END:VEVENT
BEGIN:VEVENT
UID:yaFXZBq01qwXcMuAjWdYz
SUMMARY:一粒万倍日
DTSTAMP:20260424T025706Z
DTSTART;VALUE=DATE:20310302
CATEGORIES:選日
DURATION:P1DT
END:VEVENT
BEGIN:VEVENT
UID:iPZIyy3IPJW41R5f6QMjD
SUMMARY:啓蟄
DTSTAMP:20260424T025706Z
DTSTART;VALUE=DATE:20310306
CATEGORIES:節気
DURATION:P1DT
END:VEVENT
BEGIN:VEVENT
UID:P3yIfTLPgEvo8QuUCsKoD
SUMMARY:一粒万倍日
DTSTAMP:20260424T025706Z
DTSTART;VALUE=DATE:20310310
CATEGORIES:選日
DURATION:P1DT
END:VEVENT
BEGIN:VEVENT
UID:mIoYznHODPvFQx4YPTqkx
SUMMARY:一粒万倍日
DTSTAMP:20260424T025706Z
DTSTART;VALUE=DATE:20310315
CATEGORIES:選日
DURATION:P1DT
END:VEVENT
BEGIN:VEVENT
UID:OkDKgvuD3ahzrHgTGD5gM
SUMMARY:春分の日
DTSTAMP:20260424T025706Z
DTSTART;VALUE=DATE:20310321
CATEGORIES:祝日
DURATION:P1DT
END:VEVENT
BEGIN:VEVENT
UID:a9N8PcD86MPtbOnNVVvo3
SUMMARY:春分
DTSTAMP:20260424T025706Z
DTSTART;VALUE=DATE:20310321
CATEGORIES:節気
DURATION:P1DT
END:VEVENT
BEGIN:VEVENT
UID:bFR2zVTywLMukDFl1nGXe
SUMMARY:一粒万倍日
DTSTAMP:20260424T025706Z
DTSTART;VALUE=DATE:20310322
CATEGORIES:選日
DURATION:P1DT
END:VEVENT
BEGIN:VEVENT
UID:JG78Bvz4De_Kb5qa8jpDv
SUMMARY:一粒万倍日
DTSTAMP:20260424T025706Z
DTSTART;VALUE=DATE:20310327
CATEGORIES:選日
DURATION:P1DT
END:VEVENT
BEGIN:VEVENT
UID:oSiAi_iO2N3Qv0j5ZV0EA
SUMMARY:一粒万倍日
DTSTAMP:20260424T025706Z
DTSTART;VALUE=DATE:20310403
CATEGORIES:選日
DURATION:P1DT
END:VEVENT
BEGIN:VEVENT
UID:P8umK3WekUhgaNnJq0j3b
SUMMARY:清明
DTSTAMP:20260424T025706Z
DTSTART;VALUE=DATE:20310405
CATEGORIES:節気
DURATION:P1DT
END:VEVENT
BEGIN:VEVENT
UID:2oe6KXAOLbfnTCwhQoveP
SUMMARY:一粒万倍日
DTSTAMP:20260424T025706Z
DTSTART;VALUE=DATE:20310406
CATEGORIES:選日
DURATION:P1DT
END:VEVENT
BEGIN:VEVENT
UID:euc7n4uN7qNSjDZMwjGRi
SUMMARY:天赦日
DTSTAMP:20260424T025706Z
DTSTART;VALUE=DATE:20310408
CATEGORIES:選日
DURATION:P1DT
END:VEVENT
BEGIN:VEVENT
UID:IuAApkrlHiVA12HIJ6K6f
SUMMARY:一粒万倍日
DTSTAMP:20260424T025706Z
DTSTART;VALUE=DATE:20310409
CATEGORIES:選日
DURATION:P1DT
END:VEVENT
BEGIN:VEVENT
UID:tEXdGtmqJMS2-bdbC6UHq
SUMMARY:一粒万倍日
DTSTAMP:20260424T025706Z
DTSTART;VALUE=DATE:20310418
CATEGORIES:選日
DURATION:P1DT
END:VEVENT
BEGIN:VEVENT
UID:DWOib254insGFmxJqAzpb
SUMMARY:穀雨
DTSTAMP:20260424T025706Z
DTSTART;VALUE=DATE:20310420
CATEGORIES:節気
DURATION:P1DT
END:VEVENT
BEGIN:VEVENT
UID:OWMK9HPNqcF_R5ac_Lsvg
SUMMARY:一粒万倍日
DTSTAMP:20260424T025706Z
DTSTART;VALUE=DATE:20310421
CATEGORIES:選日
DURATION:P1DT
END:VEVENT
BEGIN:VEVENT
UID:PeUg4DCvnpfxVu8auvtSb
SUMMARY:昭和の日
DTSTAMP:20260424T025706Z
DTSTART;VALUE=DATE:20310429
CATEGORIES:祝日
DURATION:P1DT
END:VEVENT
BEGIN:VEVENT
UID:hCMM71FXcv81F_BmtX1fH
SUMMARY:一粒万倍日
DTSTAMP:20260424T025706Z
DTSTART;VALUE=DATE:20310430
CATEGORIES:選日
DURATION:P1DT
END:VEVENT
BEGIN:VEVENT
UID:V-XWlU3ajRiOfgyvD92TJ
SUMMARY:憲法記念日
DTSTAMP:20260424T025706Z
DTSTART;VALUE=DATE:20310503
CATEGORIES:祝日
DURATION:P1DT
END:VEVENT
BEGIN:VEVENT
UID:AOql6TWcH0CKisG1Ug5Aj
SUMMARY:一粒万倍日
DTSTAMP:20260424T025706Z
DTSTART;VALUE=DATE:20310503
CATEGORIES:選日
DURATION:P1DT
END:VEVENT
BEGIN:VEVENT
UID:yf5vz11ukxCsvYKw9wCyi
SUMMARY:みどりの日
DTSTAMP:20260424T025706Z
DTSTART;VALUE=DATE:20310504
CATEGORIES:祝日
DURATION:P1DT
END:VEVENT
BEGIN:VEVENT
UID:tWZID6XCruknN_UIR8Q4R
SUMMARY:こどもの日
DTSTAMP:20260424T025706Z
DTSTART;VALUE=DATE:20310505
CATEGORIES:祝日
DURATION:P1DT
END:VEVENT
BEGIN:VEVENT
UID:UdMcyDw7tXgD8JsD2KsL5
SUMMARY:こどもの日 振替休日
DTSTAMP:20260424T025706Z
DTSTART;VALUE=DATE:20310506
CATEGORIES:祝日
DURATION:P1DT
END:VEVENT
BEGIN:VEVENT
UID:Ahr-txxVhY4KHMY_i9sxe
SUMMARY:立夏
DTSTAMP:20260424T025706Z
DTSTART;VALUE=DATE:20310506
CATEGORIES:節気
DURATION:P1DT
END:VEVENT
BEGIN:VEVENT
UID:a3NjUmkB8XEEfBN5B8Fcx
SUMMARY:一粒万倍日
DTSTAMP:20260424T025706Z
DTSTART;VALUE=DATE:20310515
CATEGORIES:選日
DURATION:P1DT
END:VEVENT
BEGIN:VEVENT
UID:tSMbS-IJmxRzpjpZd_eSk
SUMMARY:一粒万倍日
DTSTAMP:20260424T025706Z
DTSTART;VALUE=DATE:20310516
CATEGORIES:選日
DURATION:P1DT
END:VEVENT
BEGIN:VEVENT
UID:N6MtXwCmi8DkKhQQ-ZPtl
SUMMARY:小満
DTSTAMP:20260424T025706Z
DTSTART;VALUE=DATE:20310521
CATEGORIES:節気
DURATION:P1DT
END:VEVENT
BEGIN:VEVENT
UID:7kayAn8ZD3naJKEHpqLo3
SUMMARY:一粒万倍日
DTSTAMP:20260424T025706Z
DTSTART;VALUE=DATE:20310527
CATEGORIES:選日
DURATION:P1DT
END:VEVENT
BEGIN:VEVENT
UID:tO_LW7X4U57jgsFo2sWFP
SUMMARY:一粒万倍日
DTSTAMP:20260424T025706Z
DTSTART;VALUE=DATE:20310528
CATEGORIES:選日
DURATION:P1DT
END:VEVENT
BEGIN:VEVENT
UID:okv6gh1MQclR5PvVwZ-oX
SUMMARY:芒種
DTSTAMP:20260424T025706Z
DTSTART;VALUE=DATE:20310606
CATEGORIES:節気
DURATION:P1DT
END:VEVENT
BEGIN:VEVENT
UID:G_3S7hWrlf2pgk5WPRJo_
SUMMARY:一粒万倍日
DTSTAMP:20260424T025706Z
DTSTART;VALUE=DATE:20310610
CATEGORIES:選日
DURATION:P1DT
END:VEVENT
BEGIN:VEVENT
UID:GwACq3gu3NUV8bnMcxMh0
SUMMARY:一粒万倍日
DTSTAMP:20260424T025706Z
DTSTART;VALUE=DATE:20310611
CATEGORIES:選日
DURATION:P1DT
END:VEVENT
BEGIN:VEVENT
UID:ShmBg2VnxlX0FY9pTb7QA
SUMMARY:夏至
DTSTAMP:20260424T025706Z
DTSTART;VALUE=DATE:20310621
CATEGORIES:節気
DURATION:P1DT
END:VEVENT
BEGIN:VEVENT
UID:WN0KTOKEZjHXswnjgV51D
SUMMARY:一粒万倍日
DTSTAMP:20260424T025706Z
DTSTART;VALUE=DATE:20310622
CATEGORIES:選日
DURATION:P1DT
END:VEVENT
BEGIN:VEVENT
UID:mxJ_oF-_PJfhG6sw0WsO9
SUMMARY:一粒万倍日
DTSTAMP:20260424T025706Z
DTSTART;VALUE=DATE:20310623
CATEGORIES:選日
DURATION:P1DT
END:VEVENT
BEGIN:VEVENT
UID:4aYs19h4sd4p7ZKDzVIlc
SUMMARY:天赦日
DTSTAMP:20260424T025706Z
DTSTART;VALUE=DATE:20310623
CATEGORIES:選日
DURATION:P1DT
END:VEVENT
BEGIN:VEVENT
UID:BpQQesPgInJhwqA_rnGl3
SUMMARY:一粒万倍日
DTSTAMP:20260424T025706Z
DTSTART;VALUE=DATE:20310704
CATEGORIES:選日
DURATION:P1DT
END:VEVENT
BEGIN:VEVENT
UID:-xQLHeAI8r9zdyRm1LUwN
SUMMARY:一粒万倍日
DTSTAMP:20260424T025706Z
DTSTART;VALUE=DATE:20310705
CATEGORIES:選日
DURATION:P1DT
END:VEVENT
BEGIN:VEVENT
UID:71HT3wEdeQ9EDztpkxhZS
SUMMARY:小暑
DTSTAMP:20260424T025706Z
DTSTART;VALUE=DATE:20310707
CATEGORIES:節気
DURATION:P1DT
END:VEVENT
BEGIN:VEVENT
UID:CN13gdMxl_vdU3nfLZc6X
SUMMARY:一粒万倍日
DTSTAMP:20260424T025706Z
DTSTART;VALUE=DATE:20310708
CATEGORIES:選日
DURATION:P1DT
END:VEVENT
BEGIN:VEVENT
UID:D4IXlWdoNwTHQLjtnXfyM
SUMMARY:一粒万倍日
DTSTAMP:20260424T025706Z
DTSTART;VALUE=DATE:20310717
CATEGORIES:選日
DURATION:P1DT
END:VEVENT
BEGIN:VEVENT
UID:aQjq5rouPPHoeHXa0H5De
SUMMARY:一粒万倍日
DTSTAMP:20260424T025706Z
DTSTART;VALUE=DATE:20310720
CATEGORIES:選日
DURATION:P1DT
END:VEVENT
BEGIN:VEVENT
UID:NEc_T_V01VazjhKIZRcQT
SUMMARY:海の日
DTSTAMP:20260424T025706Z
DTSTART;VALUE=DATE:20310721
CATEGORIES:祝日
DURATION:P1DT
END:VEVENT
BEGIN:VEVENT
UID:FLQgPl2EgxQrW2QxBN6RS
SUMMARY:大暑
DTSTAMP:20260424T025706Z
DTSTART;VALUE=DATE:20310723
CATEGORIES:節気
DURATION:P1DT
END:VEVENT
BEGIN:VEVENT
UID:LOqqEmmA5E6M0ebFgvoI0
SUMMARY:一粒万倍日
DTSTAMP:20260424T025706Z
DTSTART;VALUE=DATE:20310729
CATEGORIES:選日
DURATION:P1DT
END:VEVENT
BEGIN:VEVENT
UID:TCeXj-GZ4rwJ30oyXL3AA
SUMMARY:一粒万倍日
DTSTAMP:20260424T025706Z
DTSTART;VALUE=DATE:20310801
CATEGORIES:選日
DURATION:P1DT
END:VEVENT
BEGIN:VEVENT
UID:mIiLKqxtMOQuiRoHCsvbZ
SUMMARY:立秋
DTSTAMP:20260424T025706Z
DTSTART;VALUE=DATE:20310808
CATEGORIES:節気
DURATION:P1DT
END:VEVENT
BEGIN:VEVENT
UID:DqeaMGtdyjydMaiL9fQCy
SUMMARY:山の日
DTSTAMP:20260424T025706Z
DTSTART;VALUE=DATE:20310811
CATEGORIES:祝日
DURATION:P1DT
END:VEVENT
BEGIN:VEVENT
UID:3TFbQ_NXkl-lkxgSn4ESd
SUMMARY:一粒万倍日
DTSTAMP:20260424T025706Z
DTSTART;VALUE=DATE:20310811
CATEGORIES:選日
DURATION:P1DT
END:VEVENT
BEGIN:VEVENT
UID:rThUXiBv_sAIWV3ueDkdc
SUMMARY:一粒万倍日
DTSTAMP:20260424T025706Z
DTSTART;VALUE=DATE:20310816
CATEGORIES:選日
DURATION:P1DT
END:VEVENT
BEGIN:VEVENT
UID:GYO10du8QjA5wfqIruNsU
SUMMARY:一粒万倍日
DTSTAMP:20260424T025706Z
DTSTART;VALUE=DATE:20310823
CATEGORIES:選日
DURATION:P1DT
END:VEVENT
BEGIN:VEVENT
UID:kcBT_Ga4GkgpYmZSgHzUF
SUMMARY:処暑
DTSTAMP:20260424T025706Z
DTSTART;VALUE=DATE:20310823
CATEGORIES:節気
DURATION:P1DT
END:VEVENT
BEGIN:VEVENT
UID:JyeU8dinMxQePh5JXTi0S
SUMMARY:一粒万倍日
DTSTAMP:20260424T025706Z
DTSTART;VALUE=DATE:20310828
CATEGORIES:選日
DURATION:P1DT
END:VEVENT
BEGIN:VEVENT
UID:SaWEJ23721uZIsu4HdTjb
SUMMARY:一粒万倍日
DTSTAMP:20260424T025706Z
DTSTART;VALUE=DATE:20310904
CATEGORIES:選日
DURATION:P1DT
END:VEVENT
BEGIN:VEVENT
UID:WeGBI4KC1hD5wGqJ_fOiZ
SUMMARY:天赦日
DTSTAMP:20260424T025706Z
DTSTART;VALUE=DATE:20310905
CATEGORIES:選日
DURATION:P1DT
END:VEVENT
BEGIN:VEVENT
UID:i60DqfIkvYaewn1GSorjM
SUMMARY:白露
DTSTAMP:20260424T025706Z
DTSTART;VALUE=DATE:20310908
CATEGORIES:節気
DURATION:P1DT
END:VEVENT
BEGIN:VEVENT
UID:3OwYUqArj4EmQk1yfzDOR
SUMMARY:一粒万倍日
DTSTAMP:20260424T025706Z
DTSTART;VALUE=DATE:20310912
CATEGORIES:選日
DURATION:P1DT
END:VEVENT
BEGIN:VEVENT
UID:tbJkOUdIPwFtveBK19QSA
SUMMARY:敬老の日
DTSTAMP:20260424T025706Z
DTSTART;VALUE=DATE:20310915
CATEGORIES:祝日
DURATION:P1DT
END:VEVENT
BEGIN:VEVENT
UID:WtRgfUd_aYPxE3y5HmOHj
SUMMARY:一粒万倍日
DTSTAMP:20260424T025706Z
DTSTART;VALUE=DATE:20310917
CATEGORIES:選日
DURATION:P1DT
END:VEVENT
BEGIN:VEVENT
UID:zs_Kojo9gMmV8uzxPxs9S
SUMMARY:秋分の日
DTSTAMP:20260424T025706Z
DTSTART;VALUE=DATE:20310923
CATEGORIES:祝日
DURATION:P1DT
END:VEVENT
BEGIN:VEVENT
UID:rcKmj61gpT1He9RqBAEML
SUMMARY:秋分
DTSTAMP:20260424T025706Z
DTSTART;VALUE=DATE:20310923
CATEGORIES:節気
DURATION:P1DT
END:VEVENT
BEGIN:VEVENT
UID:qxEPoh7MTamB548bOnt13
SUMMARY:一粒万倍日
DTSTAMP:20260424T025706Z
DTSTART;VALUE=DATE:20310924
CATEGORIES:選日
DURATION:P1DT
END:VEVENT
BEGIN:VEVENT
UID:2QrKCLDvFj_aAHqsBrolc
SUMMARY:一粒万倍日
DTSTAMP:20260424T025706Z
DTSTART;VALUE=DATE:20310929
CATEGORIES:選日
DURATION:P1DT
END:VEVENT
BEGIN:VEVENT
UID:rvem4TB_Z6iFuuBT5DZVo
SUMMARY:一粒万倍日
DTSTAMP:20260424T025706Z
DTSTART;VALUE=DATE:20311006
CATEGORIES:選日
DURATION:P1DT
END:VEVENT
BEGIN:VEVENT
UID:E874-d3mm_Q7ndZonnmdc
SUMMARY:寒露
DTSTAMP:20260424T025706Z
DTSTART;VALUE=DATE:20311008
CATEGORIES:節気
DURATION:P1DT
END:VEVENT
BEGIN:VEVENT
UID:Yd4TcQuCnj4KAJwoyVBxC
SUMMARY:一粒万倍日
DTSTAMP:20260424T025706Z
DTSTART;VALUE=DATE:20311009
CATEGORIES:選日
DURATION:P1DT
END:VEVENT
BEGIN:VEVENT
UID:1C1i_aY6RMlZ1eXKtry6a
SUMMARY:一粒万倍日
DTSTAMP:20260424T025706Z
DTSTART;VALUE=DATE:20311012
CATEGORIES:選日
DURATION:P1DT
END:VEVENT
BEGIN:VEVENT
UID:ep-mSAScmrmoTSJPU8ZsA
SUMMARY:スポーツの日
DTSTAMP:20260424T025706Z
DTSTART;VALUE=DATE:20311013
CATEGORIES:祝日
DURATION:P1DT
END:VEVENT
BEGIN:VEVENT
UID:SJLwwf6RLrVxrRm-Lo8zS
SUMMARY:一粒万倍日
DTSTAMP:20260424T025706Z
DTSTART;VALUE=DATE:20311021
CATEGORIES:選日
DURATION:P1DT
END:VEVENT
BEGIN:VEVENT
UID:8J86G1y2yVRl0wHXHFzyO
SUMMARY:霜降
DTSTAMP:20260424T025706Z
DTSTART;VALUE=DATE:20311023
CATEGORIES:節気
DURATION:P1DT
END:VEVENT
BEGIN:VEVENT
UID:XfkKPWPCta6tmLht9k3P0
SUMMARY:一粒万倍日
DTSTAMP:20260424T025706Z
DTSTART;VALUE=DATE:20311024
CATEGORIES:選日
DURATION:P1DT
END:VEVENT
BEGIN:VEVENT
UID:73soMLmSx8uyTm1KXXmCP
SUMMARY:一粒万倍日
DTSTAMP:20260424T025706Z
DTSTART;VALUE=DATE:20311102
CATEGORIES:選日
DURATION:P1DT
END:VEVENT
BEGIN:VEVENT
UID:1l56LfRgmDMIpLmBGhhHU
SUMMARY:文化の日
DTSTAMP:20260424T025706Z
DTSTART;VALUE=DATE:20311103
CATEGORIES:祝日
DURATION:P1DT
END:VEVENT
BEGIN:VEVENT
UID:7LZu8Gek2dSeCbzVj1t-v
SUMMARY:天赦日
DTSTAMP:20260424T025706Z
DTSTART;VALUE=DATE:20311104
CATEGORIES:選日
DURATION:P1DT
END:VEVENT
BEGIN:VEVENT
UID:aso2vayYa5qwFjw5nuknd
SUMMARY:一粒万倍日
DTSTAMP:20260424T025706Z
DTSTART;VALUE=DATE:20311105
CATEGORIES:選日
DURATION:P1DT
END:VEVENT
BEGIN:VEVENT
UID:3LBWz0G1nvg1TxhgDA64P
SUMMARY:立冬
DTSTAMP:20260424T025706Z
DTSTART;VALUE=DATE:20311107
CATEGORIES:節気
DURATION:P1DT
END:VEVENT
BEGIN:VEVENT
UID:HKGaSLuIArI7x2QzJDMli
SUMMARY:一粒万倍日
DTSTAMP:20260424T025706Z
DTSTART;VALUE=DATE:20311117
CATEGORIES:選日
DURATION:P1DT
END:VEVENT
BEGIN:VEVENT
UID:AZCcxsuge6cWVeevUZlgT
SUMMARY:一粒万倍日
DTSTAMP:20260424T025706Z
DTSTART;VALUE=DATE:20311118
CATEGORIES:選日
DURATION:P1DT
END:VEVENT
BEGIN:VEVENT
UID:ibMYt0lbyi4LdOktImroN
SUMMARY:天赦日
DTSTAMP:20260424T025706Z
DTSTART;VALUE=DATE:20311120
CATEGORIES:選日
DURATION:P1DT
END:VEVENT
BEGIN:VEVENT
UID:okOEQRKVxkZGEuZWtWnP5
SUMMARY:小雪
DTSTAMP:20260424T025706Z
DTSTART;VALUE=DATE:20311122
CATEGORIES:節気
DURATION:P1DT
END:VEVENT
BEGIN:VEVENT
UID:r7ozSEbVgh_QOY5CQr5HT
SUMMARY:勤労感謝の日
DTSTAMP:20260424T025706Z
DTSTART;VALUE=DATE:20311123
CATEGORIES:祝日
DURATION:P1DT
END:VEVENT
BEGIN:VEVENT
UID:-77BemittRbD5x524QWjk
SUMMARY:勤労感謝の日 振替休日
DTSTAMP:20260424T025706Z
DTSTART;VALUE=DATE:20311124
CATEGORIES:祝日
DURATION:P1DT
END:VEVENT
BEGIN:VEVENT
UID:Ae76r0BEGZmDf0TrowfXB
SUMMARY:一粒万倍日
DTSTAMP:20260424T025706Z
DTSTART;VALUE=DATE:20311129
CATEGORIES:選日
DURATION:P1DT
END:VEVENT
BEGIN:VEVENT
UID:35Otp9OWXEqpCW7b27RDL
SUMMARY:一粒万倍日
DTSTAMP:20260424T025706Z
DTSTART;VALUE=DATE:20311130
CATEGORIES:選日
DURATION:P1DT
END:VEVENT
BEGIN:VEVENT
UID:_et7GP_sql0lbApJx0bk6
SUMMARY:大雪
DTSTAMP:20260424T025706Z
DTSTART;VALUE=DATE:20311207
CATEGORIES:節気
DURATION:P1DT
END:VEVENT
BEGIN:VEVENT
UID:jJz76RhZOJazDTx3r7EXL
SUMMARY:一粒万倍日
DTSTAMP:20260424T025706Z
DTSTART;VALUE=DATE:20311213
CATEGORIES:選日
DURATION:P1DT
END:VEVENT
BEGIN:VEVENT
UID:uNnDZdQ8arCb2HnFLXYgH
SUMMARY:一粒万倍日
DTSTAMP:20260424T025706Z
DTSTART;VALUE=DATE:20311214
CATEGORIES:選日
DURATION:P1DT
END:VEVENT
BEGIN:VEVENT
UID:h8HPN1lTCNsrLM6TF1shR
SUMMARY:冬至
DTSTAMP:20260424T025706Z
DTSTART;VALUE=DATE:20311222
CATEGORIES:節気
DURATION:P1DT
END:VEVENT
BEGIN:VEVENT
UID:eHCpq7z9IJIqPghnVGX_b
SUMMARY:一粒万倍日
DTSTAMP:20260424T025706Z
DTSTART;VALUE=DATE:20311225
CATEGORIES:選日
DURATION:P1DT
END:VEVENT
BEGIN:VEVENT
UID:UfPU0Da1FWDwXxskTa4qz
SUMMARY:一粒万倍日
DTSTAMP:20260424T025706Z
DTSTART;VALUE=DATE:20311226
CATEGORIES:選日
DURATION:P1DT
END:VEVENT
END:VCALENDAR
