BEGIN:VCALENDAR
VERSION:2.0
CALSCALE:GREGORIAN
PRODID:adamgibbons/ics
METHOD:PUBLISH
X-WR-CALNAME:koyomi
X-PUBLISHED-TTL:PT1H
BEGIN:VEVENT
UID:pBM4wMCbORfuI4hYli6Q0
SUMMARY:元日
DTSTAMP:20260424T043215Z
DTSTART;VALUE=DATE:20320101
CATEGORIES:祝日
DURATION:P1DT
END:VEVENT
BEGIN:VEVENT
UID:wsWIf4wAS3NN0z8uMdh0I
SUMMARY:小寒
DTSTAMP:20260424T043215Z
DTSTART;VALUE=DATE:20320106
CATEGORIES:節気
DURATION:P1DT
END:VEVENT
BEGIN:VEVENT
UID:yArhFmsXmRndjR6knq-V-
SUMMARY:一粒万倍日
DTSTAMP:20260424T043215Z
DTSTART;VALUE=DATE:20320107
CATEGORIES:選日
DURATION:P1DT
END:VEVENT
BEGIN:VEVENT
UID:Dza4jvwi4aloRP4D192Cy
SUMMARY:一粒万倍日
DTSTAMP:20260424T043215Z
DTSTART;VALUE=DATE:20320110
CATEGORIES:選日
DURATION:P1DT
END:VEVENT
BEGIN:VEVENT
UID:OSRt_P1lVCDcUn_k9213i
SUMMARY:成人の日
DTSTAMP:20260424T043215Z
DTSTART;VALUE=DATE:20320112
CATEGORIES:祝日
DURATION:P1DT
END:VEVENT
BEGIN:VEVENT
UID:7xOaVPCpeGQKm6nWAAi2I
SUMMARY:一粒万倍日
DTSTAMP:20260424T043215Z
DTSTART;VALUE=DATE:20320119
CATEGORIES:選日
DURATION:P1DT
END:VEVENT
BEGIN:VEVENT
UID:95zzpcZAbCmcxs1NpsDfT
SUMMARY:天赦日
DTSTAMP:20260424T043215Z
DTSTART;VALUE=DATE:20320119
CATEGORIES:選日
DURATION:P1DT
END:VEVENT
BEGIN:VEVENT
UID:ViwVe7W-QGftCDe2tR3aM
SUMMARY:大寒
DTSTAMP:20260424T043215Z
DTSTART;VALUE=DATE:20320120
CATEGORIES:節気
DURATION:P1DT
END:VEVENT
BEGIN:VEVENT
UID:yLi_-M3wvIIeqfPUAVlTL
SUMMARY:一粒万倍日
DTSTAMP:20260424T043215Z
DTSTART;VALUE=DATE:20320122
CATEGORIES:選日
DURATION:P1DT
END:VEVENT
BEGIN:VEVENT
UID:JbsAob4fUZB1vjDe8DG28
SUMMARY:一粒万倍日
DTSTAMP:20260424T043215Z
DTSTART;VALUE=DATE:20320131
CATEGORIES:選日
DURATION:P1DT
END:VEVENT
BEGIN:VEVENT
UID:N7zAxw2AJvpEEJOn7NTr1
SUMMARY:一粒万倍日
DTSTAMP:20260424T043215Z
DTSTART;VALUE=DATE:20320203
CATEGORIES:選日
DURATION:P1DT
END:VEVENT
BEGIN:VEVENT
UID:PhZiHPHL3IxQVAAV_mbU9
SUMMARY:立春
DTSTAMP:20260424T043215Z
DTSTART;VALUE=DATE:20320204
CATEGORIES:節気
DURATION:P1DT
END:VEVENT
BEGIN:VEVENT
UID:7lKFoq3z8GnMANEalZoQ3
SUMMARY:一粒万倍日
DTSTAMP:20260424T043215Z
DTSTART;VALUE=DATE:20320206
CATEGORIES:選日
DURATION:P1DT
END:VEVENT
BEGIN:VEVENT
UID:Ztncrbthrhdcx1UruSRYc
SUMMARY:建国記念の日
DTSTAMP:20260424T043215Z
DTSTART;VALUE=DATE:20320211
CATEGORIES:祝日
DURATION:P1DT
END:VEVENT
BEGIN:VEVENT
UID:sMYPyeUR5Ejifd8cmaKcu
SUMMARY:一粒万倍日
DTSTAMP:20260424T043215Z
DTSTART;VALUE=DATE:20320213
CATEGORIES:選日
DURATION:P1DT
END:VEVENT
BEGIN:VEVENT
UID:D1I4axKk4kNofTfI_3QYV
SUMMARY:一粒万倍日
DTSTAMP:20260424T043215Z
DTSTART;VALUE=DATE:20320218
CATEGORIES:選日
DURATION:P1DT
END:VEVENT
BEGIN:VEVENT
UID:QjarKFLzdH-Fs0A1vn4ET
SUMMARY:雨水
DTSTAMP:20260424T043215Z
DTSTART;VALUE=DATE:20320219
CATEGORIES:節気
DURATION:P1DT
END:VEVENT
BEGIN:VEVENT
UID:1xZxm4HouZ_wAEntCv1WY
SUMMARY:天皇誕生日
DTSTAMP:20260424T043215Z
DTSTART;VALUE=DATE:20320223
CATEGORIES:祝日
DURATION:P1DT
END:VEVENT
BEGIN:VEVENT
UID:fPrX07KN0N76G6nIco9Tg
SUMMARY:一粒万倍日
DTSTAMP:20260424T043215Z
DTSTART;VALUE=DATE:20320225
CATEGORIES:選日
DURATION:P1DT
END:VEVENT
BEGIN:VEVENT
UID:HP5D8KVo3WlX_RVoqjNRV
SUMMARY:一粒万倍日
DTSTAMP:20260424T043215Z
DTSTART;VALUE=DATE:20320301
CATEGORIES:選日
DURATION:P1DT
END:VEVENT
BEGIN:VEVENT
UID:4mYvcPgpU-nM_8DcOqtlP
SUMMARY:啓蟄
DTSTAMP:20260424T043215Z
DTSTART;VALUE=DATE:20320305
CATEGORIES:節気
DURATION:P1DT
END:VEVENT
BEGIN:VEVENT
UID:4QcQrA0U2oIpUmpVFNalG
SUMMARY:一粒万倍日
DTSTAMP:20260424T043215Z
DTSTART;VALUE=DATE:20320309
CATEGORIES:選日
DURATION:P1DT
END:VEVENT
BEGIN:VEVENT
UID:EEkSQbF00vz9fCwqrL7-0
SUMMARY:一粒万倍日
DTSTAMP:20260424T043215Z
DTSTART;VALUE=DATE:20320316
CATEGORIES:選日
DURATION:P1DT
END:VEVENT
BEGIN:VEVENT
UID:NN0aoc_ecFuYU-Yb-_Aiu
SUMMARY:春分の日
DTSTAMP:20260424T043215Z
DTSTART;VALUE=DATE:20320320
CATEGORIES:祝日
DURATION:P1DT
END:VEVENT
BEGIN:VEVENT
UID:oJJHwkfqUyjgNiCf92_Pv
SUMMARY:春分
DTSTAMP:20260424T043215Z
DTSTART;VALUE=DATE:20320320
CATEGORIES:節気
DURATION:P1DT
END:VEVENT
BEGIN:VEVENT
UID:1lJEYhDeyhPBS9HJTDimb
SUMMARY:一粒万倍日
DTSTAMP:20260424T043215Z
DTSTART;VALUE=DATE:20320321
CATEGORIES:選日
DURATION:P1DT
END:VEVENT
BEGIN:VEVENT
UID:JlLh-bFLeSdBgQL2b6wr9
SUMMARY:一粒万倍日
DTSTAMP:20260424T043215Z
DTSTART;VALUE=DATE:20320328
CATEGORIES:選日
DURATION:P1DT
END:VEVENT
BEGIN:VEVENT
UID:z114XbLMAE7tnW8Q47m6p
SUMMARY:一粒万倍日
DTSTAMP:20260424T043215Z
DTSTART;VALUE=DATE:20320402
CATEGORIES:選日
DURATION:P1DT
END:VEVENT
BEGIN:VEVENT
UID:5TruCvHm7OODhLuFHQ9a9
SUMMARY:天赦日
DTSTAMP:20260424T043215Z
DTSTART;VALUE=DATE:20320402
CATEGORIES:選日
DURATION:P1DT
END:VEVENT
BEGIN:VEVENT
UID:gVWPwkz0Xo-Y7KAaJOkNb
SUMMARY:清明
DTSTAMP:20260424T043215Z
DTSTART;VALUE=DATE:20320404
CATEGORIES:節気
DURATION:P1DT
END:VEVENT
BEGIN:VEVENT
UID:g5sIvgSMWAw3OrcMyzGtK
SUMMARY:一粒万倍日
DTSTAMP:20260424T043215Z
DTSTART;VALUE=DATE:20320412
CATEGORIES:選日
DURATION:P1DT
END:VEVENT
BEGIN:VEVENT
UID:8qSKgc1amrk-8lnmfodu-
SUMMARY:一粒万倍日
DTSTAMP:20260424T043215Z
DTSTART;VALUE=DATE:20320415
CATEGORIES:選日
DURATION:P1DT
END:VEVENT
BEGIN:VEVENT
UID:sYOkJ0JndKPjl5Gty6Fya
SUMMARY:穀雨
DTSTAMP:20260424T043215Z
DTSTART;VALUE=DATE:20320419
CATEGORIES:節気
DURATION:P1DT
END:VEVENT
BEGIN:VEVENT
UID:RCI-z0Y3y6rrvnjqXHvb5
SUMMARY:一粒万倍日
DTSTAMP:20260424T043215Z
DTSTART;VALUE=DATE:20320424
CATEGORIES:選日
DURATION:P1DT
END:VEVENT
BEGIN:VEVENT
UID:U0GaYYySgUhwqUjDhFYk_
SUMMARY:一粒万倍日
DTSTAMP:20260424T043215Z
DTSTART;VALUE=DATE:20320427
CATEGORIES:選日
DURATION:P1DT
END:VEVENT
BEGIN:VEVENT
UID:Qw9u4fb6BB0FyLSbmI4KX
SUMMARY:昭和の日
DTSTAMP:20260424T043215Z
DTSTART;VALUE=DATE:20320429
CATEGORIES:祝日
DURATION:P1DT
END:VEVENT
BEGIN:VEVENT
UID:qJsQTzVxaOu-1BFFt4jWO
SUMMARY:憲法記念日
DTSTAMP:20260424T043215Z
DTSTART;VALUE=DATE:20320503
CATEGORIES:祝日
DURATION:P1DT
END:VEVENT
BEGIN:VEVENT
UID:TdCfUH4zaJWa_zvJb9L4N
SUMMARY:みどりの日
DTSTAMP:20260424T043215Z
DTSTART;VALUE=DATE:20320504
CATEGORIES:祝日
DURATION:P1DT
END:VEVENT
BEGIN:VEVENT
UID:PHYzmmOM8R0BGQCzwilHh
SUMMARY:こどもの日
DTSTAMP:20260424T043215Z
DTSTART;VALUE=DATE:20320505
CATEGORIES:祝日
DURATION:P1DT
END:VEVENT
BEGIN:VEVENT
UID:F3RfIX-ae1hgWSYxCVd_Z
SUMMARY:立夏
DTSTAMP:20260424T043215Z
DTSTART;VALUE=DATE:20320505
CATEGORIES:節気
DURATION:P1DT
END:VEVENT
BEGIN:VEVENT
UID:jJtQNGLM8oNwjhWGhwwQZ
SUMMARY:一粒万倍日
DTSTAMP:20260424T043215Z
DTSTART;VALUE=DATE:20320509
CATEGORIES:選日
DURATION:P1DT
END:VEVENT
BEGIN:VEVENT
UID:Ac_biIOHMG9wZuvgg0_cb
SUMMARY:一粒万倍日
DTSTAMP:20260424T043215Z
DTSTART;VALUE=DATE:20320510
CATEGORIES:選日
DURATION:P1DT
END:VEVENT
BEGIN:VEVENT
UID:WiAx22r0qLE60_9Jr061q
SUMMARY:小満
DTSTAMP:20260424T043215Z
DTSTART;VALUE=DATE:20320520
CATEGORIES:節気
DURATION:P1DT
END:VEVENT
BEGIN:VEVENT
UID:AYv-oNqcdy3y7NgUfs_0v
SUMMARY:一粒万倍日
DTSTAMP:20260424T043215Z
DTSTART;VALUE=DATE:20320521
CATEGORIES:選日
DURATION:P1DT
END:VEVENT
BEGIN:VEVENT
UID:7HrMqHymPm1mOU3NFyPwt
SUMMARY:一粒万倍日
DTSTAMP:20260424T043215Z
DTSTART;VALUE=DATE:20320522
CATEGORIES:選日
DURATION:P1DT
END:VEVENT
BEGIN:VEVENT
UID:uk0VfaczeW9vo2OGan8DD
SUMMARY:一粒万倍日
DTSTAMP:20260424T043215Z
DTSTART;VALUE=DATE:20320602
CATEGORIES:選日
DURATION:P1DT
END:VEVENT
BEGIN:VEVENT
UID:ukobUqgDoogs4fsSTIrkN
SUMMARY:一粒万倍日
DTSTAMP:20260424T043215Z
DTSTART;VALUE=DATE:20320603
CATEGORIES:選日
DURATION:P1DT
END:VEVENT
BEGIN:VEVENT
UID:a7kpZ_RvYEe7gYqxbYTXm
SUMMARY:一粒万倍日
DTSTAMP:20260424T043215Z
DTSTART;VALUE=DATE:20320605
CATEGORIES:選日
DURATION:P1DT
END:VEVENT
BEGIN:VEVENT
UID:aVfwMYLXWHn3HnZPXkj9e
SUMMARY:芒種
DTSTAMP:20260424T043215Z
DTSTART;VALUE=DATE:20320605
CATEGORIES:節気
DURATION:P1DT
END:VEVENT
BEGIN:VEVENT
UID:pSzm18bgxYjdTlhSaQqgS
SUMMARY:一粒万倍日
DTSTAMP:20260424T043215Z
DTSTART;VALUE=DATE:20320616
CATEGORIES:選日
DURATION:P1DT
END:VEVENT
BEGIN:VEVENT
UID:1uts3EuMkS7MbU4EBJ0k9
SUMMARY:一粒万倍日
DTSTAMP:20260424T043215Z
DTSTART;VALUE=DATE:20320617
CATEGORIES:選日
DURATION:P1DT
END:VEVENT
BEGIN:VEVENT
UID:bC7p2xWIn2NUMs01j0YVT
SUMMARY:天赦日
DTSTAMP:20260424T043215Z
DTSTART;VALUE=DATE:20320617
CATEGORIES:選日
DURATION:P1DT
END:VEVENT
BEGIN:VEVENT
UID:Qx12okOqFhe27cbjenIIC
SUMMARY:夏至
DTSTAMP:20260424T043215Z
DTSTART;VALUE=DATE:20320621
CATEGORIES:節気
DURATION:P1DT
END:VEVENT
BEGIN:VEVENT
UID:Bfgk5m6FM0AKbC2v5WDtv
SUMMARY:一粒万倍日
DTSTAMP:20260424T043215Z
DTSTART;VALUE=DATE:20320628
CATEGORIES:選日
DURATION:P1DT
END:VEVENT
BEGIN:VEVENT
UID:CW5kugxFJr-MTTwrq_Zm7
SUMMARY:一粒万倍日
DTSTAMP:20260424T043215Z
DTSTART;VALUE=DATE:20320629
CATEGORIES:選日
DURATION:P1DT
END:VEVENT
BEGIN:VEVENT
UID:OpW6hNZ17etfxSzgK-BPC
SUMMARY:小暑
DTSTAMP:20260424T043215Z
DTSTART;VALUE=DATE:20320706
CATEGORIES:節気
DURATION:P1DT
END:VEVENT
BEGIN:VEVENT
UID:jY-czxmDlHEEbpMGlLfoE
SUMMARY:一粒万倍日
DTSTAMP:20260424T043215Z
DTSTART;VALUE=DATE:20320711
CATEGORIES:選日
DURATION:P1DT
END:VEVENT
BEGIN:VEVENT
UID:1S1z83_ij7FAvo4eT_zNk
SUMMARY:一粒万倍日
DTSTAMP:20260424T043215Z
DTSTART;VALUE=DATE:20320714
CATEGORIES:選日
DURATION:P1DT
END:VEVENT
BEGIN:VEVENT
UID:zDxbiuaylyuYtM7HiRCbg
SUMMARY:海の日
DTSTAMP:20260424T043215Z
DTSTART;VALUE=DATE:20320719
CATEGORIES:祝日
DURATION:P1DT
END:VEVENT
BEGIN:VEVENT
UID:uu1xCLv90l9bNUrf_NuSP
SUMMARY:大暑
DTSTAMP:20260424T043215Z
DTSTART;VALUE=DATE:20320722
CATEGORIES:節気
DURATION:P1DT
END:VEVENT
BEGIN:VEVENT
UID:1wndC10HcWJ1nrnhar2yS
SUMMARY:一粒万倍日
DTSTAMP:20260424T043215Z
DTSTART;VALUE=DATE:20320723
CATEGORIES:選日
DURATION:P1DT
END:VEVENT
BEGIN:VEVENT
UID:wMF2rJQcr4qhMs1kpjfx5
SUMMARY:一粒万倍日
DTSTAMP:20260424T043215Z
DTSTART;VALUE=DATE:20320726
CATEGORIES:選日
DURATION:P1DT
END:VEVENT
BEGIN:VEVENT
UID:tQA3-g1QTD7zpZFMQm7Xs
SUMMARY:一粒万倍日
DTSTAMP:20260424T043215Z
DTSTART;VALUE=DATE:20320804
CATEGORIES:選日
DURATION:P1DT
END:VEVENT
BEGIN:VEVENT
UID:1OIyxxfANRQZ8DopOJ7BX
SUMMARY:立秋
DTSTAMP:20260424T043215Z
DTSTART;VALUE=DATE:20320807
CATEGORIES:節気
DURATION:P1DT
END:VEVENT
BEGIN:VEVENT
UID:uxabhJCKpeMpqvf9cjj_4
SUMMARY:一粒万倍日
DTSTAMP:20260424T043215Z
DTSTART;VALUE=DATE:20320810
CATEGORIES:選日
DURATION:P1DT
END:VEVENT
BEGIN:VEVENT
UID:ovUsdT06gvzWqgZOfIuIT
SUMMARY:山の日
DTSTAMP:20260424T043215Z
DTSTART;VALUE=DATE:20320811
CATEGORIES:祝日
DURATION:P1DT
END:VEVENT
BEGIN:VEVENT
UID:xLCGZzWtf4hmVOjiu7FXk
SUMMARY:一粒万倍日
DTSTAMP:20260424T043215Z
DTSTART;VALUE=DATE:20320817
CATEGORIES:選日
DURATION:P1DT
END:VEVENT
BEGIN:VEVENT
UID:ox14kyWLAWvjXfv8mTZ31
SUMMARY:一粒万倍日
DTSTAMP:20260424T043215Z
DTSTART;VALUE=DATE:20320822
CATEGORIES:選日
DURATION:P1DT
END:VEVENT
BEGIN:VEVENT
UID:u516PDflFuFNauQX482i-
SUMMARY:処暑
DTSTAMP:20260424T043215Z
DTSTART;VALUE=DATE:20320822
CATEGORIES:節気
DURATION:P1DT
END:VEVENT
BEGIN:VEVENT
UID:B7dbOvJS-CvKwcGqNkg0A
SUMMARY:一粒万倍日
DTSTAMP:20260424T043215Z
DTSTART;VALUE=DATE:20320829
CATEGORIES:選日
DURATION:P1DT
END:VEVENT
BEGIN:VEVENT
UID:7xDOudCVN_oMexY4fmsXS
SUMMARY:天赦日
DTSTAMP:20260424T043215Z
DTSTART;VALUE=DATE:20320830
CATEGORIES:選日
DURATION:P1DT
END:VEVENT
BEGIN:VEVENT
UID:Q_n5DG48QR2NANETe7QZf
SUMMARY:一粒万倍日
DTSTAMP:20260424T043215Z
DTSTART;VALUE=DATE:20320903
CATEGORIES:選日
DURATION:P1DT
END:VEVENT
BEGIN:VEVENT
UID:ejSor7cgprc9SeDIvCOXo
SUMMARY:白露
DTSTAMP:20260424T043215Z
DTSTART;VALUE=DATE:20320907
CATEGORIES:節気
DURATION:P1DT
END:VEVENT
BEGIN:VEVENT
UID:AqcHhhxkKk3w3-f7lYxFI
SUMMARY:一粒万倍日
DTSTAMP:20260424T043215Z
DTSTART;VALUE=DATE:20320911
CATEGORIES:選日
DURATION:P1DT
END:VEVENT
BEGIN:VEVENT
UID:69vMm9cbndgEZ-IdbpEAK
SUMMARY:一粒万倍日
DTSTAMP:20260424T043215Z
DTSTART;VALUE=DATE:20320918
CATEGORIES:選日
DURATION:P1DT
END:VEVENT
BEGIN:VEVENT
UID:vKBUShGa0MNONdqcnb2Fo
SUMMARY:敬老の日
DTSTAMP:20260424T043215Z
DTSTART;VALUE=DATE:20320920
CATEGORIES:祝日
DURATION:P1DT
END:VEVENT
BEGIN:VEVENT
UID:PFNbVgxJLyjOIhKiSU_PU
SUMMARY:休日
DTSTAMP:20260424T043215Z
DTSTART;VALUE=DATE:20320921
CATEGORIES:祝日
DURATION:P1DT
END:VEVENT
BEGIN:VEVENT
UID:w8Re3mcbCFzNT2YoztK2Z
SUMMARY:秋分の日
DTSTAMP:20260424T043215Z
DTSTART;VALUE=DATE:20320922
CATEGORIES:祝日
DURATION:P1DT
END:VEVENT
BEGIN:VEVENT
UID:djD7abMpiD1antzCFck9F
SUMMARY:秋分
DTSTAMP:20260424T043215Z
DTSTART;VALUE=DATE:20320922
CATEGORIES:節気
DURATION:P1DT
END:VEVENT
BEGIN:VEVENT
UID:fvaVw37LVVOa06Ajfn5st
SUMMARY:一粒万倍日
DTSTAMP:20260424T043215Z
DTSTART;VALUE=DATE:20320923
CATEGORIES:選日
DURATION:P1DT
END:VEVENT
BEGIN:VEVENT
UID:r1U66Ga1SHO2KZAnFBe4D
SUMMARY:一粒万倍日
DTSTAMP:20260424T043215Z
DTSTART;VALUE=DATE:20320930
CATEGORIES:選日
DURATION:P1DT
END:VEVENT
BEGIN:VEVENT
UID:GxaD8Yz5x2ipFutMYDXhV
SUMMARY:一粒万倍日
DTSTAMP:20260424T043215Z
DTSTART;VALUE=DATE:20321005
CATEGORIES:選日
DURATION:P1DT
END:VEVENT
BEGIN:VEVENT
UID:fBZgEzXxUio3LN92lqln3
SUMMARY:寒露
DTSTAMP:20260424T043215Z
DTSTART;VALUE=DATE:20321008
CATEGORIES:節気
DURATION:P1DT
END:VEVENT
BEGIN:VEVENT
UID:r9U7Lh3Et95wlSnZ3RPjR
SUMMARY:スポーツの日
DTSTAMP:20260424T043215Z
DTSTART;VALUE=DATE:20321011
CATEGORIES:祝日
DURATION:P1DT
END:VEVENT
BEGIN:VEVENT
UID:k0s3MA2zz5CWeLhxJTggK
SUMMARY:一粒万倍日
DTSTAMP:20260424T043215Z
DTSTART;VALUE=DATE:20321015
CATEGORIES:選日
DURATION:P1DT
END:VEVENT
BEGIN:VEVENT
UID:LILih7trPHdPKE5-DEZL_
SUMMARY:一粒万倍日
DTSTAMP:20260424T043215Z
DTSTART;VALUE=DATE:20321018
CATEGORIES:選日
DURATION:P1DT
END:VEVENT
BEGIN:VEVENT
UID:Jttu7Ul3Dww_Ob5Z4FUnP
SUMMARY:霜降
DTSTAMP:20260424T043215Z
DTSTART;VALUE=DATE:20321023
CATEGORIES:節気
DURATION:P1DT
END:VEVENT
BEGIN:VEVENT
UID:S1gVq_iMVyh2kMm-sd2N1
SUMMARY:一粒万倍日
DTSTAMP:20260424T043215Z
DTSTART;VALUE=DATE:20321027
CATEGORIES:選日
DURATION:P1DT
END:VEVENT
BEGIN:VEVENT
UID:jObN40qzqYKQQVfi2coMR
SUMMARY:天赦日
DTSTAMP:20260424T043215Z
DTSTART;VALUE=DATE:20321029
CATEGORIES:選日
DURATION:P1DT
END:VEVENT
BEGIN:VEVENT
UID:gWMd6I5_i1wgN9yah-bJG
SUMMARY:一粒万倍日
DTSTAMP:20260424T043215Z
DTSTART;VALUE=DATE:20321030
CATEGORIES:選日
DURATION:P1DT
END:VEVENT
BEGIN:VEVENT
UID:x1myECz7UcuGq63lDuz3q
SUMMARY:文化の日
DTSTAMP:20260424T043215Z
DTSTART;VALUE=DATE:20321103
CATEGORIES:祝日
DURATION:P1DT
END:VEVENT
BEGIN:VEVENT
UID:LkOWF5Zqogn1FpxxCv0Da
SUMMARY:立冬
DTSTAMP:20260424T043215Z
DTSTART;VALUE=DATE:20321107
CATEGORIES:節気
DURATION:P1DT
END:VEVENT
BEGIN:VEVENT
UID:5XxIZVJPYqCO7IgWuDW-0
SUMMARY:一粒万倍日
DTSTAMP:20260424T043215Z
DTSTART;VALUE=DATE:20321111
CATEGORIES:選日
DURATION:P1DT
END:VEVENT
BEGIN:VEVENT
UID:qvGMyLFUtqtJdkJuyBJqL
SUMMARY:一粒万倍日
DTSTAMP:20260424T043215Z
DTSTART;VALUE=DATE:20321112
CATEGORIES:選日
DURATION:P1DT
END:VEVENT
BEGIN:VEVENT
UID:oytTrELldCusPJGeTrqrt
SUMMARY:天赦日
DTSTAMP:20260424T043215Z
DTSTART;VALUE=DATE:20321114
CATEGORIES:選日
DURATION:P1DT
END:VEVENT
BEGIN:VEVENT
UID:xncHiPZr0CprzyvaBmi4Z
SUMMARY:小雪
DTSTAMP:20260424T043215Z
DTSTART;VALUE=DATE:20321122
CATEGORIES:節気
DURATION:P1DT
END:VEVENT
BEGIN:VEVENT
UID:LaBeeTfSQsM0i0gKrmzai
SUMMARY:勤労感謝の日
DTSTAMP:20260424T043215Z
DTSTART;VALUE=DATE:20321123
CATEGORIES:祝日
DURATION:P1DT
END:VEVENT
BEGIN:VEVENT
UID:PKGZHQmcJDuhJ4f7xIZ_w
SUMMARY:一粒万倍日
DTSTAMP:20260424T043215Z
DTSTART;VALUE=DATE:20321123
CATEGORIES:選日
DURATION:P1DT
END:VEVENT
BEGIN:VEVENT
UID:tIz-ies7NlihKPgHrFJFz
SUMMARY:一粒万倍日
DTSTAMP:20260424T043215Z
DTSTART;VALUE=DATE:20321124
CATEGORIES:選日
DURATION:P1DT
END:VEVENT
BEGIN:VEVENT
UID:QEeSZBbqNj1TLUY71H5kJ
SUMMARY:一粒万倍日
DTSTAMP:20260424T043215Z
DTSTART;VALUE=DATE:20321205
CATEGORIES:選日
DURATION:P1DT
END:VEVENT
BEGIN:VEVENT
UID:3MiCJWJ_9KlQ8htFNI5mr
SUMMARY:大雪
DTSTAMP:20260424T043215Z
DTSTART;VALUE=DATE:20321206
CATEGORIES:節気
DURATION:P1DT
END:VEVENT
BEGIN:VEVENT
UID:CjF1rwbUIbKP8J-B814NB
SUMMARY:一粒万倍日
DTSTAMP:20260424T043215Z
DTSTART;VALUE=DATE:20321207
CATEGORIES:選日
DURATION:P1DT
END:VEVENT
BEGIN:VEVENT
UID:Ac7KSW-k0hRSLMH5n5zNe
SUMMARY:一粒万倍日
DTSTAMP:20260424T043215Z
DTSTART;VALUE=DATE:20321208
CATEGORIES:選日
DURATION:P1DT
END:VEVENT
BEGIN:VEVENT
UID:lRZYqi3jvOzG6DqUmie10
SUMMARY:一粒万倍日
DTSTAMP:20260424T043215Z
DTSTART;VALUE=DATE:20321219
CATEGORIES:選日
DURATION:P1DT
END:VEVENT
BEGIN:VEVENT
UID:0cjFXWIsMWGPengHgbUjJ
SUMMARY:一粒万倍日
DTSTAMP:20260424T043215Z
DTSTART;VALUE=DATE:20321220
CATEGORIES:選日
DURATION:P1DT
END:VEVENT
BEGIN:VEVENT
UID:0gP_FxEFradsIPZfRsB1E
SUMMARY:冬至
DTSTAMP:20260424T043215Z
DTSTART;VALUE=DATE:20321221
CATEGORIES:節気
DURATION:P1DT
END:VEVENT
BEGIN:VEVENT
UID:NUr4CP8l7TXSmLwUlO2wC
SUMMARY:一粒万倍日
DTSTAMP:20260424T043215Z
DTSTART;VALUE=DATE:20321231
CATEGORIES:選日
DURATION:P1DT
END:VEVENT
END:VCALENDAR
