BEGIN:VCALENDAR
VERSION:2.0
CALSCALE:GREGORIAN
PRODID:adamgibbons/ics
METHOD:PUBLISH
X-WR-CALNAME:koyomi
X-PUBLISHED-TTL:PT1H
BEGIN:VEVENT
UID:ETrFbuivfUIhNEIEEK2Yf
SUMMARY:元日
DTSTAMP:20260424T055718Z
DTSTART;VALUE=DATE:20330101
CATEGORIES:祝日
DURATION:P1DT
END:VEVENT
BEGIN:VEVENT
UID:Mdrk7fUSgVQJrG0E6OLen
SUMMARY:一粒万倍日
DTSTAMP:20260424T055718Z
DTSTART;VALUE=DATE:20330101
CATEGORIES:選日
DURATION:P1DT
END:VEVENT
BEGIN:VEVENT
UID:_tMSlkm4vIpLpueXuofDj
SUMMARY:小寒
DTSTAMP:20260424T055718Z
DTSTART;VALUE=DATE:20330105
CATEGORIES:節気
DURATION:P1DT
END:VEVENT
BEGIN:VEVENT
UID:-nhCHVRpXsQQWslSE-BRK
SUMMARY:成人の日
DTSTAMP:20260424T055718Z
DTSTART;VALUE=DATE:20330110
CATEGORIES:祝日
DURATION:P1DT
END:VEVENT
BEGIN:VEVENT
UID:HQlS6tdI7rI2jCa4vcN-_
SUMMARY:一粒万倍日
DTSTAMP:20260424T055718Z
DTSTART;VALUE=DATE:20330113
CATEGORIES:選日
DURATION:P1DT
END:VEVENT
BEGIN:VEVENT
UID:GBc6XN4urOFooHWODgcNP
SUMMARY:天赦日
DTSTAMP:20260424T055718Z
DTSTART;VALUE=DATE:20330113
CATEGORIES:選日
DURATION:P1DT
END:VEVENT
BEGIN:VEVENT
UID:mVuNB5GOyh5AvPLaGIGwf
SUMMARY:一粒万倍日
DTSTAMP:20260424T055718Z
DTSTART;VALUE=DATE:20330116
CATEGORIES:選日
DURATION:P1DT
END:VEVENT
BEGIN:VEVENT
UID:_-XbpHHmSu9-7KAltatR3
SUMMARY:大寒
DTSTAMP:20260424T055718Z
DTSTART;VALUE=DATE:20330120
CATEGORIES:節気
DURATION:P1DT
END:VEVENT
BEGIN:VEVENT
UID:uvjx6JCT8cEqYH4rivW0H
SUMMARY:一粒万倍日
DTSTAMP:20260424T055718Z
DTSTART;VALUE=DATE:20330125
CATEGORIES:選日
DURATION:P1DT
END:VEVENT
BEGIN:VEVENT
UID:7ffpgNPTMyGEOp1uNSgKm
SUMMARY:一粒万倍日
DTSTAMP:20260424T055718Z
DTSTART;VALUE=DATE:20330128
CATEGORIES:選日
DURATION:P1DT
END:VEVENT
BEGIN:VEVENT
UID:5jnRphyxaEwSLhlLoi-Oa
SUMMARY:立春
DTSTAMP:20260424T055718Z
DTSTART;VALUE=DATE:20330203
CATEGORIES:節気
DURATION:P1DT
END:VEVENT
BEGIN:VEVENT
UID:0aa6i0aPHeYlxZe0kC1nG
SUMMARY:一粒万倍日
DTSTAMP:20260424T055718Z
DTSTART;VALUE=DATE:20330207
CATEGORIES:選日
DURATION:P1DT
END:VEVENT
BEGIN:VEVENT
UID:qLQ7B4VBQxS4WM2BmChhW
SUMMARY:建国記念の日
DTSTAMP:20260424T055718Z
DTSTART;VALUE=DATE:20330211
CATEGORIES:祝日
DURATION:P1DT
END:VEVENT
BEGIN:VEVENT
UID:Emckggf1RgoJXXjqXfkEJ
SUMMARY:一粒万倍日
DTSTAMP:20260424T055718Z
DTSTART;VALUE=DATE:20330212
CATEGORIES:選日
DURATION:P1DT
END:VEVENT
BEGIN:VEVENT
UID:44pP-X8ns2sXHe-24J4fY
SUMMARY:雨水
DTSTAMP:20260424T055718Z
DTSTART;VALUE=DATE:20330218
CATEGORIES:節気
DURATION:P1DT
END:VEVENT
BEGIN:VEVENT
UID:HlOUwBV8n4NBCMvqMVvi_
SUMMARY:一粒万倍日
DTSTAMP:20260424T055718Z
DTSTART;VALUE=DATE:20330219
CATEGORIES:選日
DURATION:P1DT
END:VEVENT
BEGIN:VEVENT
UID:-xultWuZ_2hLruuZMilyJ
SUMMARY:天皇誕生日
DTSTAMP:20260424T055718Z
DTSTART;VALUE=DATE:20330223
CATEGORIES:祝日
DURATION:P1DT
END:VEVENT
BEGIN:VEVENT
UID:xIhaA9BnsTY_Y-9zHYjWw
SUMMARY:一粒万倍日
DTSTAMP:20260424T055718Z
DTSTART;VALUE=DATE:20330224
CATEGORIES:選日
DURATION:P1DT
END:VEVENT
BEGIN:VEVENT
UID:4E2-SaUqP9EAbTstA8Eo6
SUMMARY:一粒万倍日
DTSTAMP:20260424T055718Z
DTSTART;VALUE=DATE:20330303
CATEGORIES:選日
DURATION:P1DT
END:VEVENT
BEGIN:VEVENT
UID:_Gn9V7NLz3Yt03PGZ99Pg
SUMMARY:啓蟄
DTSTAMP:20260424T055718Z
DTSTART;VALUE=DATE:20330305
CATEGORIES:節気
DURATION:P1DT
END:VEVENT
BEGIN:VEVENT
UID:Mwl7dvQH4jaE7s0I3R4CR
SUMMARY:一粒万倍日
DTSTAMP:20260424T055718Z
DTSTART;VALUE=DATE:20330311
CATEGORIES:選日
DURATION:P1DT
END:VEVENT
BEGIN:VEVENT
UID:o37B5dWbwoeUbE8Y0xAkE
SUMMARY:一粒万倍日
DTSTAMP:20260424T055718Z
DTSTART;VALUE=DATE:20330316
CATEGORIES:選日
DURATION:P1DT
END:VEVENT
BEGIN:VEVENT
UID:EPEAHpgxWV8xyh6Au-n8P
SUMMARY:春分の日
DTSTAMP:20260424T055718Z
DTSTART;VALUE=DATE:20330320
CATEGORIES:祝日
DURATION:P1DT
END:VEVENT
BEGIN:VEVENT
UID:B70mMzl32YAQPWd1UpGUL
SUMMARY:春分
DTSTAMP:20260424T055718Z
DTSTART;VALUE=DATE:20330320
CATEGORIES:節気
DURATION:P1DT
END:VEVENT
BEGIN:VEVENT
UID:zmRtyHA7Eyd_mXsGi6aon
SUMMARY:春分の日 振替休日
DTSTAMP:20260424T055718Z
DTSTART;VALUE=DATE:20330321
CATEGORIES:祝日
DURATION:P1DT
END:VEVENT
BEGIN:VEVENT
UID:S0qoZudzXsizFRXm_7CM7
SUMMARY:一粒万倍日
DTSTAMP:20260424T055718Z
DTSTART;VALUE=DATE:20330323
CATEGORIES:選日
DURATION:P1DT
END:VEVENT
BEGIN:VEVENT
UID:YxCi8SqXu7ydD9TZT3lFI
SUMMARY:一粒万倍日
DTSTAMP:20260424T055718Z
DTSTART;VALUE=DATE:20330328
CATEGORIES:選日
DURATION:P1DT
END:VEVENT
BEGIN:VEVENT
UID:QdJbJNQBDJScklStLxX4g
SUMMARY:天赦日
DTSTAMP:20260424T055718Z
DTSTART;VALUE=DATE:20330328
CATEGORIES:選日
DURATION:P1DT
END:VEVENT
BEGIN:VEVENT
UID:XH70GRmO-i-ZF7QSFy7nB
SUMMARY:清明
DTSTAMP:20260424T055718Z
DTSTART;VALUE=DATE:20330404
CATEGORIES:節気
DURATION:P1DT
END:VEVENT
BEGIN:VEVENT
UID:FGqVGG9KJGsZAHY1l1w5I
SUMMARY:一粒万倍日
DTSTAMP:20260424T055718Z
DTSTART;VALUE=DATE:20330407
CATEGORIES:選日
DURATION:P1DT
END:VEVENT
BEGIN:VEVENT
UID:65R28E_lkDgPa3ekVa7Vx
SUMMARY:一粒万倍日
DTSTAMP:20260424T055718Z
DTSTART;VALUE=DATE:20330410
CATEGORIES:選日
DURATION:P1DT
END:VEVENT
BEGIN:VEVENT
UID:O7PYvFXlmyrUm-soT0l9R
SUMMARY:一粒万倍日
DTSTAMP:20260424T055718Z
DTSTART;VALUE=DATE:20330419
CATEGORIES:選日
DURATION:P1DT
END:VEVENT
BEGIN:VEVENT
UID:OGUXBIxwCBG3RTCsvTzf8
SUMMARY:穀雨
DTSTAMP:20260424T055718Z
DTSTART;VALUE=DATE:20330420
CATEGORIES:節気
DURATION:P1DT
END:VEVENT
BEGIN:VEVENT
UID:etJCf7O0gAH7l3oZYYcjD
SUMMARY:一粒万倍日
DTSTAMP:20260424T055718Z
DTSTART;VALUE=DATE:20330422
CATEGORIES:選日
DURATION:P1DT
END:VEVENT
BEGIN:VEVENT
UID:Ig0UF3nMfeC-8u2VWdlDo
SUMMARY:昭和の日
DTSTAMP:20260424T055718Z
DTSTART;VALUE=DATE:20330429
CATEGORIES:祝日
DURATION:P1DT
END:VEVENT
BEGIN:VEVENT
UID:01xMCOLoF3fXD7Cc07wmz
SUMMARY:一粒万倍日
DTSTAMP:20260424T055718Z
DTSTART;VALUE=DATE:20330501
CATEGORIES:選日
DURATION:P1DT
END:VEVENT
BEGIN:VEVENT
UID:yGRWh2qmtLArJylVG9PLx
SUMMARY:憲法記念日
DTSTAMP:20260424T055718Z
DTSTART;VALUE=DATE:20330503
CATEGORIES:祝日
DURATION:P1DT
END:VEVENT
BEGIN:VEVENT
UID:aU_Gc9JirISKymF62l8XG
SUMMARY:みどりの日
DTSTAMP:20260424T055718Z
DTSTART;VALUE=DATE:20330504
CATEGORIES:祝日
DURATION:P1DT
END:VEVENT
BEGIN:VEVENT
UID:GnDR0Ajo50Mhzz28_9W6X
SUMMARY:一粒万倍日
DTSTAMP:20260424T055718Z
DTSTART;VALUE=DATE:20330504
CATEGORIES:選日
DURATION:P1DT
END:VEVENT
BEGIN:VEVENT
UID:jE18pek_cdmFblFqaY636
SUMMARY:こどもの日
DTSTAMP:20260424T055718Z
DTSTART;VALUE=DATE:20330505
CATEGORIES:祝日
DURATION:P1DT
END:VEVENT
BEGIN:VEVENT
UID:E6UV50mJj_QAW9JAC9NvX
SUMMARY:一粒万倍日
DTSTAMP:20260424T055718Z
DTSTART;VALUE=DATE:20330505
CATEGORIES:選日
DURATION:P1DT
END:VEVENT
BEGIN:VEVENT
UID:Be2D3-wT3lYmL350l_8wS
SUMMARY:立夏
DTSTAMP:20260424T055718Z
DTSTART;VALUE=DATE:20330505
CATEGORIES:節気
DURATION:P1DT
END:VEVENT
BEGIN:VEVENT
UID:2cbtt43w1KhQH2Nx8TrtS
SUMMARY:一粒万倍日
DTSTAMP:20260424T055718Z
DTSTART;VALUE=DATE:20330516
CATEGORIES:選日
DURATION:P1DT
END:VEVENT
BEGIN:VEVENT
UID:mglN7BgotTYAhVixrBPnc
SUMMARY:一粒万倍日
DTSTAMP:20260424T055718Z
DTSTART;VALUE=DATE:20330517
CATEGORIES:選日
DURATION:P1DT
END:VEVENT
BEGIN:VEVENT
UID:Hflm5srQiR7LU0H3385SI
SUMMARY:小満
DTSTAMP:20260424T055718Z
DTSTART;VALUE=DATE:20330521
CATEGORIES:節気
DURATION:P1DT
END:VEVENT
BEGIN:VEVENT
UID:ANyqXgfKLG45pAEfKlN_4
SUMMARY:一粒万倍日
DTSTAMP:20260424T055718Z
DTSTART;VALUE=DATE:20330528
CATEGORIES:選日
DURATION:P1DT
END:VEVENT
BEGIN:VEVENT
UID:dKwKfmwkpC_J7vt4gqjv7
SUMMARY:一粒万倍日
DTSTAMP:20260424T055718Z
DTSTART;VALUE=DATE:20330529
CATEGORIES:選日
DURATION:P1DT
END:VEVENT
BEGIN:VEVENT
UID:TZUzNteA9XbJf2ScCa5ig
SUMMARY:芒種
DTSTAMP:20260424T055718Z
DTSTART;VALUE=DATE:20330605
CATEGORIES:節気
DURATION:P1DT
END:VEVENT
BEGIN:VEVENT
UID:B8oRktvxDghg9lcsFla9H
SUMMARY:一粒万倍日
DTSTAMP:20260424T055718Z
DTSTART;VALUE=DATE:20330611
CATEGORIES:選日
DURATION:P1DT
END:VEVENT
BEGIN:VEVENT
UID:YsikcUZTYeEYZ0mMFHm5k
SUMMARY:一粒万倍日
DTSTAMP:20260424T055718Z
DTSTART;VALUE=DATE:20330612
CATEGORIES:選日
DURATION:P1DT
END:VEVENT
BEGIN:VEVENT
UID:I4X6K4v4u7AU8uYIPqmxm
SUMMARY:天赦日
DTSTAMP:20260424T055718Z
DTSTART;VALUE=DATE:20330612
CATEGORIES:選日
DURATION:P1DT
END:VEVENT
BEGIN:VEVENT
UID:2IeYEh0ZFacHe4vsaji4w
SUMMARY:夏至
DTSTAMP:20260424T055718Z
DTSTART;VALUE=DATE:20330621
CATEGORIES:節気
DURATION:P1DT
END:VEVENT
BEGIN:VEVENT
UID:BPlf7XRhNNh_yQYjn-b8q
SUMMARY:一粒万倍日
DTSTAMP:20260424T055718Z
DTSTART;VALUE=DATE:20330623
CATEGORIES:選日
DURATION:P1DT
END:VEVENT
BEGIN:VEVENT
UID:Zs2liIrs8nkjf0MYJf01Q
SUMMARY:一粒万倍日
DTSTAMP:20260424T055718Z
DTSTART;VALUE=DATE:20330624
CATEGORIES:選日
DURATION:P1DT
END:VEVENT
BEGIN:VEVENT
UID:CoJr-MtRRckLeImXRhFUL
SUMMARY:一粒万倍日
DTSTAMP:20260424T055718Z
DTSTART;VALUE=DATE:20330705
CATEGORIES:選日
DURATION:P1DT
END:VEVENT
BEGIN:VEVENT
UID:n4jImj50IPps4BsZZmzH6
SUMMARY:一粒万倍日
DTSTAMP:20260424T055718Z
DTSTART;VALUE=DATE:20330706
CATEGORIES:選日
DURATION:P1DT
END:VEVENT
BEGIN:VEVENT
UID:02HHFwFtb63c5YmVfyzSC
SUMMARY:小暑
DTSTAMP:20260424T055718Z
DTSTART;VALUE=DATE:20330707
CATEGORIES:節気
DURATION:P1DT
END:VEVENT
BEGIN:VEVENT
UID:6bPAvu4cRJr9xcvurAqjx
SUMMARY:一粒万倍日
DTSTAMP:20260424T055718Z
DTSTART;VALUE=DATE:20330709
CATEGORIES:選日
DURATION:P1DT
END:VEVENT
BEGIN:VEVENT
UID:nZXSzsCER9CbhOT61cTV7
SUMMARY:海の日
DTSTAMP:20260424T055718Z
DTSTART;VALUE=DATE:20330718
CATEGORIES:祝日
DURATION:P1DT
END:VEVENT
BEGIN:VEVENT
UID:qx46aU_qNbroyYXaGhre2
SUMMARY:一粒万倍日
DTSTAMP:20260424T055718Z
DTSTART;VALUE=DATE:20330718
CATEGORIES:選日
DURATION:P1DT
END:VEVENT
BEGIN:VEVENT
UID:euQRdWC6lhZWm6LNJclux
SUMMARY:一粒万倍日
DTSTAMP:20260424T055718Z
DTSTART;VALUE=DATE:20330721
CATEGORIES:選日
DURATION:P1DT
END:VEVENT
BEGIN:VEVENT
UID:tfINa5Dncf-llKwpTp0GK
SUMMARY:大暑
DTSTAMP:20260424T055718Z
DTSTART;VALUE=DATE:20330722
CATEGORIES:節気
DURATION:P1DT
END:VEVENT
BEGIN:VEVENT
UID:ks_MR3hSo7EPdMgX-FIQP
SUMMARY:一粒万倍日
DTSTAMP:20260424T055718Z
DTSTART;VALUE=DATE:20330730
CATEGORIES:選日
DURATION:P1DT
END:VEVENT
BEGIN:VEVENT
UID:hfF4i1oeXQThzIM3lNiAL
SUMMARY:一粒万倍日
DTSTAMP:20260424T055718Z
DTSTART;VALUE=DATE:20330802
CATEGORIES:選日
DURATION:P1DT
END:VEVENT
BEGIN:VEVENT
UID:Ji1Y6B-DHCzSarfYnE1C2
SUMMARY:立秋
DTSTAMP:20260424T055718Z
DTSTART;VALUE=DATE:20330807
CATEGORIES:節気
DURATION:P1DT
END:VEVENT
BEGIN:VEVENT
UID:UBOnudfM6FmQfzG_010Q3
SUMMARY:山の日
DTSTAMP:20260424T055718Z
DTSTART;VALUE=DATE:20330811
CATEGORIES:祝日
DURATION:P1DT
END:VEVENT
BEGIN:VEVENT
UID:F7mVG64EiXjA8v7crfmBp
SUMMARY:一粒万倍日
DTSTAMP:20260424T055718Z
DTSTART;VALUE=DATE:20330812
CATEGORIES:選日
DURATION:P1DT
END:VEVENT
BEGIN:VEVENT
UID:JCabERwyiz1bbRCJ1zAlh
SUMMARY:一粒万倍日
DTSTAMP:20260424T055718Z
DTSTART;VALUE=DATE:20330817
CATEGORIES:選日
DURATION:P1DT
END:VEVENT
BEGIN:VEVENT
UID:fD67evJZwn0BC_z9Ft13l
SUMMARY:処暑
DTSTAMP:20260424T055718Z
DTSTART;VALUE=DATE:20330823
CATEGORIES:節気
DURATION:P1DT
END:VEVENT
BEGIN:VEVENT
UID:K0yYGcq7ujQvsk7F6Z9Z8
SUMMARY:一粒万倍日
DTSTAMP:20260424T055718Z
DTSTART;VALUE=DATE:20330824
CATEGORIES:選日
DURATION:P1DT
END:VEVENT
BEGIN:VEVENT
UID:JrQXPW9rpMwnmzr3VvU73
SUMMARY:天赦日
DTSTAMP:20260424T055718Z
DTSTART;VALUE=DATE:20330825
CATEGORIES:選日
DURATION:P1DT
END:VEVENT
BEGIN:VEVENT
UID:PWbX-IXdDw4wx4RN3wmhI
SUMMARY:一粒万倍日
DTSTAMP:20260424T055718Z
DTSTART;VALUE=DATE:20330829
CATEGORIES:選日
DURATION:P1DT
END:VEVENT
BEGIN:VEVENT
UID:26iS22MrKxiIQjNAK6Nd-
SUMMARY:一粒万倍日
DTSTAMP:20260424T055718Z
DTSTART;VALUE=DATE:20330905
CATEGORIES:選日
DURATION:P1DT
END:VEVENT
BEGIN:VEVENT
UID:RBLWz0JKVohDWjuxQtfMI
SUMMARY:白露
DTSTAMP:20260424T055718Z
DTSTART;VALUE=DATE:20330907
CATEGORIES:節気
DURATION:P1DT
END:VEVENT
BEGIN:VEVENT
UID:P3JH_-SRMaut34oWqM81E
SUMMARY:一粒万倍日
DTSTAMP:20260424T055718Z
DTSTART;VALUE=DATE:20330913
CATEGORIES:選日
DURATION:P1DT
END:VEVENT
BEGIN:VEVENT
UID:Yn-2xiQJJY2Bbeimw-16h
SUMMARY:一粒万倍日
DTSTAMP:20260424T055718Z
DTSTART;VALUE=DATE:20330918
CATEGORIES:選日
DURATION:P1DT
END:VEVENT
BEGIN:VEVENT
UID:N8r2AGCpaZl3zkb1XQrFr
SUMMARY:敬老の日
DTSTAMP:20260424T055718Z
DTSTART;VALUE=DATE:20330919
CATEGORIES:祝日
DURATION:P1DT
END:VEVENT
BEGIN:VEVENT
UID:objyQy25MlnuaIa3EYvsw
SUMMARY:秋分の日
DTSTAMP:20260424T055718Z
DTSTART;VALUE=DATE:20330923
CATEGORIES:祝日
DURATION:P1DT
END:VEVENT
BEGIN:VEVENT
UID:VFILB7nD_SGDoxEi26Aj7
SUMMARY:秋分
DTSTAMP:20260424T055718Z
DTSTART;VALUE=DATE:20330923
CATEGORIES:節気
DURATION:P1DT
END:VEVENT
BEGIN:VEVENT
UID:sN90z8_d3iry6X19Z7Hwb
SUMMARY:一粒万倍日
DTSTAMP:20260424T055718Z
DTSTART;VALUE=DATE:20330925
CATEGORIES:選日
DURATION:P1DT
END:VEVENT
BEGIN:VEVENT
UID:zuP8OnhgOkZ07cgP04tJI
SUMMARY:一粒万倍日
DTSTAMP:20260424T055718Z
DTSTART;VALUE=DATE:20330930
CATEGORIES:選日
DURATION:P1DT
END:VEVENT
BEGIN:VEVENT
UID:hOz1q1LIfC7-mXHXo5r_j
SUMMARY:一粒万倍日
DTSTAMP:20260424T055718Z
DTSTART;VALUE=DATE:20331007
CATEGORIES:選日
DURATION:P1DT
END:VEVENT
BEGIN:VEVENT
UID:tFYcO16LAQwvq5n4Qv5U1
SUMMARY:寒露
DTSTAMP:20260424T055718Z
DTSTART;VALUE=DATE:20331008
CATEGORIES:節気
DURATION:P1DT
END:VEVENT
BEGIN:VEVENT
UID:fMFTK2ZP7GIwmwm-q8cdg
SUMMARY:スポーツの日
DTSTAMP:20260424T055718Z
DTSTART;VALUE=DATE:20331010
CATEGORIES:祝日
DURATION:P1DT
END:VEVENT
BEGIN:VEVENT
UID:6hVt7VklXIlw4Ub-GeMST
SUMMARY:一粒万倍日
DTSTAMP:20260424T055718Z
DTSTART;VALUE=DATE:20331010
CATEGORIES:選日
DURATION:P1DT
END:VEVENT
BEGIN:VEVENT
UID:Dp074cE-iwyGNklxBufbN
SUMMARY:一粒万倍日
DTSTAMP:20260424T055718Z
DTSTART;VALUE=DATE:20331013
CATEGORIES:選日
DURATION:P1DT
END:VEVENT
BEGIN:VEVENT
UID:3bE89eVf4hvZ8O2nktpDS
SUMMARY:一粒万倍日
DTSTAMP:20260424T055718Z
DTSTART;VALUE=DATE:20331022
CATEGORIES:選日
DURATION:P1DT
END:VEVENT
BEGIN:VEVENT
UID:MD1KS5s4R0BAtyINHRi-r
SUMMARY:霜降
DTSTAMP:20260424T055718Z
DTSTART;VALUE=DATE:20331023
CATEGORIES:節気
DURATION:P1DT
END:VEVENT
BEGIN:VEVENT
UID:jHNkkPayrGdUeGQwLJ2eJ
SUMMARY:天赦日
DTSTAMP:20260424T055718Z
DTSTART;VALUE=DATE:20331024
CATEGORIES:選日
DURATION:P1DT
END:VEVENT
BEGIN:VEVENT
UID:onq3_V-AFdlHxv5-MoZB6
SUMMARY:一粒万倍日
DTSTAMP:20260424T055718Z
DTSTART;VALUE=DATE:20331025
CATEGORIES:選日
DURATION:P1DT
END:VEVENT
BEGIN:VEVENT
UID:O2Aq48BNZvN8XnAWTom2K
SUMMARY:文化の日
DTSTAMP:20260424T055718Z
DTSTART;VALUE=DATE:20331103
CATEGORIES:祝日
DURATION:P1DT
END:VEVENT
BEGIN:VEVENT
UID:GPRheEjejdYrICki16EzV
SUMMARY:一粒万倍日
DTSTAMP:20260424T055718Z
DTSTART;VALUE=DATE:20331103
CATEGORIES:選日
DURATION:P1DT
END:VEVENT
BEGIN:VEVENT
UID:c1NQG-kjA7SM2pw80Fukh
SUMMARY:一粒万倍日
DTSTAMP:20260424T055718Z
DTSTART;VALUE=DATE:20331106
CATEGORIES:選日
DURATION:P1DT
END:VEVENT
BEGIN:VEVENT
UID:qqwxqhSUd0fHUlTG_okYp
SUMMARY:一粒万倍日
DTSTAMP:20260424T055718Z
DTSTART;VALUE=DATE:20331107
CATEGORIES:選日
DURATION:P1DT
END:VEVENT
BEGIN:VEVENT
UID:QeeoICPi3jZMc_7fesykM
SUMMARY:立冬
DTSTAMP:20260424T055718Z
DTSTART;VALUE=DATE:20331107
CATEGORIES:節気
DURATION:P1DT
END:VEVENT
BEGIN:VEVENT
UID:mN_01Cq1m3ZMOlqS51KFd
SUMMARY:天赦日
DTSTAMP:20260424T055718Z
DTSTART;VALUE=DATE:20331109
CATEGORIES:選日
DURATION:P1DT
END:VEVENT
BEGIN:VEVENT
UID:WPWUdAHHt-v0IVBRPoweq
SUMMARY:一粒万倍日
DTSTAMP:20260424T055718Z
DTSTART;VALUE=DATE:20331118
CATEGORIES:選日
DURATION:P1DT
END:VEVENT
BEGIN:VEVENT
UID:bYv19CvnVhXfVTXQsSsrg
SUMMARY:一粒万倍日
DTSTAMP:20260424T055718Z
DTSTART;VALUE=DATE:20331119
CATEGORIES:選日
DURATION:P1DT
END:VEVENT
BEGIN:VEVENT
UID:UgoNQSGvfi450KB1g-NPC
SUMMARY:小雪
DTSTAMP:20260424T055718Z
DTSTART;VALUE=DATE:20331122
CATEGORIES:節気
DURATION:P1DT
END:VEVENT
BEGIN:VEVENT
UID:wTHiQxsM-CRvfXp1nZtyD
SUMMARY:勤労感謝の日
DTSTAMP:20260424T055718Z
DTSTART;VALUE=DATE:20331123
CATEGORIES:祝日
DURATION:P1DT
END:VEVENT
BEGIN:VEVENT
UID:1SG6J012l7Fb932ic77UQ
SUMMARY:一粒万倍日
DTSTAMP:20260424T055718Z
DTSTART;VALUE=DATE:20331130
CATEGORIES:選日
DURATION:P1DT
END:VEVENT
BEGIN:VEVENT
UID:_OPZTQxtk80fXTopLcYAj
SUMMARY:一粒万倍日
DTSTAMP:20260424T055718Z
DTSTART;VALUE=DATE:20331201
CATEGORIES:選日
DURATION:P1DT
END:VEVENT
BEGIN:VEVENT
UID:mBA2YmZqy41u2EgOEEMJO
SUMMARY:大雪
DTSTAMP:20260424T055718Z
DTSTART;VALUE=DATE:20331207
CATEGORIES:節気
DURATION:P1DT
END:VEVENT
BEGIN:VEVENT
UID:VhY9kMLuzQz3zHgGIbuCJ
SUMMARY:一粒万倍日
DTSTAMP:20260424T055718Z
DTSTART;VALUE=DATE:20331214
CATEGORIES:選日
DURATION:P1DT
END:VEVENT
BEGIN:VEVENT
UID:-dNaRIJRkNfMPTl5EszOm
SUMMARY:一粒万倍日
DTSTAMP:20260424T055718Z
DTSTART;VALUE=DATE:20331215
CATEGORIES:選日
DURATION:P1DT
END:VEVENT
BEGIN:VEVENT
UID:JA3eGaj8L3ICFd24gs_Uc
SUMMARY:冬至
DTSTAMP:20260424T055718Z
DTSTART;VALUE=DATE:20331221
CATEGORIES:節気
DURATION:P1DT
END:VEVENT
BEGIN:VEVENT
UID:8YVcqJjsaevz5mT7Bj0Lo
SUMMARY:一粒万倍日
DTSTAMP:20260424T055718Z
DTSTART;VALUE=DATE:20331226
CATEGORIES:選日
DURATION:P1DT
END:VEVENT
BEGIN:VEVENT
UID:ODooPTIOt9hIc8pvcBt8s
SUMMARY:一粒万倍日
DTSTAMP:20260424T055718Z
DTSTART;VALUE=DATE:20331227
CATEGORIES:選日
DURATION:P1DT
END:VEVENT
END:VCALENDAR
