BEGIN:VCALENDAR
VERSION:2.0
CALSCALE:GREGORIAN
PRODID:adamgibbons/ics
METHOD:PUBLISH
X-WR-CALNAME:koyomi
X-PUBLISHED-TTL:PT1H
BEGIN:VEVENT
UID:rsNscb96erVghCW3nR-B_
SUMMARY:元日
DTSTAMP:20260424T074028Z
DTSTART;VALUE=DATE:20340101
CATEGORIES:祝日
DURATION:P1DT
END:VEVENT
BEGIN:VEVENT
UID:IlZREf2g7HG0RvfMjn9m_
SUMMARY:元日 振替休日
DTSTAMP:20260424T074028Z
DTSTART;VALUE=DATE:20340102
CATEGORIES:祝日
DURATION:P1DT
END:VEVENT
BEGIN:VEVENT
UID:_PxMwO4e5dFPTbM0Bs9fq
SUMMARY:小寒
DTSTAMP:20260424T074028Z
DTSTART;VALUE=DATE:20340105
CATEGORIES:節気
DURATION:P1DT
END:VEVENT
BEGIN:VEVENT
UID:xPKgObb3yxwN-qwe-jIkh
SUMMARY:一粒万倍日
DTSTAMP:20260424T074028Z
DTSTART;VALUE=DATE:20340108
CATEGORIES:選日
DURATION:P1DT
END:VEVENT
BEGIN:VEVENT
UID:8hdLM9HJ__5_CVXeuZcVR
SUMMARY:天赦日
DTSTAMP:20260424T074028Z
DTSTART;VALUE=DATE:20340108
CATEGORIES:選日
DURATION:P1DT
END:VEVENT
BEGIN:VEVENT
UID:pOxC3PP90fe0RAMdxZfks
SUMMARY:成人の日
DTSTAMP:20260424T074028Z
DTSTART;VALUE=DATE:20340109
CATEGORIES:祝日
DURATION:P1DT
END:VEVENT
BEGIN:VEVENT
UID:yJVOVlDa3R1flisIb4JN8
SUMMARY:一粒万倍日
DTSTAMP:20260424T074028Z
DTSTART;VALUE=DATE:20340111
CATEGORIES:選日
DURATION:P1DT
END:VEVENT
BEGIN:VEVENT
UID:DP-OUbawCA0lmbpAmOXef
SUMMARY:一粒万倍日
DTSTAMP:20260424T074028Z
DTSTART;VALUE=DATE:20340120
CATEGORIES:選日
DURATION:P1DT
END:VEVENT
BEGIN:VEVENT
UID:qq4NrlK2UKgvDB2jP_vna
SUMMARY:大寒
DTSTAMP:20260424T074028Z
DTSTART;VALUE=DATE:20340120
CATEGORIES:節気
DURATION:P1DT
END:VEVENT
BEGIN:VEVENT
UID:yR-WNEG9V1ps4GmT7jbWT
SUMMARY:一粒万倍日
DTSTAMP:20260424T074028Z
DTSTART;VALUE=DATE:20340123
CATEGORIES:選日
DURATION:P1DT
END:VEVENT
BEGIN:VEVENT
UID:iLLMUY783P2TzTg087fQt
SUMMARY:一粒万倍日
DTSTAMP:20260424T074028Z
DTSTART;VALUE=DATE:20340201
CATEGORIES:選日
DURATION:P1DT
END:VEVENT
BEGIN:VEVENT
UID:_2Or5uOHpjT_nXU_JWYUf
SUMMARY:立春
DTSTAMP:20260424T074028Z
DTSTART;VALUE=DATE:20340204
CATEGORIES:節気
DURATION:P1DT
END:VEVENT
BEGIN:VEVENT
UID:e8BfwLBNnp4YUBeTZg36v
SUMMARY:一粒万倍日
DTSTAMP:20260424T074028Z
DTSTART;VALUE=DATE:20340207
CATEGORIES:選日
DURATION:P1DT
END:VEVENT
BEGIN:VEVENT
UID:7fPJy-Ntj9K-cW9sMlzxp
SUMMARY:建国記念の日
DTSTAMP:20260424T074028Z
DTSTART;VALUE=DATE:20340211
CATEGORIES:祝日
DURATION:P1DT
END:VEVENT
BEGIN:VEVENT
UID:34gRs-ESQFJLeSvc_5iDG
SUMMARY:一粒万倍日
DTSTAMP:20260424T074028Z
DTSTART;VALUE=DATE:20340214
CATEGORIES:選日
DURATION:P1DT
END:VEVENT
BEGIN:VEVENT
UID:QKfS3RxNGeGDkrR0MYmUI
SUMMARY:雨水
DTSTAMP:20260424T074028Z
DTSTART;VALUE=DATE:20340218
CATEGORIES:節気
DURATION:P1DT
END:VEVENT
BEGIN:VEVENT
UID:3y2yQzpWNkBKt54wnxsHS
SUMMARY:一粒万倍日
DTSTAMP:20260424T074028Z
DTSTART;VALUE=DATE:20340219
CATEGORIES:選日
DURATION:P1DT
END:VEVENT
BEGIN:VEVENT
UID:ze-DokB7yhF4ZKQOgZhk4
SUMMARY:天皇誕生日
DTSTAMP:20260424T074028Z
DTSTART;VALUE=DATE:20340223
CATEGORIES:祝日
DURATION:P1DT
END:VEVENT
BEGIN:VEVENT
UID:oYCOBAskv_Oe7uq-kxRkC
SUMMARY:一粒万倍日
DTSTAMP:20260424T074028Z
DTSTART;VALUE=DATE:20340226
CATEGORIES:選日
DURATION:P1DT
END:VEVENT
BEGIN:VEVENT
UID:leMOanSPIelkqmH-J-H69
SUMMARY:一粒万倍日
DTSTAMP:20260424T074028Z
DTSTART;VALUE=DATE:20340303
CATEGORIES:選日
DURATION:P1DT
END:VEVENT
BEGIN:VEVENT
UID:52FQVFwqziIH4dtgdU0N6
SUMMARY:啓蟄
DTSTAMP:20260424T074028Z
DTSTART;VALUE=DATE:20340305
CATEGORIES:節気
DURATION:P1DT
END:VEVENT
BEGIN:VEVENT
UID:g8IofToSsBBJL8GHm6Lz9
SUMMARY:一粒万倍日
DTSTAMP:20260424T074028Z
DTSTART;VALUE=DATE:20340306
CATEGORIES:選日
DURATION:P1DT
END:VEVENT
BEGIN:VEVENT
UID:5bl_uZO1109IqrcDLt-cd
SUMMARY:一粒万倍日
DTSTAMP:20260424T074028Z
DTSTART;VALUE=DATE:20340311
CATEGORIES:選日
DURATION:P1DT
END:VEVENT
BEGIN:VEVENT
UID:E50kniQGe63WODJ8UyMiH
SUMMARY:一粒万倍日
DTSTAMP:20260424T074028Z
DTSTART;VALUE=DATE:20340318
CATEGORIES:選日
DURATION:P1DT
END:VEVENT
BEGIN:VEVENT
UID:RzaDkFLow7caoOvSPG448
SUMMARY:春分の日
DTSTAMP:20260424T074028Z
DTSTART;VALUE=DATE:20340320
CATEGORIES:祝日
DURATION:P1DT
END:VEVENT
BEGIN:VEVENT
UID:MraUreCgGrb0A_12acmJm
SUMMARY:春分
DTSTAMP:20260424T074028Z
DTSTART;VALUE=DATE:20340320
CATEGORIES:節気
DURATION:P1DT
END:VEVENT
BEGIN:VEVENT
UID:QkFvvHcCVhiCIdMEoNz7T
SUMMARY:一粒万倍日
DTSTAMP:20260424T074028Z
DTSTART;VALUE=DATE:20340323
CATEGORIES:選日
DURATION:P1DT
END:VEVENT
BEGIN:VEVENT
UID:HIpULqU69oImO9I7vf17U
SUMMARY:天赦日
DTSTAMP:20260424T074028Z
DTSTART;VALUE=DATE:20340323
CATEGORIES:選日
DURATION:P1DT
END:VEVENT
BEGIN:VEVENT
UID:FrByW8pjybp3H9CcJtsps
SUMMARY:一粒万倍日
DTSTAMP:20260424T074028Z
DTSTART;VALUE=DATE:20340330
CATEGORIES:選日
DURATION:P1DT
END:VEVENT
BEGIN:VEVENT
UID:ta8Xh3EV2EUh_m4bI8nv6
SUMMARY:一粒万倍日
DTSTAMP:20260424T074028Z
DTSTART;VALUE=DATE:20340404
CATEGORIES:選日
DURATION:P1DT
END:VEVENT
BEGIN:VEVENT
UID:naXKCBFoG0CYY2t0ELYBA
SUMMARY:一粒万倍日
DTSTAMP:20260424T074028Z
DTSTART;VALUE=DATE:20340405
CATEGORIES:選日
DURATION:P1DT
END:VEVENT
BEGIN:VEVENT
UID:MfK-JDpMiojQC9Rv4I87m
SUMMARY:清明
DTSTAMP:20260424T074028Z
DTSTART;VALUE=DATE:20340405
CATEGORIES:節気
DURATION:P1DT
END:VEVENT
BEGIN:VEVENT
UID:hwINJrs_jHCRf0mXK946k
SUMMARY:一粒万倍日
DTSTAMP:20260424T074028Z
DTSTART;VALUE=DATE:20340414
CATEGORIES:選日
DURATION:P1DT
END:VEVENT
BEGIN:VEVENT
UID:JzWIPifdvO5wsSKO785C0
SUMMARY:一粒万倍日
DTSTAMP:20260424T074028Z
DTSTART;VALUE=DATE:20340417
CATEGORIES:選日
DURATION:P1DT
END:VEVENT
BEGIN:VEVENT
UID:JwwSUyE1fWExdgc_QymHS
SUMMARY:穀雨
DTSTAMP:20260424T074028Z
DTSTART;VALUE=DATE:20340420
CATEGORIES:節気
DURATION:P1DT
END:VEVENT
BEGIN:VEVENT
UID:3C76xFKg0mHOEyLAzTJ5i
SUMMARY:一粒万倍日
DTSTAMP:20260424T074028Z
DTSTART;VALUE=DATE:20340426
CATEGORIES:選日
DURATION:P1DT
END:VEVENT
BEGIN:VEVENT
UID:6B3cm_lnJ3gFe1gdNqbVs
SUMMARY:昭和の日
DTSTAMP:20260424T074028Z
DTSTART;VALUE=DATE:20340429
CATEGORIES:祝日
DURATION:P1DT
END:VEVENT
BEGIN:VEVENT
UID:HEh3h8bkRpoBLavhdeG7q
SUMMARY:一粒万倍日
DTSTAMP:20260424T074028Z
DTSTART;VALUE=DATE:20340429
CATEGORIES:選日
DURATION:P1DT
END:VEVENT
BEGIN:VEVENT
UID:Cu9XNzQfN5aixFGGYBxkd
SUMMARY:憲法記念日
DTSTAMP:20260424T074028Z
DTSTART;VALUE=DATE:20340503
CATEGORIES:祝日
DURATION:P1DT
END:VEVENT
BEGIN:VEVENT
UID:5ehLMOKl4f0BCMD9wE0GU
SUMMARY:みどりの日
DTSTAMP:20260424T074028Z
DTSTART;VALUE=DATE:20340504
CATEGORIES:祝日
DURATION:P1DT
END:VEVENT
BEGIN:VEVENT
UID:9Yd74cna1Yt5qMa_j9mY2
SUMMARY:こどもの日
DTSTAMP:20260424T074028Z
DTSTART;VALUE=DATE:20340505
CATEGORIES:祝日
DURATION:P1DT
END:VEVENT
BEGIN:VEVENT
UID:WWD9ZAsjbUaHYltyllyPJ
SUMMARY:立夏
DTSTAMP:20260424T074028Z
DTSTART;VALUE=DATE:20340505
CATEGORIES:節気
DURATION:P1DT
END:VEVENT
BEGIN:VEVENT
UID:rTcQXTfAq02OEelxWr2_8
SUMMARY:一粒万倍日
DTSTAMP:20260424T074028Z
DTSTART;VALUE=DATE:20340511
CATEGORIES:選日
DURATION:P1DT
END:VEVENT
BEGIN:VEVENT
UID:-088wAX3MTpp4s4wU91H3
SUMMARY:一粒万倍日
DTSTAMP:20260424T074028Z
DTSTART;VALUE=DATE:20340512
CATEGORIES:選日
DURATION:P1DT
END:VEVENT
BEGIN:VEVENT
UID:OPf3zT_Y0fj3d9Cfm_PY-
SUMMARY:小満
DTSTAMP:20260424T074028Z
DTSTART;VALUE=DATE:20340521
CATEGORIES:節気
DURATION:P1DT
END:VEVENT
BEGIN:VEVENT
UID:zMULuoRx6td9R1xo9OWDR
SUMMARY:一粒万倍日
DTSTAMP:20260424T074028Z
DTSTART;VALUE=DATE:20340523
CATEGORIES:選日
DURATION:P1DT
END:VEVENT
BEGIN:VEVENT
UID:1DaqYOfzP8fFyt_eJC98R
SUMMARY:一粒万倍日
DTSTAMP:20260424T074028Z
DTSTART;VALUE=DATE:20340524
CATEGORIES:選日
DURATION:P1DT
END:VEVENT
BEGIN:VEVENT
UID:QlMDL9qeZo3NKzOw6kEIx
SUMMARY:一粒万倍日
DTSTAMP:20260424T074028Z
DTSTART;VALUE=DATE:20340604
CATEGORIES:選日
DURATION:P1DT
END:VEVENT
BEGIN:VEVENT
UID:vOD6KMo79du1rCNVJjnea
SUMMARY:芒種
DTSTAMP:20260424T074028Z
DTSTART;VALUE=DATE:20340605
CATEGORIES:節気
DURATION:P1DT
END:VEVENT
BEGIN:VEVENT
UID:e0S_14akSH7mlffITpWk0
SUMMARY:一粒万倍日
DTSTAMP:20260424T074028Z
DTSTART;VALUE=DATE:20340606
CATEGORIES:選日
DURATION:P1DT
END:VEVENT
BEGIN:VEVENT
UID:28mSCdHo4nAnTtz1miugH
SUMMARY:一粒万倍日
DTSTAMP:20260424T074028Z
DTSTART;VALUE=DATE:20340607
CATEGORIES:選日
DURATION:P1DT
END:VEVENT
BEGIN:VEVENT
UID:eKiJrB7ITwMjfG_ZvHP66
SUMMARY:天赦日
DTSTAMP:20260424T074028Z
DTSTART;VALUE=DATE:20340607
CATEGORIES:選日
DURATION:P1DT
END:VEVENT
BEGIN:VEVENT
UID:wuXiPGGPW6HkzteWfqUzm
SUMMARY:一粒万倍日
DTSTAMP:20260424T074028Z
DTSTART;VALUE=DATE:20340618
CATEGORIES:選日
DURATION:P1DT
END:VEVENT
BEGIN:VEVENT
UID:Huph7Gb5A7t0JIH1r7_Ow
SUMMARY:一粒万倍日
DTSTAMP:20260424T074028Z
DTSTART;VALUE=DATE:20340619
CATEGORIES:選日
DURATION:P1DT
END:VEVENT
BEGIN:VEVENT
UID:2AxDIPNL9UjvrNvawYa-2
SUMMARY:夏至
DTSTAMP:20260424T074028Z
DTSTART;VALUE=DATE:20340621
CATEGORIES:節気
DURATION:P1DT
END:VEVENT
BEGIN:VEVENT
UID:smHhAhLKQca4LSPo5Boar
SUMMARY:一粒万倍日
DTSTAMP:20260424T074028Z
DTSTART;VALUE=DATE:20340630
CATEGORIES:選日
DURATION:P1DT
END:VEVENT
BEGIN:VEVENT
UID:gq8wAg5r7rQG87M9Pe0RU
SUMMARY:一粒万倍日
DTSTAMP:20260424T074028Z
DTSTART;VALUE=DATE:20340701
CATEGORIES:選日
DURATION:P1DT
END:VEVENT
BEGIN:VEVENT
UID:gEe1Rve98zI448OqFfH4Z
SUMMARY:小暑
DTSTAMP:20260424T074028Z
DTSTART;VALUE=DATE:20340707
CATEGORIES:節気
DURATION:P1DT
END:VEVENT
BEGIN:VEVENT
UID:26pl6Swtn02Pvk8CZX4vb
SUMMARY:一粒万倍日
DTSTAMP:20260424T074028Z
DTSTART;VALUE=DATE:20340713
CATEGORIES:選日
DURATION:P1DT
END:VEVENT
BEGIN:VEVENT
UID:OrDeow6KzCBllRG6u8T30
SUMMARY:一粒万倍日
DTSTAMP:20260424T074028Z
DTSTART;VALUE=DATE:20340716
CATEGORIES:選日
DURATION:P1DT
END:VEVENT
BEGIN:VEVENT
UID:vPhkg20R9jtyNhZg_IU3s
SUMMARY:海の日
DTSTAMP:20260424T074028Z
DTSTART;VALUE=DATE:20340717
CATEGORIES:祝日
DURATION:P1DT
END:VEVENT
BEGIN:VEVENT
UID:hXkzGlUz7d5kPz8IQC8Pv
SUMMARY:大暑
DTSTAMP:20260424T074028Z
DTSTART;VALUE=DATE:20340723
CATEGORIES:節気
DURATION:P1DT
END:VEVENT
BEGIN:VEVENT
UID:lhjcmwqpBBdBMk2_wPjnG
SUMMARY:一粒万倍日
DTSTAMP:20260424T074028Z
DTSTART;VALUE=DATE:20340725
CATEGORIES:選日
DURATION:P1DT
END:VEVENT
BEGIN:VEVENT
UID:-palXwDYSPOvY-dn6MN-J
SUMMARY:一粒万倍日
DTSTAMP:20260424T074028Z
DTSTART;VALUE=DATE:20340728
CATEGORIES:選日
DURATION:P1DT
END:VEVENT
BEGIN:VEVENT
UID:kgw_HLTBBR9Bt0fQvlJcP
SUMMARY:一粒万倍日
DTSTAMP:20260424T074028Z
DTSTART;VALUE=DATE:20340806
CATEGORIES:選日
DURATION:P1DT
END:VEVENT
BEGIN:VEVENT
UID:8JF29suiibu246KN-7T21
SUMMARY:天赦日
DTSTAMP:20260424T074028Z
DTSTART;VALUE=DATE:20340806
CATEGORIES:選日
DURATION:P1DT
END:VEVENT
BEGIN:VEVENT
UID:e3TNUnA90rfzn19hTLJ9N
SUMMARY:一粒万倍日
DTSTAMP:20260424T074028Z
DTSTART;VALUE=DATE:20340807
CATEGORIES:選日
DURATION:P1DT
END:VEVENT
BEGIN:VEVENT
UID:LrHEvAveX8q_yRu2_sTW1
SUMMARY:立秋
DTSTAMP:20260424T074028Z
DTSTART;VALUE=DATE:20340807
CATEGORIES:節気
DURATION:P1DT
END:VEVENT
BEGIN:VEVENT
UID:u-z4NedCa-18r-BVKbqng
SUMMARY:山の日
DTSTAMP:20260424T074028Z
DTSTART;VALUE=DATE:20340811
CATEGORIES:祝日
DURATION:P1DT
END:VEVENT
BEGIN:VEVENT
UID:CYuVyxffeyFQd6i1JEiFE
SUMMARY:一粒万倍日
DTSTAMP:20260424T074028Z
DTSTART;VALUE=DATE:20340812
CATEGORIES:選日
DURATION:P1DT
END:VEVENT
BEGIN:VEVENT
UID:hDLLjgQ0csgPbmRkQ-R9H
SUMMARY:一粒万倍日
DTSTAMP:20260424T074028Z
DTSTART;VALUE=DATE:20340819
CATEGORIES:選日
DURATION:P1DT
END:VEVENT
BEGIN:VEVENT
UID:0J0oDpC4cEX0N5VSbXvxi
SUMMARY:天赦日
DTSTAMP:20260424T074028Z
DTSTART;VALUE=DATE:20340820
CATEGORIES:選日
DURATION:P1DT
END:VEVENT
BEGIN:VEVENT
UID:jjP5bJYCbkhzViUoyDvHW
SUMMARY:処暑
DTSTAMP:20260424T074028Z
DTSTART;VALUE=DATE:20340823
CATEGORIES:節気
DURATION:P1DT
END:VEVENT
BEGIN:VEVENT
UID:vKs1Yj46L9BflD98OdUUx
SUMMARY:一粒万倍日
DTSTAMP:20260424T074028Z
DTSTART;VALUE=DATE:20340824
CATEGORIES:選日
DURATION:P1DT
END:VEVENT
BEGIN:VEVENT
UID:OOLJMUjvjwOb_tSUDQT1_
SUMMARY:一粒万倍日
DTSTAMP:20260424T074028Z
DTSTART;VALUE=DATE:20340831
CATEGORIES:選日
DURATION:P1DT
END:VEVENT
BEGIN:VEVENT
UID:BS5Tz0J4nFNzHZiFCzk8e
SUMMARY:一粒万倍日
DTSTAMP:20260424T074028Z
DTSTART;VALUE=DATE:20340905
CATEGORIES:選日
DURATION:P1DT
END:VEVENT
BEGIN:VEVENT
UID:7X7OmIRQ5dTOBVbqANjFX
SUMMARY:白露
DTSTAMP:20260424T074028Z
DTSTART;VALUE=DATE:20340907
CATEGORIES:節気
DURATION:P1DT
END:VEVENT
BEGIN:VEVENT
UID:Hd5OHS1qRfxMhesoBpXtD
SUMMARY:一粒万倍日
DTSTAMP:20260424T074028Z
DTSTART;VALUE=DATE:20340908
CATEGORIES:選日
DURATION:P1DT
END:VEVENT
BEGIN:VEVENT
UID:sXi7WYd2JOQH3_xQ_G5IM
SUMMARY:一粒万倍日
DTSTAMP:20260424T074028Z
DTSTART;VALUE=DATE:20340913
CATEGORIES:選日
DURATION:P1DT
END:VEVENT
BEGIN:VEVENT
UID:7m6O8CLyXIExLenYJKBTy
SUMMARY:敬老の日
DTSTAMP:20260424T074028Z
DTSTART;VALUE=DATE:20340918
CATEGORIES:祝日
DURATION:P1DT
END:VEVENT
BEGIN:VEVENT
UID:n7ExmYiiB0U4rzZoHr_0i
SUMMARY:一粒万倍日
DTSTAMP:20260424T074028Z
DTSTART;VALUE=DATE:20340920
CATEGORIES:選日
DURATION:P1DT
END:VEVENT
BEGIN:VEVENT
UID:zjmkhJIWVlBAGUiWYJGa0
SUMMARY:秋分の日
DTSTAMP:20260424T074028Z
DTSTART;VALUE=DATE:20340923
CATEGORIES:祝日
DURATION:P1DT
END:VEVENT
BEGIN:VEVENT
UID:RV7B_yvtReVPJXDutNE12
SUMMARY:秋分
DTSTAMP:20260424T074028Z
DTSTART;VALUE=DATE:20340923
CATEGORIES:節気
DURATION:P1DT
END:VEVENT
BEGIN:VEVENT
UID:bbfFfOeVduM-ko9XJhFQr
SUMMARY:一粒万倍日
DTSTAMP:20260424T074028Z
DTSTART;VALUE=DATE:20340925
CATEGORIES:選日
DURATION:P1DT
END:VEVENT
BEGIN:VEVENT
UID:Ibvu8x_8weFzXaqFzZW9q
SUMMARY:一粒万倍日
DTSTAMP:20260424T074028Z
DTSTART;VALUE=DATE:20341002
CATEGORIES:選日
DURATION:P1DT
END:VEVENT
BEGIN:VEVENT
UID:QyugSe-2CuVh9JXsHVD-q
SUMMARY:一粒万倍日
DTSTAMP:20260424T074028Z
DTSTART;VALUE=DATE:20341007
CATEGORIES:選日
DURATION:P1DT
END:VEVENT
BEGIN:VEVENT
UID:7WapwrUM6GBKcFOmpqaR-
SUMMARY:一粒万倍日
DTSTAMP:20260424T074028Z
DTSTART;VALUE=DATE:20341008
CATEGORIES:選日
DURATION:P1DT
END:VEVENT
BEGIN:VEVENT
UID:sDPSd4tK9lyu-p05MZh4d
SUMMARY:寒露
DTSTAMP:20260424T074028Z
DTSTART;VALUE=DATE:20341008
CATEGORIES:節気
DURATION:P1DT
END:VEVENT
BEGIN:VEVENT
UID:r7JhN5IdPh1FiM71lXoX2
SUMMARY:スポーツの日
DTSTAMP:20260424T074028Z
DTSTART;VALUE=DATE:20341009
CATEGORIES:祝日
DURATION:P1DT
END:VEVENT
BEGIN:VEVENT
UID:HwV0HL9vhyq0EIPLJ2C5Q
SUMMARY:一粒万倍日
DTSTAMP:20260424T074028Z
DTSTART;VALUE=DATE:20341017
CATEGORIES:選日
DURATION:P1DT
END:VEVENT
BEGIN:VEVENT
UID:fkKFOti89rW4ir3KzVRrA
SUMMARY:天赦日
DTSTAMP:20260424T074028Z
DTSTART;VALUE=DATE:20341019
CATEGORIES:選日
DURATION:P1DT
END:VEVENT
BEGIN:VEVENT
UID:RRX7qMm_yTiMx79RWXmDZ
SUMMARY:一粒万倍日
DTSTAMP:20260424T074028Z
DTSTART;VALUE=DATE:20341020
CATEGORIES:選日
DURATION:P1DT
END:VEVENT
BEGIN:VEVENT
UID:rnnnDQUHhXsHveusDi0aB
SUMMARY:霜降
DTSTAMP:20260424T074028Z
DTSTART;VALUE=DATE:20341023
CATEGORIES:節気
DURATION:P1DT
END:VEVENT
BEGIN:VEVENT
UID:B6rNqKSdRg2cODYBul_nm
SUMMARY:一粒万倍日
DTSTAMP:20260424T074028Z
DTSTART;VALUE=DATE:20341029
CATEGORIES:選日
DURATION:P1DT
END:VEVENT
BEGIN:VEVENT
UID:nKsaKTJdXAMtP2B-dY9sL
SUMMARY:一粒万倍日
DTSTAMP:20260424T074028Z
DTSTART;VALUE=DATE:20341101
CATEGORIES:選日
DURATION:P1DT
END:VEVENT
BEGIN:VEVENT
UID:_qKZxn-SXf2S3NOTBlMxn
SUMMARY:文化の日
DTSTAMP:20260424T074028Z
DTSTART;VALUE=DATE:20341103
CATEGORIES:祝日
DURATION:P1DT
END:VEVENT
BEGIN:VEVENT
UID:YRPv97DUc3pZvnd5KWAYK
SUMMARY:立冬
DTSTAMP:20260424T074028Z
DTSTART;VALUE=DATE:20341107
CATEGORIES:節気
DURATION:P1DT
END:VEVENT
BEGIN:VEVENT
UID:XDTqmBX-tGNBg6RyHJNSd
SUMMARY:一粒万倍日
DTSTAMP:20260424T074028Z
DTSTART;VALUE=DATE:20341113
CATEGORIES:選日
DURATION:P1DT
END:VEVENT
BEGIN:VEVENT
UID:kk2qYesK6kOAWGS-7J86r
SUMMARY:一粒万倍日
DTSTAMP:20260424T074028Z
DTSTART;VALUE=DATE:20341114
CATEGORIES:選日
DURATION:P1DT
END:VEVENT
BEGIN:VEVENT
UID:JTW8Kh_V6bdj3Mu7Xvbev
SUMMARY:小雪
DTSTAMP:20260424T074028Z
DTSTART;VALUE=DATE:20341122
CATEGORIES:節気
DURATION:P1DT
END:VEVENT
BEGIN:VEVENT
UID:qvRFRsAoBFSMmPWw1CSeO
SUMMARY:勤労感謝の日
DTSTAMP:20260424T074028Z
DTSTART;VALUE=DATE:20341123
CATEGORIES:祝日
DURATION:P1DT
END:VEVENT
BEGIN:VEVENT
UID:CorPXpbc9d3hoCrn5hTQb
SUMMARY:一粒万倍日
DTSTAMP:20260424T074028Z
DTSTART;VALUE=DATE:20341125
CATEGORIES:選日
DURATION:P1DT
END:VEVENT
BEGIN:VEVENT
UID:OJyk_THs3i3Gc-32NqNp7
SUMMARY:一粒万倍日
DTSTAMP:20260424T074028Z
DTSTART;VALUE=DATE:20341126
CATEGORIES:選日
DURATION:P1DT
END:VEVENT
BEGIN:VEVENT
UID:ioLfipKJ0N_D8NZ-KzAX3
SUMMARY:大雪
DTSTAMP:20260424T074028Z
DTSTART;VALUE=DATE:20341207
CATEGORIES:節気
DURATION:P1DT
END:VEVENT
BEGIN:VEVENT
UID:oz8-LzxPpPbgeRVOwzdPC
SUMMARY:一粒万倍日
DTSTAMP:20260424T074028Z
DTSTART;VALUE=DATE:20341209
CATEGORIES:選日
DURATION:P1DT
END:VEVENT
BEGIN:VEVENT
UID:02h0UpbahOF5DGVBqSL6C
SUMMARY:一粒万倍日
DTSTAMP:20260424T074028Z
DTSTART;VALUE=DATE:20341210
CATEGORIES:選日
DURATION:P1DT
END:VEVENT
BEGIN:VEVENT
UID:LO9MkXBtbT_KFFU2MBHTx
SUMMARY:一粒万倍日
DTSTAMP:20260424T074028Z
DTSTART;VALUE=DATE:20341221
CATEGORIES:選日
DURATION:P1DT
END:VEVENT
BEGIN:VEVENT
UID:jjWBCVnVjrcwWFlbHN56e
SUMMARY:一粒万倍日
DTSTAMP:20260424T074028Z
DTSTART;VALUE=DATE:20341222
CATEGORIES:選日
DURATION:P1DT
END:VEVENT
BEGIN:VEVENT
UID:tZQa9HECSNJ_KRTk25bqa
SUMMARY:冬至
DTSTAMP:20260424T074028Z
DTSTART;VALUE=DATE:20341222
CATEGORIES:節気
DURATION:P1DT
END:VEVENT
END:VCALENDAR
