BEGIN:VCALENDAR
VERSION:2.0
CALSCALE:GREGORIAN
PRODID:adamgibbons/ics
METHOD:PUBLISH
X-WR-CALNAME:koyomi
X-PUBLISHED-TTL:PT1H
BEGIN:VEVENT
UID:pa6m1TN6HjqL9JzQQkrB3
SUMMARY:元日
DTSTAMP:20260424T092400Z
DTSTART;VALUE=DATE:20350101
CATEGORIES:祝日
DURATION:P1DT
END:VEVENT
BEGIN:VEVENT
UID:zsEfq-Szx-XggR1vBQCNN
SUMMARY:一粒万倍日
DTSTAMP:20260424T092400Z
DTSTART;VALUE=DATE:20350102
CATEGORIES:選日
DURATION:P1DT
END:VEVENT
BEGIN:VEVENT
UID:b0gBlq7j426uCaBN4P8i0
SUMMARY:一粒万倍日
DTSTAMP:20260424T092400Z
DTSTART;VALUE=DATE:20350103
CATEGORIES:選日
DURATION:P1DT
END:VEVENT
BEGIN:VEVENT
UID:JGiGzLWj-tWhvZi1cpUpq
SUMMARY:天赦日
DTSTAMP:20260424T092400Z
DTSTART;VALUE=DATE:20350103
CATEGORIES:選日
DURATION:P1DT
END:VEVENT
BEGIN:VEVENT
UID:VTE13W2R7tlNydrrXFbUm
SUMMARY:小寒
DTSTAMP:20260424T092400Z
DTSTART;VALUE=DATE:20350105
CATEGORIES:節気
DURATION:P1DT
END:VEVENT
BEGIN:VEVENT
UID:snHjxqi4GB5SfTOpxhFmZ
SUMMARY:一粒万倍日
DTSTAMP:20260424T092400Z
DTSTART;VALUE=DATE:20350106
CATEGORIES:選日
DURATION:P1DT
END:VEVENT
BEGIN:VEVENT
UID:_-P1TnII2qXK_GEC9SwYD
SUMMARY:成人の日
DTSTAMP:20260424T092400Z
DTSTART;VALUE=DATE:20350108
CATEGORIES:祝日
DURATION:P1DT
END:VEVENT
BEGIN:VEVENT
UID:IwohZ5xrJ4Eed2ddf6zxw
SUMMARY:一粒万倍日
DTSTAMP:20260424T092400Z
DTSTART;VALUE=DATE:20350115
CATEGORIES:選日
DURATION:P1DT
END:VEVENT
BEGIN:VEVENT
UID:W31BVGImngxJvYwokFVco
SUMMARY:一粒万倍日
DTSTAMP:20260424T092400Z
DTSTART;VALUE=DATE:20350118
CATEGORIES:選日
DURATION:P1DT
END:VEVENT
BEGIN:VEVENT
UID:R32Hwuk2bV3PfgLA7laLg
SUMMARY:大寒
DTSTAMP:20260424T092400Z
DTSTART;VALUE=DATE:20350120
CATEGORIES:節気
DURATION:P1DT
END:VEVENT
BEGIN:VEVENT
UID:MV-5_4RoAm3TL9A__XbL1
SUMMARY:一粒万倍日
DTSTAMP:20260424T092400Z
DTSTART;VALUE=DATE:20350127
CATEGORIES:選日
DURATION:P1DT
END:VEVENT
BEGIN:VEVENT
UID:WZM8YdOUYmb21jSYQMYgH
SUMMARY:一粒万倍日
DTSTAMP:20260424T092400Z
DTSTART;VALUE=DATE:20350130
CATEGORIES:選日
DURATION:P1DT
END:VEVENT
BEGIN:VEVENT
UID:OFea9vwiBqjGMjBDvT7g8
SUMMARY:立春
DTSTAMP:20260424T092400Z
DTSTART;VALUE=DATE:20350204
CATEGORIES:節気
DURATION:P1DT
END:VEVENT
BEGIN:VEVENT
UID:cfAdGADarX5kcckqWmkAP
SUMMARY:一粒万倍日
DTSTAMP:20260424T092400Z
DTSTART;VALUE=DATE:20350209
CATEGORIES:選日
DURATION:P1DT
END:VEVENT
BEGIN:VEVENT
UID:JLpp3sIzdOEpaYESCsV8S
SUMMARY:建国記念の日
DTSTAMP:20260424T092400Z
DTSTART;VALUE=DATE:20350211
CATEGORIES:祝日
DURATION:P1DT
END:VEVENT
BEGIN:VEVENT
UID:OvBMRLVTzXKz86bRad6m8
SUMMARY:建国記念の日 振替休日
DTSTAMP:20260424T092400Z
DTSTART;VALUE=DATE:20350212
CATEGORIES:祝日
DURATION:P1DT
END:VEVENT
BEGIN:VEVENT
UID:AHe4nXUOsYYsNPU3LU7oB
SUMMARY:一粒万倍日
DTSTAMP:20260424T092400Z
DTSTART;VALUE=DATE:20350214
CATEGORIES:選日
DURATION:P1DT
END:VEVENT
BEGIN:VEVENT
UID:Fx1twpyvPtbFCzXpDxh41
SUMMARY:雨水
DTSTAMP:20260424T092400Z
DTSTART;VALUE=DATE:20350219
CATEGORIES:節気
DURATION:P1DT
END:VEVENT
BEGIN:VEVENT
UID:ptkaL5WeOy6xIoBbBL6CW
SUMMARY:一粒万倍日
DTSTAMP:20260424T092400Z
DTSTART;VALUE=DATE:20350221
CATEGORIES:選日
DURATION:P1DT
END:VEVENT
BEGIN:VEVENT
UID:0NaV4ab90DArpKtX6jZ8R
SUMMARY:天皇誕生日
DTSTAMP:20260424T092400Z
DTSTART;VALUE=DATE:20350223
CATEGORIES:祝日
DURATION:P1DT
END:VEVENT
BEGIN:VEVENT
UID:xAAmhu30EZf3Zd6T9uok1
SUMMARY:一粒万倍日
DTSTAMP:20260424T092400Z
DTSTART;VALUE=DATE:20350226
CATEGORIES:選日
DURATION:P1DT
END:VEVENT
BEGIN:VEVENT
UID:7G9IeVHh5O27GjrbuTwcC
SUMMARY:一粒万倍日
DTSTAMP:20260424T092400Z
DTSTART;VALUE=DATE:20350305
CATEGORIES:選日
DURATION:P1DT
END:VEVENT
BEGIN:VEVENT
UID:nSUYl7Blgi4bH6dbW0yD6
SUMMARY:一粒万倍日
DTSTAMP:20260424T092400Z
DTSTART;VALUE=DATE:20350306
CATEGORIES:選日
DURATION:P1DT
END:VEVENT
BEGIN:VEVENT
UID:u8OLU8vox5bjEgCeHt3zi
SUMMARY:啓蟄
DTSTAMP:20260424T092400Z
DTSTART;VALUE=DATE:20350306
CATEGORIES:節気
DURATION:P1DT
END:VEVENT
BEGIN:VEVENT
UID:-9SuuSGUVRSwz6guSpjtI
SUMMARY:一粒万倍日
DTSTAMP:20260424T092400Z
DTSTART;VALUE=DATE:20350313
CATEGORIES:選日
DURATION:P1DT
END:VEVENT
BEGIN:VEVENT
UID:tDMI-mW3fvhSqVs2l03a-
SUMMARY:一粒万倍日
DTSTAMP:20260424T092400Z
DTSTART;VALUE=DATE:20350318
CATEGORIES:選日
DURATION:P1DT
END:VEVENT
BEGIN:VEVENT
UID:xwdhwLFizzrtLO7M7yiiW
SUMMARY:天赦日
DTSTAMP:20260424T092400Z
DTSTART;VALUE=DATE:20350318
CATEGORIES:選日
DURATION:P1DT
END:VEVENT
BEGIN:VEVENT
UID:j41gQxwXIanmpvZRPCwl0
SUMMARY:春分の日
DTSTAMP:20260424T092400Z
DTSTART;VALUE=DATE:20350321
CATEGORIES:祝日
DURATION:P1DT
END:VEVENT
BEGIN:VEVENT
UID:y-fi-Ik7nLrtCdGJPFWF-
SUMMARY:春分
DTSTAMP:20260424T092400Z
DTSTART;VALUE=DATE:20350321
CATEGORIES:節気
DURATION:P1DT
END:VEVENT
BEGIN:VEVENT
UID:ikj-Tk7LIsBI-YoEfbO6y
SUMMARY:一粒万倍日
DTSTAMP:20260424T092400Z
DTSTART;VALUE=DATE:20350325
CATEGORIES:選日
DURATION:P1DT
END:VEVENT
BEGIN:VEVENT
UID:-XsIXFDfLCBxxJW61HG_N
SUMMARY:一粒万倍日
DTSTAMP:20260424T092400Z
DTSTART;VALUE=DATE:20350330
CATEGORIES:選日
DURATION:P1DT
END:VEVENT
BEGIN:VEVENT
UID:KUifooX9LLefF-SNEO1gT
SUMMARY:清明
DTSTAMP:20260424T092400Z
DTSTART;VALUE=DATE:20350405
CATEGORIES:節気
DURATION:P1DT
END:VEVENT
BEGIN:VEVENT
UID:OBunjtpSCFOh8AblBfYTp
SUMMARY:一粒万倍日
DTSTAMP:20260424T092400Z
DTSTART;VALUE=DATE:20350409
CATEGORIES:選日
DURATION:P1DT
END:VEVENT
BEGIN:VEVENT
UID:00bhwDUOGKY_NruBTBXx1
SUMMARY:一粒万倍日
DTSTAMP:20260424T092400Z
DTSTART;VALUE=DATE:20350412
CATEGORIES:選日
DURATION:P1DT
END:VEVENT
BEGIN:VEVENT
UID:sEyjYB_X1j6mBrkr8KdpD
SUMMARY:穀雨
DTSTAMP:20260424T092400Z
DTSTART;VALUE=DATE:20350420
CATEGORIES:節気
DURATION:P1DT
END:VEVENT
BEGIN:VEVENT
UID:hCCEHZ3t4CHOUA55XTzV8
SUMMARY:一粒万倍日
DTSTAMP:20260424T092400Z
DTSTART;VALUE=DATE:20350421
CATEGORIES:選日
DURATION:P1DT
END:VEVENT
BEGIN:VEVENT
UID:bo9T_cKP45fGNiYxKROm8
SUMMARY:一粒万倍日
DTSTAMP:20260424T092400Z
DTSTART;VALUE=DATE:20350424
CATEGORIES:選日
DURATION:P1DT
END:VEVENT
BEGIN:VEVENT
UID:oQv8911rbDFoou5Jjds36
SUMMARY:昭和の日
DTSTAMP:20260424T092400Z
DTSTART;VALUE=DATE:20350429
CATEGORIES:祝日
DURATION:P1DT
END:VEVENT
BEGIN:VEVENT
UID:hyxZdIaGG96kL_g8YqB3C
SUMMARY:昭和の日 振替休日
DTSTAMP:20260424T092400Z
DTSTART;VALUE=DATE:20350430
CATEGORIES:祝日
DURATION:P1DT
END:VEVENT
BEGIN:VEVENT
UID:A4pllWd55t9OE5pVuJaX3
SUMMARY:憲法記念日
DTSTAMP:20260424T092400Z
DTSTART;VALUE=DATE:20350503
CATEGORIES:祝日
DURATION:P1DT
END:VEVENT
BEGIN:VEVENT
UID:re5scfo8esIATQH1gbwOV
SUMMARY:一粒万倍日
DTSTAMP:20260424T092400Z
DTSTART;VALUE=DATE:20350503
CATEGORIES:選日
DURATION:P1DT
END:VEVENT
BEGIN:VEVENT
UID:QaQMyAq69peScqmPN2WmC
SUMMARY:みどりの日
DTSTAMP:20260424T092400Z
DTSTART;VALUE=DATE:20350504
CATEGORIES:祝日
DURATION:P1DT
END:VEVENT
BEGIN:VEVENT
UID:Odh0pdCzFIcsZVUvdi-uX
SUMMARY:こどもの日
DTSTAMP:20260424T092400Z
DTSTART;VALUE=DATE:20350505
CATEGORIES:祝日
DURATION:P1DT
END:VEVENT
BEGIN:VEVENT
UID:-5yBXIGAqY1Zu_tqweX-K
SUMMARY:立夏
DTSTAMP:20260424T092400Z
DTSTART;VALUE=DATE:20350505
CATEGORIES:節気
DURATION:P1DT
END:VEVENT
BEGIN:VEVENT
UID:u9V3t07FtgadDTMFu3CZF
SUMMARY:一粒万倍日
DTSTAMP:20260424T092400Z
DTSTART;VALUE=DATE:20350506
CATEGORIES:選日
DURATION:P1DT
END:VEVENT
BEGIN:VEVENT
UID:mVGZ3w0j-zF2ObWx57jWq
SUMMARY:一粒万倍日
DTSTAMP:20260424T092400Z
DTSTART;VALUE=DATE:20350507
CATEGORIES:選日
DURATION:P1DT
END:VEVENT
BEGIN:VEVENT
UID:2PywuiWIhjfu9Fxt3iOsw
SUMMARY:一粒万倍日
DTSTAMP:20260424T092400Z
DTSTART;VALUE=DATE:20350518
CATEGORIES:選日
DURATION:P1DT
END:VEVENT
BEGIN:VEVENT
UID:d73NByhF9Hzm_hqD6LEGD
SUMMARY:一粒万倍日
DTSTAMP:20260424T092400Z
DTSTART;VALUE=DATE:20350519
CATEGORIES:選日
DURATION:P1DT
END:VEVENT
BEGIN:VEVENT
UID:iscvy7VU8YcN0YK-pfOqQ
SUMMARY:小満
DTSTAMP:20260424T092400Z
DTSTART;VALUE=DATE:20350521
CATEGORIES:節気
DURATION:P1DT
END:VEVENT
BEGIN:VEVENT
UID:2iuQmYLs0WCuL62ClZZAd
SUMMARY:一粒万倍日
DTSTAMP:20260424T092400Z
DTSTART;VALUE=DATE:20350530
CATEGORIES:選日
DURATION:P1DT
END:VEVENT
BEGIN:VEVENT
UID:eWOU56E8QSka2CR8LvYSx
SUMMARY:一粒万倍日
DTSTAMP:20260424T092400Z
DTSTART;VALUE=DATE:20350531
CATEGORIES:選日
DURATION:P1DT
END:VEVENT
BEGIN:VEVENT
UID:KvcM5ItQ4jYofWuSjZ8Dm
SUMMARY:天赦日
DTSTAMP:20260424T092400Z
DTSTART;VALUE=DATE:20350602
CATEGORIES:選日
DURATION:P1DT
END:VEVENT
BEGIN:VEVENT
UID:6FaeqcRR9pWYbVkrfwXge
SUMMARY:芒種
DTSTAMP:20260424T092400Z
DTSTART;VALUE=DATE:20350606
CATEGORIES:節気
DURATION:P1DT
END:VEVENT
BEGIN:VEVENT
UID:bdwLobJZ880WvI35gscPa
SUMMARY:一粒万倍日
DTSTAMP:20260424T092400Z
DTSTART;VALUE=DATE:20350613
CATEGORIES:選日
DURATION:P1DT
END:VEVENT
BEGIN:VEVENT
UID:Wbzq9rkMqBpXNxGIb7BHo
SUMMARY:一粒万倍日
DTSTAMP:20260424T092400Z
DTSTART;VALUE=DATE:20350614
CATEGORIES:選日
DURATION:P1DT
END:VEVENT
BEGIN:VEVENT
UID:PLIgxCapbKRD6yGWSkha9
SUMMARY:夏至
DTSTAMP:20260424T092400Z
DTSTART;VALUE=DATE:20350621
CATEGORIES:節気
DURATION:P1DT
END:VEVENT
BEGIN:VEVENT
UID:w11LA6S-Mdf-UR7mQf6wG
SUMMARY:一粒万倍日
DTSTAMP:20260424T092400Z
DTSTART;VALUE=DATE:20350625
CATEGORIES:選日
DURATION:P1DT
END:VEVENT
BEGIN:VEVENT
UID:_S1CK4WLtsP3WXGjEUUtf
SUMMARY:一粒万倍日
DTSTAMP:20260424T092400Z
DTSTART;VALUE=DATE:20350626
CATEGORIES:選日
DURATION:P1DT
END:VEVENT
BEGIN:VEVENT
UID:yIa-j5Lgh3uyZA-cbA513
SUMMARY:小暑
DTSTAMP:20260424T092400Z
DTSTART;VALUE=DATE:20350707
CATEGORIES:節気
DURATION:P1DT
END:VEVENT
BEGIN:VEVENT
UID:nUgaztMrSL5cUMGcFIrlb
SUMMARY:一粒万倍日
DTSTAMP:20260424T092400Z
DTSTART;VALUE=DATE:20350708
CATEGORIES:選日
DURATION:P1DT
END:VEVENT
BEGIN:VEVENT
UID:z5CeFbUL1WaAYBoeog9ml
SUMMARY:一粒万倍日
DTSTAMP:20260424T092400Z
DTSTART;VALUE=DATE:20350711
CATEGORIES:選日
DURATION:P1DT
END:VEVENT
BEGIN:VEVENT
UID:-t0JpAGqWyZa_l44VkQ__
SUMMARY:海の日
DTSTAMP:20260424T092400Z
DTSTART;VALUE=DATE:20350716
CATEGORIES:祝日
DURATION:P1DT
END:VEVENT
BEGIN:VEVENT
UID:bSzl5-hq9YcBV0diJDWoU
SUMMARY:一粒万倍日
DTSTAMP:20260424T092400Z
DTSTART;VALUE=DATE:20350720
CATEGORIES:選日
DURATION:P1DT
END:VEVENT
BEGIN:VEVENT
UID:Xd318dZPz0W8xrGUHypGQ
SUMMARY:一粒万倍日
DTSTAMP:20260424T092400Z
DTSTART;VALUE=DATE:20350723
CATEGORIES:選日
DURATION:P1DT
END:VEVENT
BEGIN:VEVENT
UID:Zo2ozcasgXocJJlZ1iCtK
SUMMARY:大暑
DTSTAMP:20260424T092400Z
DTSTART;VALUE=DATE:20350723
CATEGORIES:節気
DURATION:P1DT
END:VEVENT
BEGIN:VEVENT
UID:fE6qVb32uE61yzHVw6eH5
SUMMARY:一粒万倍日
DTSTAMP:20260424T092400Z
DTSTART;VALUE=DATE:20350801
CATEGORIES:選日
DURATION:P1DT
END:VEVENT
BEGIN:VEVENT
UID:CPMHG6Z_YB6hp_XGWDAYB
SUMMARY:天赦日
DTSTAMP:20260424T092400Z
DTSTART;VALUE=DATE:20350801
CATEGORIES:選日
DURATION:P1DT
END:VEVENT
BEGIN:VEVENT
UID:SDdwF_t4Ry9yV_o7biQqm
SUMMARY:一粒万倍日
DTSTAMP:20260424T092400Z
DTSTART;VALUE=DATE:20350804
CATEGORIES:選日
DURATION:P1DT
END:VEVENT
BEGIN:VEVENT
UID:opjyvAVUo9XLE-aOWtLt9
SUMMARY:一粒万倍日
DTSTAMP:20260424T092400Z
DTSTART;VALUE=DATE:20350807
CATEGORIES:選日
DURATION:P1DT
END:VEVENT
BEGIN:VEVENT
UID:vyRkAtJMR4PM4iVvqo_YS
SUMMARY:立秋
DTSTAMP:20260424T092400Z
DTSTART;VALUE=DATE:20350807
CATEGORIES:節気
DURATION:P1DT
END:VEVENT
BEGIN:VEVENT
UID:id13GYCoeW90x63RUb_MC
SUMMARY:山の日
DTSTAMP:20260424T092400Z
DTSTART;VALUE=DATE:20350811
CATEGORIES:祝日
DURATION:P1DT
END:VEVENT
BEGIN:VEVENT
UID:mPdFT1xH1wp_D1rQ5WAlQ
SUMMARY:一粒万倍日
DTSTAMP:20260424T092400Z
DTSTART;VALUE=DATE:20350814
CATEGORIES:選日
DURATION:P1DT
END:VEVENT
BEGIN:VEVENT
UID:crdG0QK_lCRgaL157gET1
SUMMARY:天赦日
DTSTAMP:20260424T092400Z
DTSTART;VALUE=DATE:20350815
CATEGORIES:選日
DURATION:P1DT
END:VEVENT
BEGIN:VEVENT
UID:Wypk420s_jRCpS5vUUXtP
SUMMARY:一粒万倍日
DTSTAMP:20260424T092400Z
DTSTART;VALUE=DATE:20350819
CATEGORIES:選日
DURATION:P1DT
END:VEVENT
BEGIN:VEVENT
UID:qoOWrLdIe2-8l7gVygYx6
SUMMARY:処暑
DTSTAMP:20260424T092400Z
DTSTART;VALUE=DATE:20350823
CATEGORIES:節気
DURATION:P1DT
END:VEVENT
BEGIN:VEVENT
UID:bSKqvhvBQgW3R8RfoRYD4
SUMMARY:一粒万倍日
DTSTAMP:20260424T092400Z
DTSTART;VALUE=DATE:20350826
CATEGORIES:選日
DURATION:P1DT
END:VEVENT
BEGIN:VEVENT
UID:X3ZTvD2BSoFVqyjVB6cpf
SUMMARY:一粒万倍日
DTSTAMP:20260424T092400Z
DTSTART;VALUE=DATE:20350831
CATEGORIES:選日
DURATION:P1DT
END:VEVENT
BEGIN:VEVENT
UID:dZV_eMfNJOKfcNEP0Dt5H
SUMMARY:一粒万倍日
DTSTAMP:20260424T092400Z
DTSTART;VALUE=DATE:20350907
CATEGORIES:選日
DURATION:P1DT
END:VEVENT
BEGIN:VEVENT
UID:8pChFwJmoWYzUql7EZEuF
SUMMARY:一粒万倍日
DTSTAMP:20260424T092400Z
DTSTART;VALUE=DATE:20350908
CATEGORIES:選日
DURATION:P1DT
END:VEVENT
BEGIN:VEVENT
UID:iJsfzgDUsHIVJjalwR7YS
SUMMARY:白露
DTSTAMP:20260424T092400Z
DTSTART;VALUE=DATE:20350908
CATEGORIES:節気
DURATION:P1DT
END:VEVENT
BEGIN:VEVENT
UID:Ufqu52poStWhc88WTsp1P
SUMMARY:一粒万倍日
DTSTAMP:20260424T092400Z
DTSTART;VALUE=DATE:20350915
CATEGORIES:選日
DURATION:P1DT
END:VEVENT
BEGIN:VEVENT
UID:38jOe8mnwjc9cvOVxzrri
SUMMARY:敬老の日
DTSTAMP:20260424T092400Z
DTSTART;VALUE=DATE:20350917
CATEGORIES:祝日
DURATION:P1DT
END:VEVENT
BEGIN:VEVENT
UID:IPj7vJo1ubegbLn2Hs3-S
SUMMARY:一粒万倍日
DTSTAMP:20260424T092400Z
DTSTART;VALUE=DATE:20350920
CATEGORIES:選日
DURATION:P1DT
END:VEVENT
BEGIN:VEVENT
UID:uLSpqzVuZ6sYzbH5EOk_z
SUMMARY:秋分の日
DTSTAMP:20260424T092400Z
DTSTART;VALUE=DATE:20350923
CATEGORIES:祝日
DURATION:P1DT
END:VEVENT
BEGIN:VEVENT
UID:s7SAAIFSbalhuTnOj7G8a
SUMMARY:秋分
DTSTAMP:20260424T092400Z
DTSTART;VALUE=DATE:20350923
CATEGORIES:節気
DURATION:P1DT
END:VEVENT
BEGIN:VEVENT
UID:xrl3xZ4o_zYBdt72WpAnp
SUMMARY:秋分の日 振替休日
DTSTAMP:20260424T092400Z
DTSTART;VALUE=DATE:20350924
CATEGORIES:祝日
DURATION:P1DT
END:VEVENT
BEGIN:VEVENT
UID:60aWo0_GSsKHQ5YwAj3JJ
SUMMARY:一粒万倍日
DTSTAMP:20260424T092400Z
DTSTART;VALUE=DATE:20350927
CATEGORIES:選日
DURATION:P1DT
END:VEVENT
BEGIN:VEVENT
UID:2UW2z3Ul2VUL0Cc3qbHOY
SUMMARY:一粒万倍日
DTSTAMP:20260424T092400Z
DTSTART;VALUE=DATE:20351002
CATEGORIES:選日
DURATION:P1DT
END:VEVENT
BEGIN:VEVENT
UID:fvFyU-EbtxrpCe8WZ_zi4
SUMMARY:スポーツの日
DTSTAMP:20260424T092400Z
DTSTART;VALUE=DATE:20351008
CATEGORIES:祝日
DURATION:P1DT
END:VEVENT
BEGIN:VEVENT
UID:6Dv3w_o7xd-X6VCs2ON8c
SUMMARY:寒露
DTSTAMP:20260424T092400Z
DTSTART;VALUE=DATE:20351008
CATEGORIES:節気
DURATION:P1DT
END:VEVENT
BEGIN:VEVENT
UID:Faw8c3-Skl_u1GHhDVipN
SUMMARY:一粒万倍日
DTSTAMP:20260424T092400Z
DTSTART;VALUE=DATE:20351012
CATEGORIES:選日
DURATION:P1DT
END:VEVENT
BEGIN:VEVENT
UID:TvoPGNExAu0aWE1XkREBD
SUMMARY:天赦日
DTSTAMP:20260424T092400Z
DTSTART;VALUE=DATE:20351014
CATEGORIES:選日
DURATION:P1DT
END:VEVENT
BEGIN:VEVENT
UID:53eRIoZAdLeX8U8KGcMI_
SUMMARY:一粒万倍日
DTSTAMP:20260424T092400Z
DTSTART;VALUE=DATE:20351015
CATEGORIES:選日
DURATION:P1DT
END:VEVENT
BEGIN:VEVENT
UID:dQl-D6rapvmUfkL4zZlLS
SUMMARY:霜降
DTSTAMP:20260424T092400Z
DTSTART;VALUE=DATE:20351023
CATEGORIES:節気
DURATION:P1DT
END:VEVENT
BEGIN:VEVENT
UID:mhOv-NegSt2Qt7lU5G1-4
SUMMARY:一粒万倍日
DTSTAMP:20260424T092400Z
DTSTART;VALUE=DATE:20351024
CATEGORIES:選日
DURATION:P1DT
END:VEVENT
BEGIN:VEVENT
UID:3xnGDw60ASccCVCo5C0E3
SUMMARY:一粒万倍日
DTSTAMP:20260424T092400Z
DTSTART;VALUE=DATE:20351027
CATEGORIES:選日
DURATION:P1DT
END:VEVENT
BEGIN:VEVENT
UID:SBIfnjS4neJQ6tntrT3N0
SUMMARY:文化の日
DTSTAMP:20260424T092400Z
DTSTART;VALUE=DATE:20351103
CATEGORIES:祝日
DURATION:P1DT
END:VEVENT
BEGIN:VEVENT
UID:GBM14DdFkDHV09roZ5O8f
SUMMARY:一粒万倍日
DTSTAMP:20260424T092400Z
DTSTART;VALUE=DATE:20351105
CATEGORIES:選日
DURATION:P1DT
END:VEVENT
BEGIN:VEVENT
UID:2wTiJvLeqUvl0GwTK_KS-
SUMMARY:立冬
DTSTAMP:20260424T092400Z
DTSTART;VALUE=DATE:20351107
CATEGORIES:節気
DURATION:P1DT
END:VEVENT
BEGIN:VEVENT
UID:Io6IMgkca-WSZs2e7nItk
SUMMARY:一粒万倍日
DTSTAMP:20260424T092400Z
DTSTART;VALUE=DATE:20351108
CATEGORIES:選日
DURATION:P1DT
END:VEVENT
BEGIN:VEVENT
UID:dyaZcFzmCf0iY1jn-OGqY
SUMMARY:一粒万倍日
DTSTAMP:20260424T092400Z
DTSTART;VALUE=DATE:20351109
CATEGORIES:選日
DURATION:P1DT
END:VEVENT
BEGIN:VEVENT
UID:_hBV7OBaQnvvd_n15lltu
SUMMARY:一粒万倍日
DTSTAMP:20260424T092400Z
DTSTART;VALUE=DATE:20351120
CATEGORIES:選日
DURATION:P1DT
END:VEVENT
BEGIN:VEVENT
UID:NwO_kkvVVwNVzv9jhx3UM
SUMMARY:一粒万倍日
DTSTAMP:20260424T092400Z
DTSTART;VALUE=DATE:20351121
CATEGORIES:選日
DURATION:P1DT
END:VEVENT
BEGIN:VEVENT
UID:UKYzVG1FL34LjBsOdK5Z1
SUMMARY:小雪
DTSTAMP:20260424T092400Z
DTSTART;VALUE=DATE:20351122
CATEGORIES:節気
DURATION:P1DT
END:VEVENT
BEGIN:VEVENT
UID:xINuU88ObVYzuQlTXelRo
SUMMARY:勤労感謝の日
DTSTAMP:20260424T092400Z
DTSTART;VALUE=DATE:20351123
CATEGORIES:祝日
DURATION:P1DT
END:VEVENT
BEGIN:VEVENT
UID:EHVwt1ut7-coRmI7SNJqq
SUMMARY:一粒万倍日
DTSTAMP:20260424T092400Z
DTSTART;VALUE=DATE:20351202
CATEGORIES:選日
DURATION:P1DT
END:VEVENT
BEGIN:VEVENT
UID:wmz-QYdKvzsQ8KAwcqXp-
SUMMARY:一粒万倍日
DTSTAMP:20260424T092400Z
DTSTART;VALUE=DATE:20351203
CATEGORIES:選日
DURATION:P1DT
END:VEVENT
BEGIN:VEVENT
UID:Qzy2G5IA7eytZG_k151oZ
SUMMARY:大雪
DTSTAMP:20260424T092400Z
DTSTART;VALUE=DATE:20351207
CATEGORIES:節気
DURATION:P1DT
END:VEVENT
BEGIN:VEVENT
UID:0YbY_fdo_OSaMQicHf9bW
SUMMARY:一粒万倍日
DTSTAMP:20260424T092400Z
DTSTART;VALUE=DATE:20351216
CATEGORIES:選日
DURATION:P1DT
END:VEVENT
BEGIN:VEVENT
UID:Oqa_tXiv_RKDK-0434jGh
SUMMARY:一粒万倍日
DTSTAMP:20260424T092400Z
DTSTART;VALUE=DATE:20351217
CATEGORIES:選日
DURATION:P1DT
END:VEVENT
BEGIN:VEVENT
UID:c4t8x2AXA_aWsAYDc4tDj
SUMMARY:冬至
DTSTAMP:20260424T092400Z
DTSTART;VALUE=DATE:20351222
CATEGORIES:節気
DURATION:P1DT
END:VEVENT
BEGIN:VEVENT
UID:Woi-777qEG3xeo-s72x6e
SUMMARY:一粒万倍日
DTSTAMP:20260424T092400Z
DTSTART;VALUE=DATE:20351228
CATEGORIES:選日
DURATION:P1DT
END:VEVENT
BEGIN:VEVENT
UID:eTb-0GvyyPPMyfElTdq8S
SUMMARY:一粒万倍日
DTSTAMP:20260424T092400Z
DTSTART;VALUE=DATE:20351229
CATEGORIES:選日
DURATION:P1DT
END:VEVENT
BEGIN:VEVENT
UID:UfahEWFECsSiTW92tf6vz
SUMMARY:天赦日
DTSTAMP:20260424T092400Z
DTSTART;VALUE=DATE:20351229
CATEGORIES:選日
DURATION:P1DT
END:VEVENT
END:VCALENDAR
